Workbook
Name zr_dash_1: INDEX(Berechnung!$B$91:$B$160,Berechnung!$E$2):INDEX(Berechnung!$B$91:$B$160,Berechnung!$E$3)
Name zr_dash_10: INDEX(Berechnung!$I$91:$I$160,Berechnung!$E$2):INDEX(Berechnung!$I$91:$I$160,Berechnung!$E$3)
Name zr_dash_11: INDEX(Berechnung!$J$91:$J$160,Berechnung!$E$2):INDEX(Berechnung!$J$91:$J$160,Berechnung!$E$3)
Name zr_dash_12: INDEX(Berechnung!$K$91:$K$160,Berechnung!$E$2):INDEX(Berechnung!$K$91:$K$160,Berechnung!$E$3)
Name zr_dash_13: INDEX(Berechnung!$B$91:$B$160,Berechnung!$E$2):INDEX(Berechnung!$B$91:$B$160,Berechnung!$E$3)
Name zr_dash_14: INDEX(Berechnung!$L$91:$L$160,Berechnung!$E$2):INDEX(Berechnung!$L$91:$L$160,Berechnung!$E$3)
Name zr_dash_15: INDEX(Berechnung!$M$91:$M$160,Berechnung!$E$2):INDEX(Berechnung!$M$91:$M$160,Berechnung!$E$3)
Name zr_dash_16: INDEX(Berechnung!$N$91:$N$160,Berechnung!$E$2):INDEX(Berechnung!$N$91:$N$160,Berechnung!$E$3)
Name zr_dash_17: INDEX(Berechnung!$B$91:$B$160,Berechnung!$E$2):INDEX(Berechnung!$B$91:$B$160,Berechnung!$E$3)
Name zr_dash_18: INDEX(Berechnung!$O$91:$O$160,Berechnung!$E$2):INDEX(Berechnung!$O$91:$O$160,Berechnung!$E$3)
Name zr_dash_19: INDEX(Berechnung!$P$91:$P$160,Berechnung!$E$2):INDEX(Berechnung!$P$91:$P$160,Berechnung!$E$3)
Name zr_dash_2: INDEX(Berechnung!$C$91:$C$160,Berechnung!$E$2):INDEX(Berechnung!$C$91:$C$160,Berechnung!$E$3)
Name zr_dash_20: INDEX(Berechnung!$Q$91:$Q$160,Berechnung!$E$2):INDEX(Berechnung!$Q$91:$Q$160,Berechnung!$E$3)
Name zr_dash_3: INDEX(Berechnung!$D$91:$D$160,Berechnung!$E$2):INDEX(Berechnung!$D$91:$D$160,Berechnung!$E$3)
Name zr_dash_4: INDEX(Berechnung!$E$91:$E$160,Berechnung!$E$2):INDEX(Berechnung!$E$91:$E$160,Berechnung!$E$3)
Name zr_dash_5: INDEX(Berechnung!$B$91:$B$160,Berechnung!$E$2):INDEX(Berechnung!$B$91:$B$160,Berechnung!$E$3)
Name zr_dash_6: INDEX(Berechnung!$F$91:$F$160,Berechnung!$E$2):INDEX(Berechnung!$F$91:$F$160,Berechnung!$E$3)
Name zr_dash_7: INDEX(Berechnung!$G$91:$G$160,Berechnung!$E$2):INDEX(Berechnung!$G$91:$G$160,Berechnung!$E$3)
Name zr_dash_8: INDEX(Berechnung!$H$91:$H$160,Berechnung!$E$2):INDEX(Berechnung!$H$91:$H$160,Berechnung!$E$3)
Name zr_dash_9: INDEX(Berechnung!$B$91:$B$160,Berechnung!$E$2):INDEX(Berechnung!$B$91:$B$160,Berechnung!$E$3)

Sheet Auf einen Blick
B2: Konjunktur auf einen Blick
B3: DIHK-Konjunkturumfrage Herbst 2026 · 23.549 Antworten
B6: DIHK-Stimmungsindex | F6: Geschäftslage | J6: Geschäftserwartungen | N6: Exporterwartungen (Industrie) | R6: Investitionsabsichten | V6: Beschäftigungsabsichten
B7: 94.7 | F7: 3 | J7: -13 | N7: 3 | R7: -6 | V7: -13
B8: ▲ +6,6 zur Vorumfrage | F8: ▲ +6 zur Vorumfrage | J8: ▲ +7 zur Vorumfrage | N8: ▲ +13 zur Vorumfrage | R8: ▲ +5 zur Vorumfrage | V8: ▲ +1 zur Vorumfrage
B9: Vorjahr 93,8 · Ø 109,7 | F9: Vorjahr +0 · Ø +19 | J9: Vorjahr −12 · Ø +2 | N9: Vorjahr −10 · Ø +13 | R9: Vorjahr −9 · Ø +2 | V9: Vorjahr −13 · Ø −1
B10: Punkte, 100 = neutral | F10: Saldo in Punkten | J10: Saldo in Punkten | N10: Saldo in Punkten | R10: Saldo in Punkten | V10: Saldo in Punkten
B12: Kernaussagen | O12: DIHK-Stimmungsindex seit 2010 (Gesamtwirtschaft)
B13: ● | C13: Stimmung: Der DIHK-Stimmungsindex steigt von 88,1 auf 94,7 Punkte –
C14: Vorjahr 93,8, langjähriger Schnitt 109,7.
B15: ● | C15: Geschäftslage: 26 % gut, 23 % schlecht – Saldo +3 (Vorumfrage −3).
B16: ● | C16: Geschäftserwartungen: 15 % besser, 28 % schlechter – Saldo −13
C17: (Vorumfrage −20).
B18: ● | C18: Pläne: Investitionen −6 (Vorumfrage −11), Beschäftigung −13 (−14);
C19: Exporterwartungen der Industrie +3.
B20: ● | C20: Größtes Geschäftsrisiko: Energie- und Rohstoffpreise (67 %, Vorumfrage 70
C21: %), gefolgt von Wirtschaftspolitische Rahmenbedingungen (58 %) und
C22: Arbeitskosten (56 %).
B23: ● | C23: Sektoren: beste Stimmung in Industrie (97,5), schwächste im Handel (79,5).
B26: Sektoren im Vergleich | K26: Geschäftsrisiken in % | S26: Investitionsmotive in %
E27: Index | F27: Lage | G27: Erw. | H27: Inv. | I27: Besch.
B28: Gesamtwirtschaft | E28: 94.7 | F28: 3 | G28: -13 | H28: -6 | I28: -13
B29: Industrie | E29: 97.5 | F29: -1 | G29: -4 | H29: -9 | I29: -16
B30: Baugewerbe | E30: 93.5 | F30: 12 | G30: -22 | H30: -19 | I30: -12
B31: Handel | E31: 79.5 | F31: -18 | G31: -23 | H31: -17 | I31: -20
B32: Dienstleistungen | E32: 97.3 | F32: 10 | G32: -14 | H32: 0 | I32: -11
B33: Index = Stimmungsindex; übrige Werte: Salden in Punkten (aktuelle Umfrage).
B42: Quelle: DIHK-Konjunkturumfrage. Salden = Anteil positiver minus Anteil negativer Antworten. Stimmungsindex = Wurzel aus (100 + Saldo Lage) × (100 + Saldo Erwartungen); Werte über 100 = überwiegend positive Stimmung.
B43: Exporterwartungen: Industrie. Ø = langjähriger Durchschnitt. * Auslandsnachfrage und Wechselkurs: nur exportierende Industrieunternehmen.

Sheet Dashboard
B2: ="DIHK-Konjunkturumfrage "&$N$6&" – Dashboard" -> DIHK-Konjunkturumfrage Herbst 2026 – Dashboard
B3: Gelbe Felder auswählen: Branche für A und B sowie den Zeitraum. Die Umfrage „bis“ ist zugleich die ausgewertete Umfrage. Für B „(kein Vergleich)“ wählen, um nur A anzuzeigen. | P3: =IF(OR(AND(ISNUMBER(P11),P11<30),AND(ISNUMBER(P12),P12<30)),"⚠ Weniger als 30 Antworten – Werte mit Vorsicht interpretieren","")
B5: Auswahl A – Branche | C5: Alle Branchen | H5: =IFERROR("WZ "&INDEX(Listen!$E$2:$E$67,MATCH($C$5,Listen!$A$2:$A$67,0)),"") -> WZ 05 bis 96 ohne 84 und 94 | L5: Zeitreihen von | N5: Jahresbeginn 2007
B6: Auswahl B – Branche | C6: Industrie (ohne Baugewerbe) | H6: =IF($C$6="(kein Vergleich)","",IFERROR("WZ "&INDEX(Listen!$E$2:$E$67,MATCH($C$6,Listen!$A$2:$A$67,0)),"")) -> WZ 05 bis 39 | L6: bis (Umfrage) | N6: Herbst 2026
D9: ="Anteile "&Berechnung!$B$16&" in %" -> Anteile HB 26 in % | G9: ="Anteile "&Berechnung!$B$17&" in %" -> Anteile FS 26 in % | J9: Salden in Punkten
B10: Indikator | C10: Auswahl | D10: positiv | E10: neutral | F10: negativ | G10: positiv | H10: neutral | I10: negativ | J10: =Berechnung!$B$16 -> HB 26 | K10: =Berechnung!$B$17 -> FS 26 | L10: Δ Vor-umfrage | M10: =Berechnung!$B$18 -> HB 25 | N10: Δ Vorjahr | O10: Schnitt seit 2003 | P10: n
B11: Geschäftslage | C11: =Berechnung!$B$14 -> Alle Branchen | D11: =IFERROR(IF(INDEX(Daten_Anteile!$A:$ZZ,MATCH(Berechnung!$B$12&"|Lage|"&Berechnung!$B$2,Daten_Anteile!$A$1:$A$2971,0),6)="","",INDEX(Daten_Anteile!$A:$ZZ,MATCH(Berechnung!$B$12&"|Lage|"&Berechnung!$B$2,Daten_Anteile!$A$1:$A$2971,0),6)),"") -> 26 | E11: =IFERROR(IF(INDEX(Daten_Anteile!$A:$ZZ,MATCH(Berechnung!$B$12&"|Lage|"&Berechnung!$B$2,Daten_Anteile!$A$1:$A$2971,0),7)="","",INDEX(Daten_Anteile!$A:$ZZ,MATCH(Berechnung!$B$12&"|Lage|"&Berechnung!$B$2,Daten_Anteile!$A$1:$A$2971,0),7)),"") -> 51 | F11: =IFERROR(IF(INDEX(Daten_Anteile!$A:$ZZ,MATCH(Berechnung!$B$12&"|Lage|"&Berechnung!$B$2,Daten_Anteile!$A$1:$A$2971,0),8)="","",INDEX(Daten_Anteile!$A:$ZZ,MATCH(Berechnung!$B$12&"|Lage|"&Berechnung!$B$2,Daten_Anteile!$A$1:$A$2971,0),8)),"") -> 23 | G11: =IFERROR(IF(INDEX(Daten_Anteile!$A:$ZZ,MATCH(Berechnung!$B$12&"|Lage|"&Berechnung!$B$3,Daten_Anteile!$A$1:$A$2971,0),6)="","",INDEX(Daten_Anteile!$A:$ZZ,MATCH(Berechnung!$B$12&"|Lage|"&Berechnung!$B$3,Daten_Anteile!$A$1:$A$2971,0),6)),"") -> 23 | H11: =IFERROR(IF(INDEX(Daten_Anteile!$A:$ZZ,MATCH(Berechnung!$B$12&"|Lage|"&Berechnung!$B$3,Daten_Anteile!$A$1:$A$2971,0),7)="","",INDEX(Daten_Anteile!$A:$ZZ,MATCH(Berechnung!$B$12&"|Lage|"&Berechnung!$B$3,Daten_Anteile!$A$1:$A$2971,0),7)),"") -> 51 | I11: =IFERROR(IF(INDEX(Daten_Anteile!$A:$ZZ,MATCH(Berechnung!$B$12&"|Lage|"&Berechnung!$B$3,Daten_Anteile!$A$1:$A$2971,0),8)="","",INDEX(Daten_Anteile!$A:$ZZ,MATCH(Berechnung!$B$12&"|Lage|"&Berechnung!$B$3,Daten_Anteile!$A$1:$A$2971,0),8)),"") -> 26 | J11: =IFERROR(IF(INDEX(Daten_Salden!$A:$ZZ,Berechnung!$B$21,Berechnung!$B$5)="","",INDEX(Daten_Salden!$A:$ZZ,Berechnung!$B$21,Berechnung!$B$5)),"") -> 3 | K11: =IFERROR(IF(INDEX(Daten_Salden!$A:$ZZ,Berechnung!$B$21,Berechnung!$B$6)="","",INDEX(Daten_Salden!$A:$ZZ,Berechnung!$B$21,Berechnung!$B$6)),"") -> -3 | L11: =IF(AND(ISNUMBER(J11),ISNUMBER(K11)),ROUND(J11-K11,1),"") -> 6 | M11: =IFERROR(IF(INDEX(Daten_Salden!$A:$ZZ,Berechnung!$B$21,Berechnung!$B$7)="","",INDEX(Daten_Salden!$A:$ZZ,Berechnung!$B$21,Berechnung!$B$7)),"") -> 0 | N11: =IF(AND(ISNUMBER(J11),ISNUMBER(M11)),ROUND(J11-M11,1),"") -> 3 | O11: =IFERROR(IF(INDEX(Daten_Salden!$A:$ZZ,Berechnung!$B$21,4)="","",INDEX(Daten_Salden!$A:$ZZ,Berechnung!$B$21,4)),"") -> 18.586 | P11: =IFERROR(IF(INDEX(Daten_Anteile!$A:$ZZ,MATCH(Berechnung!$B$12&"|Lage|"&Berechnung!$B$2,Daten_Anteile!$A$1:$A$2971,0),5)="","",INDEX(Daten_Anteile!$A:$ZZ,MATCH(Berechnung!$B$12&"|Lage|"&Berechnung!$B$2,Daten_Anteile!$A$1:$A$2971,0),5)),"") -> 23549
C12: =Berechnung!$B$15 -> Industrie | D12: =IFERROR(IF(INDEX(Daten_Anteile!$A:$ZZ,MATCH(Berechnung!$B$13&"|Lage|"&Berechnung!$B$2,Daten_Anteile!$A$1:$A$2971,0),6)="","",INDEX(Daten_Anteile!$A:$ZZ,MATCH(Berechnung!$B$13&"|Lage|"&Berechnung!$B$2,Daten_Anteile!$A$1:$A$2971,0),6)),"") -> 25 | E12: =IFERROR(IF(INDEX(Daten_Anteile!$A:$ZZ,MATCH(Berechnung!$B$13&"|Lage|"&Berechnung!$B$2,Daten_Anteile!$A$1:$A$2971,0),7)="","",INDEX(Daten_Anteile!$A:$ZZ,MATCH(Berechnung!$B$13&"|Lage|"&Berechnung!$B$2,Daten_Anteile!$A$1:$A$2971,0),7)),"") -> 49 | F12: =IFERROR(IF(INDEX(Daten_Anteile!$A:$ZZ,MATCH(Berechnung!$B$13&"|Lage|"&Berechnung!$B$2,Daten_Anteile!$A$1:$A$2971,0),8)="","",INDEX(Daten_Anteile!$A:$ZZ,MATCH(Berechnung!$B$13&"|Lage|"&Berechnung!$B$2,Daten_Anteile!$A$1:$A$2971,0),8)),"") -> 26 | G12: =IFERROR(IF(INDEX(Daten_Anteile!$A:$ZZ,MATCH(Berechnung!$B$13&"|Lage|"&Berechnung!$B$3,Daten_Anteile!$A$1:$A$2971,0),6)="","",INDEX(Daten_Anteile!$A:$ZZ,MATCH(Berechnung!$B$13&"|Lage|"&Berechnung!$B$3,Daten_Anteile!$A$1:$A$2971,0),6)),"") -> 21 | H12: =IFERROR(IF(INDEX(Daten_Anteile!$A:$ZZ,MATCH(Berechnung!$B$13&"|Lage|"&Berechnung!$B$3,Daten_Anteile!$A$1:$A$2971,0),7)="","",INDEX(Daten_Anteile!$A:$ZZ,MATCH(Berechnung!$B$13&"|Lage|"&Berechnung!$B$3,Daten_Anteile!$A$1:$A$2971,0),7)),"") -> 51 | I12: =IFERROR(IF(INDEX(Daten_Anteile!$A:$ZZ,MATCH(Berechnung!$B$13&"|Lage|"&Berechnung!$B$3,Daten_Anteile!$A$1:$A$2971,0),8)="","",INDEX(Daten_Anteile!$A:$ZZ,MATCH(Berechnung!$B$13&"|Lage|"&Berechnung!$B$3,Daten_Anteile!$A$1:$A$2971,0),8)),"") -> 28 | J12: =IFERROR(IF(INDEX(Daten_Salden!$A:$ZZ,Berechnung!$C$21,Berechnung!$B$5)="","",INDEX(Daten_Salden!$A:$ZZ,Berechnung!$C$21,Berechnung!$B$5)),"") -> -1 | K12: =IFERROR(IF(INDEX(Daten_Salden!$A:$ZZ,Berechnung!$C$21,Berechnung!$B$6)="","",INDEX(Daten_Salden!$A:$ZZ,Berechnung!$C$21,Berechnung!$B$6)),"") -> -7 | L12: =IF(AND(ISNUMBER(J12),ISNUMBER(K12)),ROUND(J12-K12,1),"") -> 6 | M12: =IFERROR(IF(INDEX(Daten_Salden!$A:$ZZ,Berechnung!$C$21,Berechnung!$B$7)="","",INDEX(Daten_Salden!$A:$ZZ,Berechnung!$C$21,Berechnung!$B$7)),"") -> -15 | N12: =IF(AND(ISNUMBER(J12),ISNUMBER(M12)),ROUND(J12-M12,1),"") -> 14 | O12: =IFERROR(IF(INDEX(Daten_Salden!$A:$ZZ,Berechnung!$C$21,4)="","",INDEX(Daten_Salden!$A:$ZZ,Berechnung!$C$21,4)),"") -> 18.571 | P12: =IFERROR(IF(INDEX(Daten_Anteile!$A:$ZZ,MATCH(Berechnung!$B$13&"|Lage|"&Berechnung!$B$2,Daten_Anteile!$A$1:$A$2971,0),5)="","",INDEX(Daten_Anteile!$A:$ZZ,MATCH(Berechnung!$B$13&"|Lage|"&Berechnung!$B$2,Daten_Anteile!$A$1:$A$2971,0),5)),"") -> 5866
B13: Geschäftserwartungen | C13: =Berechnung!$B$14 -> Alle Branchen | D13: =IFERROR(IF(INDEX(Daten_Anteile!$A:$ZZ,MATCH(Berechnung!$B$12&"|Erwartungen|"&Berechnung!$B$2,Daten_Anteile!$A$1:$A$2971,0),6)="","",INDEX(Daten_Anteile!$A:$ZZ,MATCH(Berechnung!$B$12&"|Erwartungen|"&Berechnung!$B$2,Daten_Anteile!$A$1:$A$2971,0),6)),"") -> 15 | E13: =IFERROR(IF(INDEX(Daten_Anteile!$A:$ZZ,MATCH(Berechnung!$B$12&"|Erwartungen|"&Berechnung!$B$2,Daten_Anteile!$A$1:$A$2971,0),7)="","",INDEX(Daten_Anteile!$A:$ZZ,MATCH(Berechnung!$B$12&"|Erwartungen|"&Berechnung!$B$2,Daten_Anteile!$A$1:$A$2971,0),7)),"") -> 57 | F13: =IFERROR(IF(INDEX(Daten_Anteile!$A:$ZZ,MATCH(Berechnung!$B$12&"|Erwartungen|"&Berechnung!$B$2,Daten_Anteile!$A$1:$A$2971,0),8)="","",INDEX(Daten_Anteile!$A:$ZZ,MATCH(Berechnung!$B$12&"|Erwartungen|"&Berechnung!$B$2,Daten_Anteile!$A$1:$A$2971,0),8)),"") -> 28 | G13: =IFERROR(IF(INDEX(Daten_Anteile!$A:$ZZ,MATCH(Berechnung!$B$12&"|Erwartungen|"&Berechnung!$B$3,Daten_Anteile!$A$1:$A$2971,0),6)="","",INDEX(Daten_Anteile!$A:$ZZ,MATCH(Berechnung!$B$12&"|Erwartungen|"&Berechnung!$B$3,Daten_Anteile!$A$1:$A$2971,0),6)),"") -> 13 | H13: =IFERROR(IF(INDEX(Daten_Anteile!$A:$ZZ,MATCH(Berechnung!$B$12&"|Erwartungen|"&Berechnung!$B$3,Daten_Anteile!$A$1:$A$2971,0),7)="","",INDEX(Daten_Anteile!$A:$ZZ,MATCH(Berechnung!$B$12&"|Erwartungen|"&Berechnung!$B$3,Daten_Anteile!$A$1:$A$2971,0),7)),"") -> 54 | I13: =IFERROR(IF(INDEX(Daten_Anteile!$A:$ZZ,MATCH(Berechnung!$B$12&"|Erwartungen|"&Berechnung!$B$3,Daten_Anteile!$A$1:$A$2971,0),8)="","",INDEX(Daten_Anteile!$A:$ZZ,MATCH(Berechnung!$B$12&"|Erwartungen|"&Berechnung!$B$3,Daten_Anteile!$A$1:$A$2971,0),8)),"") -> 33 | J13: =IFERROR(IF(INDEX(Daten_Salden!$A:$ZZ,Berechnung!$B$22,Berechnung!$B$5)="","",INDEX(Daten_Salden!$A:$ZZ,Berechnung!$B$22,Berechnung!$B$5)),"") -> -13 | K13: =IFERROR(IF(INDEX(Daten_Salden!$A:$ZZ,Berechnung!$B$22,Berechnung!$B$6)="","",INDEX(Daten_Salden!$A:$ZZ,Berechnung!$B$22,Berechnung!$B$6)),"") -> -20 | L13: =IF(AND(ISNUMBER(J13),ISNUMBER(K13)),ROUND(J13-K13,1),"") -> 7 | M13: =IFERROR(IF(INDEX(Daten_Salden!$A:$ZZ,Berechnung!$B$22,Berechnung!$B$7)="","",INDEX(Daten_Salden!$A:$ZZ,Berechnung!$B$22,Berechnung!$B$7)),"") -> -12 | N13: =IF(AND(ISNUMBER(J13),ISNUMBER(M13)),ROUND(J13-M13,1),"") -> -1 | O13: =IFERROR(IF(INDEX(Daten_Salden!$A:$ZZ,Berechnung!$B$22,4)="","",INDEX(Daten_Salden!$A:$ZZ,Berechnung!$B$22,4)),"") -> 1.986 | P13: =IFERROR(IF(INDEX(Daten_Anteile!$A:$ZZ,MATCH(Berechnung!$B$12&"|Erwartungen|"&Berechnung!$B$2,Daten_Anteile!$A$1:$A$2971,0),5)="","",INDEX(Daten_Anteile!$A:$ZZ,MATCH(Berechnung!$B$12&"|Erwartungen|"&Berechnung!$B$2,Daten_Anteile!$A$1:$A$2971,0),5)),"") -> 23343
C14: =Berechnung!$B$15 -> Industrie | D14: =IFERROR(IF(INDEX(Daten_Anteile!$A:$ZZ,MATCH(Berechnung!$B$13&"|Erwartungen|"&Berechnung!$B$2,Daten_Anteile!$A$1:$A$2971,0),6)="","",INDEX(Daten_Anteile!$A:$ZZ,MATCH(Berechnung!$B$13&"|Erwartungen|"&Berechnung!$B$2,Daten_Anteile!$A$1:$A$2971,0),6)),"") -> 18 | E14: =IFERROR(IF(INDEX(Daten_Anteile!$A:$ZZ,MATCH(Berechnung!$B$13&"|Erwartungen|"&Berechnung!$B$2,Daten_Anteile!$A$1:$A$2971,0),7)="","",INDEX(Daten_Anteile!$A:$ZZ,MATCH(Berechnung!$B$13&"|Erwartungen|"&Berechnung!$B$2,Daten_Anteile!$A$1:$A$2971,0),7)),"") -> 60 | F14: =IFERROR(IF(INDEX(Daten_Anteile!$A:$ZZ,MATCH(Berechnung!$B$13&"|Erwartungen|"&Berechnung!$B$2,Daten_Anteile!$A$1:$A$2971,0),8)="","",INDEX(Daten_Anteile!$A:$ZZ,MATCH(Berechnung!$B$13&"|Erwartungen|"&Berechnung!$B$2,Daten_Anteile!$A$1:$A$2971,0),8)),"") -> 22 | G14: =IFERROR(IF(INDEX(Daten_Anteile!$A:$ZZ,MATCH(Berechnung!$B$13&"|Erwartungen|"&Berechnung!$B$3,Daten_Anteile!$A$1:$A$2971,0),6)="","",INDEX(Daten_Anteile!$A:$ZZ,MATCH(Berechnung!$B$13&"|Erwartungen|"&Berechnung!$B$3,Daten_Anteile!$A$1:$A$2971,0),6)),"") -> 15 | H14: =IFERROR(IF(INDEX(Daten_Anteile!$A:$ZZ,MATCH(Berechnung!$B$13&"|Erwartungen|"&Berechnung!$B$3,Daten_Anteile!$A$1:$A$2971,0),7)="","",INDEX(Daten_Anteile!$A:$ZZ,MATCH(Berechnung!$B$13&"|Erwartungen|"&Berechnung!$B$3,Daten_Anteile!$A$1:$A$2971,0),7)),"") -> 54 | I14: =IFERROR(IF(INDEX(Daten_Anteile!$A:$ZZ,MATCH(Berechnung!$B$13&"|Erwartungen|"&Berechnung!$B$3,Daten_Anteile!$A$1:$A$2971,0),8)="","",INDEX(Daten_Anteile!$A:$ZZ,MATCH(Berechnung!$B$13&"|Erwartungen|"&Berechnung!$B$3,Daten_Anteile!$A$1:$A$2971,0),8)),"") -> 31 | J14: =IFERROR(IF(INDEX(Daten_Salden!$A:$ZZ,Berechnung!$C$22,Berechnung!$B$5)="","",INDEX(Daten_Salden!$A:$ZZ,Berechnung!$C$22,Berechnung!$B$5)),"") -> -4 | K14: =IFERROR(IF(INDEX(Daten_Salden!$A:$ZZ,Berechnung!$C$22,Berechnung!$B$6)="","",INDEX(Daten_Salden!$A:$ZZ,Berechnung!$C$22,Berechnung!$B$6)),"") -> -16 | L14: =IF(AND(ISNUMBER(J14),ISNUMBER(K14)),ROUND(J14-K14,1),"") -> 12 | M14: =IFERROR(IF(INDEX(Daten_Salden!$A:$ZZ,Berechnung!$C$22,Berechnung!$B$7)="","",INDEX(Daten_Salden!$A:$ZZ,Berechnung!$C$22,Berechnung!$B$7)),"") -> -9 | N14: =IF(AND(ISNUMBER(J14),ISNUMBER(M14)),ROUND(J14-M14,1),"") -> 5 | O14: =IFERROR(IF(INDEX(Daten_Salden!$A:$ZZ,Berechnung!$C$22,4)="","",INDEX(Daten_Salden!$A:$ZZ,Berechnung!$C$22,4)),"") -> 4.971 | P14: =IFERROR(IF(INDEX(Daten_Anteile!$A:$ZZ,MATCH(Berechnung!$B$13&"|Erwartungen|"&Berechnung!$B$2,Daten_Anteile!$A$1:$A$2971,0),5)="","",INDEX(Daten_Anteile!$A:$ZZ,MATCH(Berechnung!$B$13&"|Erwartungen|"&Berechnung!$B$2,Daten_Anteile!$A$1:$A$2971,0),5)),"") -> 5800
B15: Exporterwartungen | C15: =Berechnung!$B$14 -> Alle Branchen | D15: =IFERROR(IF(INDEX(Daten_Anteile!$A:$ZZ,MATCH(Berechnung!$B$12&"|Export|"&Berechnung!$B$2,Daten_Anteile!$A$1:$A$2971,0),6)="","",INDEX(Daten_Anteile!$A:$ZZ,MATCH(Berechnung!$B$12&"|Export|"&Berechnung!$B$2,Daten_Anteile!$A$1:$A$2971,0),6)),"") | E15: =IFERROR(IF(INDEX(Daten_Anteile!$A:$ZZ,MATCH(Berechnung!$B$12&"|Export|"&Berechnung!$B$2,Daten_Anteile!$A$1:$A$2971,0),7)="","",INDEX(Daten_Anteile!$A:$ZZ,MATCH(Berechnung!$B$12&"|Export|"&Berechnung!$B$2,Daten_Anteile!$A$1:$A$2971,0),7)),"") | F15: =IFERROR(IF(INDEX(Daten_Anteile!$A:$ZZ,MATCH(Berechnung!$B$12&"|Export|"&Berechnung!$B$2,Daten_Anteile!$A$1:$A$2971,0),8)="","",INDEX(Daten_Anteile!$A:$ZZ,MATCH(Berechnung!$B$12&"|Export|"&Berechnung!$B$2,Daten_Anteile!$A$1:$A$2971,0),8)),"") | G15: =IFERROR(IF(INDEX(Daten_Anteile!$A:$ZZ,MATCH(Berechnung!$B$12&"|Export|"&Berechnung!$B$3,Daten_Anteile!$A$1:$A$2971,0),6)="","",INDEX(Daten_Anteile!$A:$ZZ,MATCH(Berechnung!$B$12&"|Export|"&Berechnung!$B$3,Daten_Anteile!$A$1:$A$2971,0),6)),"") | H15: =IFERROR(IF(INDEX(Daten_Anteile!$A:$ZZ,MATCH(Berechnung!$B$12&"|Export|"&Berechnung!$B$3,Daten_Anteile!$A$1:$A$2971,0),7)="","",INDEX(Daten_Anteile!$A:$ZZ,MATCH(Berechnung!$B$12&"|Export|"&Berechnung!$B$3,Daten_Anteile!$A$1:$A$2971,0),7)),"") | I15: =IFERROR(IF(INDEX(Daten_Anteile!$A:$ZZ,MATCH(Berechnung!$B$12&"|Export|"&Berechnung!$B$3,Daten_Anteile!$A$1:$A$2971,0),8)="","",INDEX(Daten_Anteile!$A:$ZZ,MATCH(Berechnung!$B$12&"|Export|"&Berechnung!$B$3,Daten_Anteile!$A$1:$A$2971,0),8)),"") | J15: =IFERROR(IF(INDEX(Daten_Salden!$A:$ZZ,Berechnung!$B$23,Berechnung!$B$5)="","",INDEX(Daten_Salden!$A:$ZZ,Berechnung!$B$23,Berechnung!$B$5)),"") | K15: =IFERROR(IF(INDEX(Daten_Salden!$A:$ZZ,Berechnung!$B$23,Berechnung!$B$6)="","",INDEX(Daten_Salden!$A:$ZZ,Berechnung!$B$23,Berechnung!$B$6)),"") | L15: =IF(AND(ISNUMBER(J15),ISNUMBER(K15)),ROUND(J15-K15,1),"") | M15: =IFERROR(IF(INDEX(Daten_Salden!$A:$ZZ,Berechnung!$B$23,Berechnung!$B$7)="","",INDEX(Daten_Salden!$A:$ZZ,Berechnung!$B$23,Berechnung!$B$7)),"") | N15: =IF(AND(ISNUMBER(J15),ISNUMBER(M15)),ROUND(J15-M15,1),"") | O15: =IFERROR(IF(INDEX(Daten_Salden!$A:$ZZ,Berechnung!$B$23,4)="","",INDEX(Daten_Salden!$A:$ZZ,Berechnung!$B$23,4)),"") | P15: =IFERROR(IF(INDEX(Daten_Anteile!$A:$ZZ,MATCH(Berechnung!$B$12&"|Export|"&Berechnung!$B$2,Daten_Anteile!$A$1:$A$2971,0),5)="","",INDEX(Daten_Anteile!$A:$ZZ,MATCH(Berechnung!$B$12&"|Export|"&Berechnung!$B$2,Daten_Anteile!$A$1:$A$2971,0),5)),"")
C16: =Berechnung!$B$15 -> Industrie | D16: =IFERROR(IF(INDEX(Daten_Anteile!$A:$ZZ,MATCH(Berechnung!$B$13&"|Export|"&Berechnung!$B$2,Daten_Anteile!$A$1:$A$2971,0),6)="","",INDEX(Daten_Anteile!$A:$ZZ,MATCH(Berechnung!$B$13&"|Export|"&Berechnung!$B$2,Daten_Anteile!$A$1:$A$2971,0),6)),"") -> 24 | E16: =IFERROR(IF(INDEX(Daten_Anteile!$A:$ZZ,MATCH(Berechnung!$B$13&"|Export|"&Berechnung!$B$2,Daten_Anteile!$A$1:$A$2971,0),7)="","",INDEX(Daten_Anteile!$A:$ZZ,MATCH(Berechnung!$B$13&"|Export|"&Berechnung!$B$2,Daten_Anteile!$A$1:$A$2971,0),7)),"") -> 55 | F16: =IFERROR(IF(INDEX(Daten_Anteile!$A:$ZZ,MATCH(Berechnung!$B$13&"|Export|"&Berechnung!$B$2,Daten_Anteile!$A$1:$A$2971,0),8)="","",INDEX(Daten_Anteile!$A:$ZZ,MATCH(Berechnung!$B$13&"|Export|"&Berechnung!$B$2,Daten_Anteile!$A$1:$A$2971,0),8)),"") -> 21 | G16: =IFERROR(IF(INDEX(Daten_Anteile!$A:$ZZ,MATCH(Berechnung!$B$13&"|Export|"&Berechnung!$B$3,Daten_Anteile!$A$1:$A$2971,0),6)="","",INDEX(Daten_Anteile!$A:$ZZ,MATCH(Berechnung!$B$13&"|Export|"&Berechnung!$B$3,Daten_Anteile!$A$1:$A$2971,0),6)),"") -> 19 | H16: =IFERROR(IF(INDEX(Daten_Anteile!$A:$ZZ,MATCH(Berechnung!$B$13&"|Export|"&Berechnung!$B$3,Daten_Anteile!$A$1:$A$2971,0),7)="","",INDEX(Daten_Anteile!$A:$ZZ,MATCH(Berechnung!$B$13&"|Export|"&Berechnung!$B$3,Daten_Anteile!$A$1:$A$2971,0),7)),"") -> 52 | I16: =IFERROR(IF(INDEX(Daten_Anteile!$A:$ZZ,MATCH(Berechnung!$B$13&"|Export|"&Berechnung!$B$3,Daten_Anteile!$A$1:$A$2971,0),8)="","",INDEX(Daten_Anteile!$A:$ZZ,MATCH(Berechnung!$B$13&"|Export|"&Berechnung!$B$3,Daten_Anteile!$A$1:$A$2971,0),8)),"") -> 29 | J16: =IFERROR(IF(INDEX(Daten_Salden!$A:$ZZ,Berechnung!$C$23,Berechnung!$B$5)="","",INDEX(Daten_Salden!$A:$ZZ,Berechnung!$C$23,Berechnung!$B$5)),"") -> 3 | K16: =IFERROR(IF(INDEX(Daten_Salden!$A:$ZZ,Berechnung!$C$23,Berechnung!$B$6)="","",INDEX(Daten_Salden!$A:$ZZ,Berechnung!$C$23,Berechnung!$B$6)),"") -> -10 | L16: =IF(AND(ISNUMBER(J16),ISNUMBER(K16)),ROUND(J16-K16,1),"") -> 13 | M16: =IFERROR(IF(INDEX(Daten_Salden!$A:$ZZ,Berechnung!$C$23,Berechnung!$B$7)="","",INDEX(Daten_Salden!$A:$ZZ,Berechnung!$C$23,Berechnung!$B$7)),"") -> -10 | N16: =IF(AND(ISNUMBER(J16),ISNUMBER(M16)),ROUND(J16-M16,1),"") -> 13 | O16: =IFERROR(IF(INDEX(Daten_Salden!$A:$ZZ,Berechnung!$C$23,4)="","",INDEX(Daten_Salden!$A:$ZZ,Berechnung!$C$23,4)),"") -> 13.486 | P16: =IFERROR(IF(INDEX(Daten_Anteile!$A:$ZZ,MATCH(Berechnung!$B$13&"|Export|"&Berechnung!$B$2,Daten_Anteile!$A$1:$A$2971,0),5)="","",INDEX(Daten_Anteile!$A:$ZZ,MATCH(Berechnung!$B$13&"|Export|"&Berechnung!$B$2,Daten_Anteile!$A$1:$A$2971,0),5)),"") -> 4062
B17: Investitionsabsichten | C17: =Berechnung!$B$14 -> Alle Branchen | D17: =IFERROR(IF(INDEX(Daten_Anteile!$A:$ZZ,MATCH(Berechnung!$B$12&"|Investitionen|"&Berechnung!$B$2,Daten_Anteile!$A$1:$A$2971,0),6)="","",INDEX(Daten_Anteile!$A:$ZZ,MATCH(Berechnung!$B$12&"|Investitionen|"&Berechnung!$B$2,Daten_Anteile!$A$1:$A$2971,0),6)),"") -> 24 | E17: =IFERROR(IF(INDEX(Daten_Anteile!$A:$ZZ,MATCH(Berechnung!$B$12&"|Investitionen|"&Berechnung!$B$2,Daten_Anteile!$A$1:$A$2971,0),7)="","",INDEX(Daten_Anteile!$A:$ZZ,MATCH(Berechnung!$B$12&"|Investitionen|"&Berechnung!$B$2,Daten_Anteile!$A$1:$A$2971,0),7)),"") -> 46 | F17: =IFERROR(IF(INDEX(Daten_Anteile!$A:$ZZ,MATCH(Berechnung!$B$12&"|Investitionen|"&Berechnung!$B$2,Daten_Anteile!$A$1:$A$2971,0),8)="","",INDEX(Daten_Anteile!$A:$ZZ,MATCH(Berechnung!$B$12&"|Investitionen|"&Berechnung!$B$2,Daten_Anteile!$A$1:$A$2971,0),8)),"") -> 30 | G17: =IFERROR(IF(INDEX(Daten_Anteile!$A:$ZZ,MATCH(Berechnung!$B$12&"|Investitionen|"&Berechnung!$B$3,Daten_Anteile!$A$1:$A$2971,0),6)="","",INDEX(Daten_Anteile!$A:$ZZ,MATCH(Berechnung!$B$12&"|Investitionen|"&Berechnung!$B$3,Daten_Anteile!$A$1:$A$2971,0),6)),"") -> 23 | H17: =IFERROR(IF(INDEX(Daten_Anteile!$A:$ZZ,MATCH(Berechnung!$B$12&"|Investitionen|"&Berechnung!$B$3,Daten_Anteile!$A$1:$A$2971,0),7)="","",INDEX(Daten_Anteile!$A:$ZZ,MATCH(Berechnung!$B$12&"|Investitionen|"&Berechnung!$B$3,Daten_Anteile!$A$1:$A$2971,0),7)),"") -> 43 | I17: =IFERROR(IF(INDEX(Daten_Anteile!$A:$ZZ,MATCH(Berechnung!$B$12&"|Investitionen|"&Berechnung!$B$3,Daten_Anteile!$A$1:$A$2971,0),8)="","",INDEX(Daten_Anteile!$A:$ZZ,MATCH(Berechnung!$B$12&"|Investitionen|"&Berechnung!$B$3,Daten_Anteile!$A$1:$A$2971,0),8)),"") -> 34 | J17: =IFERROR(IF(INDEX(Daten_Salden!$A:$ZZ,Berechnung!$B$24,Berechnung!$B$5)="","",INDEX(Daten_Salden!$A:$ZZ,Berechnung!$B$24,Berechnung!$B$5)),"") -> -6 | K17: =IFERROR(IF(INDEX(Daten_Salden!$A:$ZZ,Berechnung!$B$24,Berechnung!$B$6)="","",INDEX(Daten_Salden!$A:$ZZ,Berechnung!$B$24,Berechnung!$B$6)),"") -> -11 | L17: =IF(AND(ISNUMBER(J17),ISNUMBER(K17)),ROUND(J17-K17,1),"") -> 5 | M17: =IFERROR(IF(INDEX(Daten_Salden!$A:$ZZ,Berechnung!$B$24,Berechnung!$B$7)="","",INDEX(Daten_Salden!$A:$ZZ,Berechnung!$B$24,Berechnung!$B$7)),"") -> -9 | N17: =IF(AND(ISNUMBER(J17),ISNUMBER(M17)),ROUND(J17-M17,1),"") -> 3 | O17: =IFERROR(IF(INDEX(Daten_Salden!$A:$ZZ,Berechnung!$B$24,4)="","",INDEX(Daten_Salden!$A:$ZZ,Berechnung!$B$24,4)),"") -> 2.243 | P17: =IFERROR(IF(INDEX(Daten_Anteile!$A:$ZZ,MATCH(Berechnung!$B$12&"|Investitionen|"&Berechnung!$B$2,Daten_Anteile!$A$1:$A$2971,0),5)="","",INDEX(Daten_Anteile!$A:$ZZ,MATCH(Berechnung!$B$12&"|Investitionen|"&Berechnung!$B$2,Daten_Anteile!$A$1:$A$2971,0),5)),"") -> 19255
C18: =Berechnung!$B$15 -> Industrie | D18: =IFERROR(IF(INDEX(Daten_Anteile!$A:$ZZ,MATCH(Berechnung!$B$13&"|Investitionen|"&Berechnung!$B$2,Daten_Anteile!$A$1:$A$2971,0),6)="","",INDEX(Daten_Anteile!$A:$ZZ,MATCH(Berechnung!$B$13&"|Investitionen|"&Berechnung!$B$2,Daten_Anteile!$A$1:$A$2971,0),6)),"") -> 22 | E18: =IFERROR(IF(INDEX(Daten_Anteile!$A:$ZZ,MATCH(Berechnung!$B$13&"|Investitionen|"&Berechnung!$B$2,Daten_Anteile!$A$1:$A$2971,0),7)="","",INDEX(Daten_Anteile!$A:$ZZ,MATCH(Berechnung!$B$13&"|Investitionen|"&Berechnung!$B$2,Daten_Anteile!$A$1:$A$2971,0),7)),"") -> 47 | F18: =IFERROR(IF(INDEX(Daten_Anteile!$A:$ZZ,MATCH(Berechnung!$B$13&"|Investitionen|"&Berechnung!$B$2,Daten_Anteile!$A$1:$A$2971,0),8)="","",INDEX(Daten_Anteile!$A:$ZZ,MATCH(Berechnung!$B$13&"|Investitionen|"&Berechnung!$B$2,Daten_Anteile!$A$1:$A$2971,0),8)),"") -> 31 | G18: =IFERROR(IF(INDEX(Daten_Anteile!$A:$ZZ,MATCH(Berechnung!$B$13&"|Investitionen|"&Berechnung!$B$3,Daten_Anteile!$A$1:$A$2971,0),6)="","",INDEX(Daten_Anteile!$A:$ZZ,MATCH(Berechnung!$B$13&"|Investitionen|"&Berechnung!$B$3,Daten_Anteile!$A$1:$A$2971,0),6)),"") -> 21 | H18: =IFERROR(IF(INDEX(Daten_Anteile!$A:$ZZ,MATCH(Berechnung!$B$13&"|Investitionen|"&Berechnung!$B$3,Daten_Anteile!$A$1:$A$2971,0),7)="","",INDEX(Daten_Anteile!$A:$ZZ,MATCH(Berechnung!$B$13&"|Investitionen|"&Berechnung!$B$3,Daten_Anteile!$A$1:$A$2971,0),7)),"") -> 43 | I18: =IFERROR(IF(INDEX(Daten_Anteile!$A:$ZZ,MATCH(Berechnung!$B$13&"|Investitionen|"&Berechnung!$B$3,Daten_Anteile!$A$1:$A$2971,0),8)="","",INDEX(Daten_Anteile!$A:$ZZ,MATCH(Berechnung!$B$13&"|Investitionen|"&Berechnung!$B$3,Daten_Anteile!$A$1:$A$2971,0),8)),"") -> 36 | J18: =IFERROR(IF(INDEX(Daten_Salden!$A:$ZZ,Berechnung!$C$24,Berechnung!$B$5)="","",INDEX(Daten_Salden!$A:$ZZ,Berechnung!$C$24,Berechnung!$B$5)),"") -> -9 | K18: =IFERROR(IF(INDEX(Daten_Salden!$A:$ZZ,Berechnung!$C$24,Berechnung!$B$6)="","",INDEX(Daten_Salden!$A:$ZZ,Berechnung!$C$24,Berechnung!$B$6)),"") -> -15 | L18: =IF(AND(ISNUMBER(J18),ISNUMBER(K18)),ROUND(J18-K18,1),"") -> 6 | M18: =IFERROR(IF(INDEX(Daten_Salden!$A:$ZZ,Berechnung!$C$24,Berechnung!$B$7)="","",INDEX(Daten_Salden!$A:$ZZ,Berechnung!$C$24,Berechnung!$B$7)),"") -> -16 | N18: =IF(AND(ISNUMBER(J18),ISNUMBER(M18)),ROUND(J18-M18,1),"") -> 7 | O18: =IFERROR(IF(INDEX(Daten_Salden!$A:$ZZ,Berechnung!$C$24,4)="","",INDEX(Daten_Salden!$A:$ZZ,Berechnung!$C$24,4)),"") -> 3.757 | P18: =IFERROR(IF(INDEX(Daten_Anteile!$A:$ZZ,MATCH(Berechnung!$B$13&"|Investitionen|"&Berechnung!$B$2,Daten_Anteile!$A$1:$A$2971,0),5)="","",INDEX(Daten_Anteile!$A:$ZZ,MATCH(Berechnung!$B$13&"|Investitionen|"&Berechnung!$B$2,Daten_Anteile!$A$1:$A$2971,0),5)),"") -> 4943
B19: Beschäftigungsabsichten | C19: =Berechnung!$B$14 -> Alle Branchen | D19: =IFERROR(IF(INDEX(Daten_Anteile!$A:$ZZ,MATCH(Berechnung!$B$12&"|Beschäftigung|"&Berechnung!$B$2,Daten_Anteile!$A$1:$A$2971,0),6)="","",INDEX(Daten_Anteile!$A:$ZZ,MATCH(Berechnung!$B$12&"|Beschäftigung|"&Berechnung!$B$2,Daten_Anteile!$A$1:$A$2971,0),6)),"") -> 11 | E19: =IFERROR(IF(INDEX(Daten_Anteile!$A:$ZZ,MATCH(Berechnung!$B$12&"|Beschäftigung|"&Berechnung!$B$2,Daten_Anteile!$A$1:$A$2971,0),7)="","",INDEX(Daten_Anteile!$A:$ZZ,MATCH(Berechnung!$B$12&"|Beschäftigung|"&Berechnung!$B$2,Daten_Anteile!$A$1:$A$2971,0),7)),"") -> 65 | F19: =IFERROR(IF(INDEX(Daten_Anteile!$A:$ZZ,MATCH(Berechnung!$B$12&"|Beschäftigung|"&Berechnung!$B$2,Daten_Anteile!$A$1:$A$2971,0),8)="","",INDEX(Daten_Anteile!$A:$ZZ,MATCH(Berechnung!$B$12&"|Beschäftigung|"&Berechnung!$B$2,Daten_Anteile!$A$1:$A$2971,0),8)),"") -> 24 | G19: =IFERROR(IF(INDEX(Daten_Anteile!$A:$ZZ,MATCH(Berechnung!$B$12&"|Beschäftigung|"&Berechnung!$B$3,Daten_Anteile!$A$1:$A$2971,0),6)="","",INDEX(Daten_Anteile!$A:$ZZ,MATCH(Berechnung!$B$12&"|Beschäftigung|"&Berechnung!$B$3,Daten_Anteile!$A$1:$A$2971,0),6)),"") -> 10 | H19: =IFERROR(IF(INDEX(Daten_Anteile!$A:$ZZ,MATCH(Berechnung!$B$12&"|Beschäftigung|"&Berechnung!$B$3,Daten_Anteile!$A$1:$A$2971,0),7)="","",INDEX(Daten_Anteile!$A:$ZZ,MATCH(Berechnung!$B$12&"|Beschäftigung|"&Berechnung!$B$3,Daten_Anteile!$A$1:$A$2971,0),7)),"") -> 66 | I19: =IFERROR(IF(INDEX(Daten_Anteile!$A:$ZZ,MATCH(Berechnung!$B$12&"|Beschäftigung|"&Berechnung!$B$3,Daten_Anteile!$A$1:$A$2971,0),8)="","",INDEX(Daten_Anteile!$A:$ZZ,MATCH(Berechnung!$B$12&"|Beschäftigung|"&Berechnung!$B$3,Daten_Anteile!$A$1:$A$2971,0),8)),"") -> 24 | J19: =IFERROR(IF(INDEX(Daten_Salden!$A:$ZZ,Berechnung!$B$25,Berechnung!$B$5)="","",INDEX(Daten_Salden!$A:$ZZ,Berechnung!$B$25,Berechnung!$B$5)),"") -> -13 | K19: =IFERROR(IF(INDEX(Daten_Salden!$A:$ZZ,Berechnung!$B$25,Berechnung!$B$6)="","",INDEX(Daten_Salden!$A:$ZZ,Berechnung!$B$25,Berechnung!$B$6)),"") -> -14 | L19: =IF(AND(ISNUMBER(J19),ISNUMBER(K19)),ROUND(J19-K19,1),"") -> 1 | M19: =IFERROR(IF(INDEX(Daten_Salden!$A:$ZZ,Berechnung!$B$25,Berechnung!$B$7)="","",INDEX(Daten_Salden!$A:$ZZ,Berechnung!$B$25,Berechnung!$B$7)),"") -> -13 | N19: =IF(AND(ISNUMBER(J19),ISNUMBER(M19)),ROUND(J19-M19,1),"") -> 0 | O19: =IFERROR(IF(INDEX(Daten_Salden!$A:$ZZ,Berechnung!$B$25,4)="","",INDEX(Daten_Salden!$A:$ZZ,Berechnung!$B$25,4)),"") -> -1.4 | P19: =IFERROR(IF(INDEX(Daten_Anteile!$A:$ZZ,MATCH(Berechnung!$B$12&"|Beschäftigung|"&Berechnung!$B$2,Daten_Anteile!$A$1:$A$2971,0),5)="","",INDEX(Daten_Anteile!$A:$ZZ,MATCH(Berechnung!$B$12&"|Beschäftigung|"&Berechnung!$B$2,Daten_Anteile!$A$1:$A$2971,0),5)),"") -> 22785
C20: =Berechnung!$B$15 -> Industrie | D20: =IFERROR(IF(INDEX(Daten_Anteile!$A:$ZZ,MATCH(Berechnung!$B$13&"|Beschäftigung|"&Berechnung!$B$2,Daten_Anteile!$A$1:$A$2971,0),6)="","",INDEX(Daten_Anteile!$A:$ZZ,MATCH(Berechnung!$B$13&"|Beschäftigung|"&Berechnung!$B$2,Daten_Anteile!$A$1:$A$2971,0),6)),"") -> 12 | E20: =IFERROR(IF(INDEX(Daten_Anteile!$A:$ZZ,MATCH(Berechnung!$B$13&"|Beschäftigung|"&Berechnung!$B$2,Daten_Anteile!$A$1:$A$2971,0),7)="","",INDEX(Daten_Anteile!$A:$ZZ,MATCH(Berechnung!$B$13&"|Beschäftigung|"&Berechnung!$B$2,Daten_Anteile!$A$1:$A$2971,0),7)),"") -> 60 | F20: =IFERROR(IF(INDEX(Daten_Anteile!$A:$ZZ,MATCH(Berechnung!$B$13&"|Beschäftigung|"&Berechnung!$B$2,Daten_Anteile!$A$1:$A$2971,0),8)="","",INDEX(Daten_Anteile!$A:$ZZ,MATCH(Berechnung!$B$13&"|Beschäftigung|"&Berechnung!$B$2,Daten_Anteile!$A$1:$A$2971,0),8)),"") -> 28 | G20: =IFERROR(IF(INDEX(Daten_Anteile!$A:$ZZ,MATCH(Berechnung!$B$13&"|Beschäftigung|"&Berechnung!$B$3,Daten_Anteile!$A$1:$A$2971,0),6)="","",INDEX(Daten_Anteile!$A:$ZZ,MATCH(Berechnung!$B$13&"|Beschäftigung|"&Berechnung!$B$3,Daten_Anteile!$A$1:$A$2971,0),6)),"") -> 11 | H20: =IFERROR(IF(INDEX(Daten_Anteile!$A:$ZZ,MATCH(Berechnung!$B$13&"|Beschäftigung|"&Berechnung!$B$3,Daten_Anteile!$A$1:$A$2971,0),7)="","",INDEX(Daten_Anteile!$A:$ZZ,MATCH(Berechnung!$B$13&"|Beschäftigung|"&Berechnung!$B$3,Daten_Anteile!$A$1:$A$2971,0),7)),"") -> 58 | I20: =IFERROR(IF(INDEX(Daten_Anteile!$A:$ZZ,MATCH(Berechnung!$B$13&"|Beschäftigung|"&Berechnung!$B$3,Daten_Anteile!$A$1:$A$2971,0),8)="","",INDEX(Daten_Anteile!$A:$ZZ,MATCH(Berechnung!$B$13&"|Beschäftigung|"&Berechnung!$B$3,Daten_Anteile!$A$1:$A$2971,0),8)),"") -> 31 | J20: =IFERROR(IF(INDEX(Daten_Salden!$A:$ZZ,Berechnung!$C$25,Berechnung!$B$5)="","",INDEX(Daten_Salden!$A:$ZZ,Berechnung!$C$25,Berechnung!$B$5)),"") -> -16 | K20: =IFERROR(IF(INDEX(Daten_Salden!$A:$ZZ,Berechnung!$C$25,Berechnung!$B$6)="","",INDEX(Daten_Salden!$A:$ZZ,Berechnung!$C$25,Berechnung!$B$6)),"") -> -20 | L20: =IF(AND(ISNUMBER(J20),ISNUMBER(K20)),ROUND(J20-K20,1),"") -> 4 | M20: =IFERROR(IF(INDEX(Daten_Salden!$A:$ZZ,Berechnung!$C$25,Berechnung!$B$7)="","",INDEX(Daten_Salden!$A:$ZZ,Berechnung!$C$25,Berechnung!$B$7)),"") -> -21 | N20: =IF(AND(ISNUMBER(J20),ISNUMBER(M20)),ROUND(J20-M20,1),"") -> 5 | O20: =IFERROR(IF(INDEX(Daten_Salden!$A:$ZZ,Berechnung!$C$25,4)="","",INDEX(Daten_Salden!$A:$ZZ,Berechnung!$C$25,4)),"") -> -3.643 | P20: =IFERROR(IF(INDEX(Daten_Anteile!$A:$ZZ,MATCH(Berechnung!$B$13&"|Beschäftigung|"&Berechnung!$B$2,Daten_Anteile!$A$1:$A$2971,0),5)="","",INDEX(Daten_Anteile!$A:$ZZ,MATCH(Berechnung!$B$13&"|Beschäftigung|"&Berechnung!$B$2,Daten_Anteile!$A$1:$A$2971,0),5)),"") -> 5658
B21: Stimmungsindex | C21: =Berechnung!$B$14 -> Alle Branchen | J21: =IF(AND(ISNUMBER(J11),ISNUMBER(J13)),ROUND(SQRT((100+J11)*(100+J13)),1),"") -> 94.7 | K21: =IF(AND(ISNUMBER(K11),ISNUMBER(K13)),ROUND(SQRT((100+K11)*(100+K13)),1),"") -> 88.1 | L21: =IF(AND(ISNUMBER(J21),ISNUMBER(K21)),ROUND(J21-K21,1),"") -> 6.6 | M21: =IF(AND(ISNUMBER(M11),ISNUMBER(M13)),ROUND(SQRT((100+M11)*(100+M13)),1),"") -> 93.8 | N21: =IF(AND(ISNUMBER(J21),ISNUMBER(M21)),ROUND(J21-M21,1),"") -> 0.9
C22: =Berechnung!$B$15 -> Industrie | J22: =IF(AND(ISNUMBER(J12),ISNUMBER(J14)),ROUND(SQRT((100+J12)*(100+J14)),1),"") -> 97.5 | K22: =IF(AND(ISNUMBER(K12),ISNUMBER(K14)),ROUND(SQRT((100+K12)*(100+K14)),1),"") -> 88.4 | L22: =IF(AND(ISNUMBER(J22),ISNUMBER(K22)),ROUND(J22-K22,1),"") -> 9.1 | M22: =IF(AND(ISNUMBER(M12),ISNUMBER(M14)),ROUND(SQRT((100+M12)*(100+M14)),1),"") -> 87.9 | N22: =IF(AND(ISNUMBER(J22),ISNUMBER(M22)),ROUND(J22-M22,1),"") -> 9.6
B23: Salden = Anteil positiv minus Anteil negativ. Exporterwartungen: nur Unternehmen mit Exportgeschäft.
B24: Stimmungsindex = Wurzel aus (100 + Saldo Lage) × (100 + Saldo Erwartungen). n = Antworten zur jeweiligen Frage.
B26: Legende Zeitreihen | C26: ="━━ A: "&Berechnung!$B$14 -> ━━ A: Alle Branchen | G26: =IF(Berechnung!$B$15="","","━━ B: "&Berechnung!$B$15) -> ━━ B: Industrie | L26: ┄┄ Schnitt seit 2003 (A)
K64: Hinweise
K65: • Zeitreihen: Legende oben; B abschaltbar mit „(kein Vergleich)“.
K66: • Anteile, Risiken, Motive: nur Auswahl A.
K67: • Zeitreihen: Zeitraum oben wählbar (von/bis), ab Herbst 2003.
K68: • Risiken/Motive: Anteile in %, Mehrfachnennungen.
K69: • n < 30: Werte schwanken stark.

Sheet Branchenvergleich
A1: ="Branchenvergleich – "&$C$3 -> Branchenvergleich – Herbst 2026 | BK1: =IFERROR(MATCH($C$3,Daten_Salden!$1:$1,0),-1) -> 74
BK2: =IFERROR(MATCH(INDEX(Listen!$I$2:$I$71,MATCH($C$3,Listen!$I$2:$I$71,0)-1),Daten_Salden!$1:$1,0),-1) -> 73
B3: Umfrage | C3: Herbst 2026 | H3: Salden in Punkten; Δ VU = Veränderung zur Vorumfrage, Δ VJ = zum Vorjahr (bei Risiken/Motiven in Prozentpunkten; Risiken: rot = häufiger genannt). Filterpfeile zum Sortieren/Filtern; Spalte „Nr.“ aufsteigend sortieren = ursprüngliche Reihenfolge. | BK3: =IFERROR(MATCH(LEFT($C$3,LEN($C$3)-4)&(VALUE(RIGHT($C$3,4))-1),Daten_Salden!$1:$1,0),-1) -> 71
H4: Grau und kursiv: weniger als 30 Antworten – Werte mit Vorsicht interpretieren. | BK4: =IFERROR(MATCH($C$3,Daten_Risiken!$1:$1,0),-1) -> 55
BK5: =IFERROR(MATCH(INDEX(Listen!$I$2:$I$71,MATCH($C$3,Listen!$I$2:$I$71,0)-1),Daten_Risiken!$1:$1,0),-1) -> 54
F6: Stimmung und Standardfragen (Salden in Punkten) | X6: Geschäftsrisiken (Anteile in %) | AV6: Investitionsmotive (Anteile in %) | BK6: =IFERROR(MATCH(LEFT($C$3,LEN($C$3)-4)&(VALUE(RIGHT($C$3,4))-1),Daten_Risiken!$1:$1,0),-1) -> 52
F7: Stimmungsindex | I7: Geschäftslage | L7: Geschäftserwartungen | O7: Exporterwartungen | R7: Investitionsabsichten | U7: Beschäftigungsabsichten | X7: Energie/Rohstoffe | AA7: Arbeitskosten | AD7: Inlandsnachfrage | AG7: Wirtschaftspolitik | AJ7: Fachkräftemangel | AM7: Auslandsnachfrage | AP7: Finanzierung | AS7: Wechselkurs | AV7: Ersatzbedarf | AY7: Rationalisierung | BB7: Innovation | BE7: Umweltschutz | BH7: Kapazität | BK7: =IFERROR(MATCH($C$3,Daten_Motive!$1:$1,0),-1) -> 56
A8: Nr. | B8: Branche | C8: WZ-Code | D8: Wirtschafts-zweig | E8: n (Lage) | F8: Index | G8: Δ VU | H8: Δ VJ | I8: Saldo | J8: Δ VU | K8: Δ VJ | L8: Saldo | M8: Δ VU | N8: Δ VJ | O8: Saldo | P8: Δ VU | Q8: Δ VJ | R8: Saldo | S8: Δ VU | T8: Δ VJ | U8: Saldo | V8: Δ VU | W8: Δ VJ | X8: % | Y8: Δ VU | Z8: Δ VJ | AA8: % | AB8: Δ VU | AC8: Δ VJ | AD8: % | AE8: Δ VU | AF8: Δ VJ | AG8: % | AH8: Δ VU | AI8: Δ VJ | AJ8: % | AK8: Δ VU | AL8: Δ VJ | AM8: % | AN8: Δ VU | AO8: Δ VJ | AP8: % | AQ8: Δ VU | AR8: Δ VJ | AS8: % | AT8: Δ VU | AU8: Δ VJ | AV8: % | AW8: Δ VU | AX8: Δ VJ | AY8: % | AZ8: Δ VU | BA8: Δ VJ | BB8: % | BC8: Δ VU | BD8: Δ VJ | BE8: % | BF8: Δ VU | BG8: Δ VJ | BH8: % | BI8: Δ VU | BJ8: Δ VJ | BK8: =IFERROR(MATCH(INDEX(Listen!$I$2:$I$71,MATCH($C$3,Listen!$I$2:$I$71,0)-1),Daten_Motive!$1:$1,0),-1) -> 55
A9: 1 | B9: =Listen!A2 -> Alle Branchen | C9: 05 bis 96 ohne 84 und 94 | D9: =Listen!B2 -> Gesamt | E9: =IFERROR(IF(INDEX(Daten_Anteile!$A:$ZZ,MATCH($B9&"|Lage|"&$C$3,Daten_Anteile!$A$1:$A$2971,0),5)="","",INDEX(Daten_Anteile!$A:$ZZ,MATCH($B9&"|Lage|"&$C$3,Daten_Anteile!$A$1:$A$2971,0),5)),"") -> 23549 | F9: =IF(AND(ISNUMBER(I9),ISNUMBER(L9)),ROUND(SQRT((100+I9)*(100+L9)),1),"") -> 94.7 | G9: =IF(AND(ISNUMBER(F9),ISNUMBER(J9),ISNUMBER(M9)),ROUND(F9-SQRT((100+I9-J9)*(100+L9-M9)),1),"") -> 6.6 | H9: =IF(AND(ISNUMBER(F9),ISNUMBER(K9),ISNUMBER(N9)),ROUND(F9-SQRT((100+I9-K9)*(100+L9-N9)),1),"") -> 0.9 | I9: =IFERROR(IF(INDEX(Daten_Salden!$A:$ZZ,MATCH($B9&"|Lage",Daten_Salden!$A$1:$A$331,0),$BK$1)="","",INDEX(Daten_Salden!$A:$ZZ,MATCH($B9&"|Lage",Daten_Salden!$A$1:$A$331,0),$BK$1)),"") -> 3 | J9: =IFERROR(I9-IFERROR(IF(INDEX(Daten_Salden!$A:$ZZ,MATCH($B9&"|Lage",Daten_Salden!$A$1:$A$331,0),$BK$2)="",NA(),INDEX(Daten_Salden!$A:$ZZ,MATCH($B9&"|Lage",Daten_Salden!$A$1:$A$331,0),$BK$2)),NA()),"") -> 6 | K9: =IFERROR(I9-IFERROR(IF(INDEX(Daten_Salden!$A:$ZZ,MATCH($B9&"|Lage",Daten_Salden!$A$1:$A$331,0),$BK$3)="",NA(),INDEX(Daten_Salden!$A:$ZZ,MATCH($B9&"|Lage",Daten_Salden!$A$1:$A$331,0),$BK$3)),NA()),"") -> 3 | L9: =IFERROR(IF(INDEX(Daten_Salden!$A:$ZZ,MATCH($B9&"|Erwartungen",Daten_Salden!$A$1:$A$331,0),$BK$1)="","",INDEX(Daten_Salden!$A:$ZZ,MATCH($B9&"|Erwartungen",Daten_Salden!$A$1:$A$331,0),$BK$1)),"") -> -13 | M9: =IFERROR(L9-IFERROR(IF(INDEX(Daten_Salden!$A:$ZZ,MATCH($B9&"|Erwartungen",Daten_Salden!$A$1:$A$331,0),$BK$2)="",NA(),INDEX(Daten_Salden!$A:$ZZ,MATCH($B9&"|Erwartungen",Daten_Salden!$A$1:$A$331,0),$BK$2)),NA()),"") -> 7 | N9: =IFERROR(L9-IFERROR(IF(INDEX(Daten_Salden!$A:$ZZ,MATCH($B9&"|Erwartungen",Daten_Salden!$A$1:$A$331,0),$BK$3)="",NA(),INDEX(Daten_Salden!$A:$ZZ,MATCH($B9&"|Erwartungen",Daten_Salden!$A$1:$A$331,0),$BK$3)),NA()),"") -> -1 | O9: =IFERROR(IF(INDEX(Daten_Salden!$A:$ZZ,MATCH($B9&"|Export",Daten_Salden!$A$1:$A$331,0),$BK$1)="","",INDEX(Daten_Salden!$A:$ZZ,MATCH($B9&"|Export",Daten_Salden!$A$1:$A$331,0),$BK$1)),"") | P9: =IFERROR(O9-IFERROR(IF(INDEX(Daten_Salden!$A:$ZZ,MATCH($B9&"|Export",Daten_Salden!$A$1:$A$331,0),$BK$2)="",NA(),INDEX(Daten_Salden!$A:$ZZ,MATCH($B9&"|Export",Daten_Salden!$A$1:$A$331,0),$BK$2)),NA()),"") | Q9: =IFERROR(O9-IFERROR(IF(INDEX(Daten_Salden!$A:$ZZ,MATCH($B9&"|Export",Daten_Salden!$A$1:$A$331,0),$BK$3)="",NA(),INDEX(Daten_Salden!$A:$ZZ,MATCH($B9&"|Export",Daten_Salden!$A$1:$A$331,0),$BK$3)),NA()),"") | R9: =IFERROR(IF(INDEX(Daten_Salden!$A:$ZZ,MATCH($B9&"|Investitionen",Daten_Salden!$A$1:$A$331,0),$BK$1)="","",INDEX(Daten_Salden!$A:$ZZ,MATCH($B9&"|Investitionen",Daten_Salden!$A$1:$A$331,0),$BK$1)),"") -> -6 | S9: =IFERROR(R9-IFERROR(IF(INDEX(Daten_Salden!$A:$ZZ,MATCH($B9&"|Investitionen",Daten_Salden!$A$1:$A$331,0),$BK$2)="",NA(),INDEX(Daten_Salden!$A:$ZZ,MATCH($B9&"|Investitionen",Daten_Salden!$A$1:$A$331,0),$BK$2)),NA()),"") -> 5 | T9: =IFERROR(R9-IFERROR(IF(INDEX(Daten_Salden!$A:$ZZ,MATCH($B9&"|Investitionen",Daten_Salden!$A$1:$A$331,0),$BK$3)="",NA(),INDEX(Daten_Salden!$A:$ZZ,MATCH($B9&"|Investitionen",Daten_Salden!$A$1:$A$331,0),$BK$3)),NA()),"") -> 3 | U9: =IFERROR(IF(INDEX(Daten_Salden!$A:$ZZ,MATCH($B9&"|Beschäftigung",Daten_Salden!$A$1:$A$331,0),$BK$1)="","",INDEX(Daten_Salden!$A:$ZZ,MATCH($B9&"|Beschäftigung",Daten_Salden!$A$1:$A$331,0),$BK$1)),"") -> -13 | V9: =IFERROR(U9-IFERROR(IF(INDEX(Daten_Salden!$A:$ZZ,MATCH($B9&"|Beschäftigung",Daten_Salden!$A$1:$A$331,0),$BK$2)="",NA(),INDEX(Daten_Salden!$A:$ZZ,MATCH($B9&"|Beschäftigung",Daten_Salden!$A$1:$A$331,0),$BK$2)),NA()),"") -> 1 | W9: =IFERROR(U9-IFERROR(IF(INDEX(Daten_Salden!$A:$ZZ,MATCH($B9&"|Beschäftigung",Daten_Salden!$A$1:$A$331,0),$BK$3)="",NA(),INDEX(Daten_Salden!$A:$ZZ,MATCH($B9&"|Beschäftigung",Daten_Salden!$A$1:$A$331,0),$BK$3)),NA()),"") -> 0 | X9: =IFERROR(IF(INDEX(Daten_Risiken!$A:$ZZ,MATCH($B9&"|Energie- und Rohstoffpreise",Daten_Risiken!$A$1:$A$529,0),$BK$4)="","",INDEX(Daten_Risiken!$A:$ZZ,MATCH($B9&"|Energie- und Rohstoffpreise",Daten_Risiken!$A$1:$A$529,0),$BK$4)),"") -> 67 | Y9: =IFERROR(X9-IFERROR(IF(INDEX(Daten_Risiken!$A:$ZZ,MATCH($B9&"|Energie- und Rohstoffpreise",Daten_Risiken!$A$1:$A$529,0),$BK$5)="",NA(),INDEX(Daten_Risiken!$A:$ZZ,MATCH($B9&"|Energie- und Rohstoffpreise",Daten_Risiken!$A$1:$A$529,0),$BK$5)),NA()),"") -> -3 | Z9: =IFERROR(X9-IFERROR(IF(INDEX(Daten_Risiken!$A:$ZZ,MATCH($B9&"|Energie- und Rohstoffpreise",Daten_Risiken!$A$1:$A$529,0),$BK$6)="",NA(),INDEX(Daten_Risiken!$A:$ZZ,MATCH($B9&"|Energie- und Rohstoffpreise",Daten_Risiken!$A$1:$A$529,0),$BK$6)),NA()),"") -> 18 | AA9: =IFERROR(IF(INDEX(Daten_Risiken!$A:$ZZ,MATCH($B9&"|Arbeitskosten",Daten_Risiken!$A$1:$A$529,0),$BK$4)="","",INDEX(Daten_Risiken!$A:$ZZ,MATCH($B9&"|Arbeitskosten",Daten_Risiken!$A$1:$A$529,0),$BK$4)),"") -> 56 | AB9: =IFERROR(AA9-IFERROR(IF(INDEX(Daten_Risiken!$A:$ZZ,MATCH($B9&"|Arbeitskosten",Daten_Risiken!$A$1:$A$529,0),$BK$5)="",NA(),INDEX(Daten_Risiken!$A:$ZZ,MATCH($B9&"|Arbeitskosten",Daten_Risiken!$A$1:$A$529,0),$BK$5)),NA()),"") -> -1 | AC9: =IFERROR(AA9-IFERROR(IF(INDEX(Daten_Risiken!$A:$ZZ,MATCH($B9&"|Arbeitskosten",Daten_Risiken!$A$1:$A$529,0),$BK$6)="",NA(),INDEX(Daten_Risiken!$A:$ZZ,MATCH($B9&"|Arbeitskosten",Daten_Risiken!$A$1:$A$529,0),$BK$6)),NA()),"") -> 0 | AD9: =IFERROR(IF(INDEX(Daten_Risiken!$A:$ZZ,MATCH($B9&"|Inlandsnachfrage",Daten_Risiken!$A$1:$A$529,0),$BK$4)="","",INDEX(Daten_Risiken!$A:$ZZ,MATCH($B9&"|Inlandsnachfrage",Daten_Risiken!$A$1:$A$529,0),$BK$4)),"") -> 54 | AE9: =IFERROR(AD9-IFERROR(IF(INDEX(Daten_Risiken!$A:$ZZ,MATCH($B9&"|Inlandsnachfrage",Daten_Risiken!$A$1:$A$529,0),$BK$5)="",NA(),INDEX(Daten_Risiken!$A:$ZZ,MATCH($B9&"|Inlandsnachfrage",Daten_Risiken!$A$1:$A$529,0),$BK$5)),NA()),"") -> -2 | AF9: =IFERROR(AD9-IFERROR(IF(INDEX(Daten_Risiken!$A:$ZZ,MATCH($B9&"|Inlandsnachfrage",Daten_Risiken!$A$1:$A$529,0),$BK$6)="",NA(),INDEX(Daten_Risiken!$A:$ZZ,MATCH($B9&"|Inlandsnachfrage",Daten_Risiken!$A$1:$A$529,0),$BK$6)),NA()),"") -> -4 | AG9: =IFERROR(IF(INDEX(Daten_Risiken!$A:$ZZ,MATCH($B9&"|Wirtschaftspolitische Rahmenbedingungen",Daten_Risiken!$A$1:$A$529,0),$BK$4)="","",INDEX(Daten_Risiken!$A:$ZZ,MATCH($B9&"|Wirtschaftspolitische Rahmenbedingungen",Daten_Risiken!$A$1:$A$529,0),$BK$4)),"") -> 58 | AH9: =IFERROR(AG9-IFERROR(IF(INDEX(Daten_Risiken!$A:$ZZ,MATCH($B9&"|Wirtschaftspolitische Rahmenbedingungen",Daten_Risiken!$A$1:$A$529,0),$BK$5)="",NA(),INDEX(Daten_Risiken!$A:$ZZ,MATCH($B9&"|Wirtschaftspolitische Rahmenbedingungen",Daten_Risiken!$A$1:$A$529,0),$BK$5)),NA()),"") -> 0 | AI9: =IFERROR(AG9-IFERROR(IF(INDEX(Daten_Risiken!$A:$ZZ,MATCH($B9&"|Wirtschaftspolitische Rahmenbedingungen",Daten_Risiken!$A$1:$A$529,0),$BK$6)="",NA(),INDEX(Daten_Risiken!$A:$ZZ,MATCH($B9&"|Wirtschaftspolitische Rahmenbedingungen",Daten_Risiken!$A$1:$A$529,0),$BK$6)),NA()),"") -> 1 | AJ9: =IFERROR(IF(INDEX(Daten_Risiken!$A:$ZZ,MATCH($B9&"|Fachkräftemangel",Daten_Risiken!$A$1:$A$529,0),$BK$4)="","",INDEX(Daten_Risiken!$A:$ZZ,MATCH($B9&"|Fachkräftemangel",Daten_Risiken!$A$1:$A$529,0),$BK$4)),"") -> 36 | AK9: =IFERROR(AJ9-IFERROR(IF(INDEX(Daten_Risiken!$A:$ZZ,MATCH($B9&"|Fachkräftemangel",Daten_Risiken!$A$1:$A$529,0),$BK$5)="",NA(),INDEX(Daten_Risiken!$A:$ZZ,MATCH($B9&"|Fachkräftemangel",Daten_Risiken!$A$1:$A$529,0),$BK$5)),NA()),"") -> 0 | AL9: =IFERROR(AJ9-IFERROR(IF(INDEX(Daten_Risiken!$A:$ZZ,MATCH($B9&"|Fachkräftemangel",Daten_Risiken!$A$1:$A$529,0),$BK$6)="",NA(),INDEX(Daten_Risiken!$A:$ZZ,MATCH($B9&"|Fachkräftemangel",Daten_Risiken!$A$1:$A$529,0),$BK$6)),NA()),"") -> -8 | AM9: =IFERROR(IF(INDEX(Daten_Risiken!$A:$ZZ,MATCH($B9&"|Auslandsnachfrage",Daten_Risiken!$A$1:$A$529,0),$BK$4)="","",INDEX(Daten_Risiken!$A:$ZZ,MATCH($B9&"|Auslandsnachfrage",Daten_Risiken!$A$1:$A$529,0),$BK$4)),"") | AN9: =IFERROR(AM9-IFERROR(IF(INDEX(Daten_Risiken!$A:$ZZ,MATCH($B9&"|Auslandsnachfrage",Daten_Risiken!$A$1:$A$529,0),$BK$5)="",NA(),INDEX(Daten_Risiken!$A:$ZZ,MATCH($B9&"|Auslandsnachfrage",Daten_Risiken!$A$1:$A$529,0),$BK$5)),NA()),"") | AO9: =IFERROR(AM9-IFERROR(IF(INDEX(Daten_Risiken!$A:$ZZ,MATCH($B9&"|Auslandsnachfrage",Daten_Risiken!$A$1:$A$529,0),$BK$6)="",NA(),INDEX(Daten_Risiken!$A:$ZZ,MATCH($B9&"|Auslandsnachfrage",Daten_Risiken!$A$1:$A$529,0),$BK$6)),NA()),"") | AP9: =IFERROR(IF(INDEX(Daten_Risiken!$A:$ZZ,MATCH($B9&"|Finanzierung",Daten_Risiken!$A$1:$A$529,0),$BK$4)="","",INDEX(Daten_Risiken!$A:$ZZ,MATCH($B9&"|Finanzierung",Daten_Risiken!$A$1:$A$529,0),$BK$4)),"") -> 16 | AQ9: =IFERROR(AP9-IFERROR(IF(INDEX(Daten_Risiken!$A:$ZZ,MATCH($B9&"|Finanzierung",Daten_Risiken!$A$1:$A$529,0),$BK$5)="",NA(),INDEX(Daten_Risiken!$A:$ZZ,MATCH($B9&"|Finanzierung",Daten_Risiken!$A$1:$A$529,0),$BK$5)),NA()),"") -> 1 | AR9: =IFERROR(AP9-IFERROR(IF(INDEX(Daten_Risiken!$A:$ZZ,MATCH($B9&"|Finanzierung",Daten_Risiken!$A$1:$A$529,0),$BK$6)="",NA(),INDEX(Daten_Risiken!$A:$ZZ,MATCH($B9&"|Finanzierung",Daten_Risiken!$A$1:$A$529,0),$BK$6)),NA()),"") -> 2 | AS9: =IFERROR(IF(INDEX(Daten_Risiken!$A:$ZZ,MATCH($B9&"|Wechselkurs",Daten_Risiken!$A$1:$A$529,0),$BK$4)="","",INDEX(Daten_Risiken!$A:$ZZ,MATCH($B9&"|Wechselkurs",Daten_Risiken!$A$1:$A$529,0),$BK$4)),"") | AT9: =IFERROR(AS9-IFERROR(IF(INDEX(Daten_Risiken!$A:$ZZ,MATCH($B9&"|Wechselkurs",Daten_Risiken!$A$1:$A$529,0),$BK$5)="",NA(),INDEX(Daten_Risiken!$A:$ZZ,MATCH($B9&"|Wechselkurs",Daten_Risiken!$A$1:$A$529,0),$BK$5)),NA()),"") | AU9: =IFERROR(AS9-IFERROR(IF(INDEX(Daten_Risiken!$A:$ZZ,MATCH($B9&"|Wechselkurs",Daten_Risiken!$A$1:$A$529,0),$BK$6)="",NA(),INDEX(Daten_Risiken!$A:$ZZ,MATCH($B9&"|Wechselkurs",Daten_Risiken!$A$1:$A$529,0),$BK$6)),NA()),"") | AV9: =IFERROR(IF(INDEX(Daten_Motive!$A:$ZZ,MATCH($B9&"|Ersatzbedarf",Daten_Motive!$A$1:$A$331,0),$BK$7)="","",INDEX(Daten_Motive!$A:$ZZ,MATCH($B9&"|Ersatzbedarf",Daten_Motive!$A$1:$A$331,0),$BK$7)),"") -> 66 | AW9: =IFERROR(AV9-IFERROR(IF(INDEX(Daten_Motive!$A:$ZZ,MATCH($B9&"|Ersatzbedarf",Daten_Motive!$A$1:$A$331,0),$BK$8)="",NA(),INDEX(Daten_Motive!$A:$ZZ,MATCH($B9&"|Ersatzbedarf",Daten_Motive!$A$1:$A$331,0),$BK$8)),NA()),"") -> -1 | AX9: =IFERROR(AV9-IFERROR(IF(INDEX(Daten_Motive!$A:$ZZ,MATCH($B9&"|Ersatzbedarf",Daten_Motive!$A$1:$A$331,0),$BK$9)="",NA(),INDEX(Daten_Motive!$A:$ZZ,MATCH($B9&"|Ersatzbedarf",Daten_Motive!$A$1:$A$331,0),$BK$9)),NA()),"") -> -1 | AY9: =IFERROR(IF(INDEX(Daten_Motive!$A:$ZZ,MATCH($B9&"|Rationalisierung",Daten_Motive!$A$1:$A$331,0),$BK$7)="","",INDEX(Daten_Motive!$A:$ZZ,MATCH($B9&"|Rationalisierung",Daten_Motive!$A$1:$A$331,0),$BK$7)),"") -> 34 | AZ9: =IFERROR(AY9-IFERROR(IF(INDEX(Daten_Motive!$A:$ZZ,MATCH($B9&"|Rationalisierung",Daten_Motive!$A$1:$A$331,0),$BK$8)="",NA(),INDEX(Daten_Motive!$A:$ZZ,MATCH($B9&"|Rationalisierung",Daten_Motive!$A$1:$A$331,0),$BK$8)),NA()),"") -> 0 | BA9: =IFERROR(AY9-IFERROR(IF(INDEX(Daten_Motive!$A:$ZZ,MATCH($B9&"|Rationalisierung",Daten_Motive!$A$1:$A$331,0),$BK$9)="",NA(),INDEX(Daten_Motive!$A:$ZZ,MATCH($B9&"|Rationalisierung",Daten_Motive!$A$1:$A$331,0),$BK$9)),NA()),"") -> 1 | BB9: =IFERROR(IF(INDEX(Daten_Motive!$A:$ZZ,MATCH($B9&"|Produktinnovation",Daten_Motive!$A$1:$A$331,0),$BK$7)="","",INDEX(Daten_Motive!$A:$ZZ,MATCH($B9&"|Produktinnovation",Daten_Motive!$A$1:$A$331,0),$BK$7)),"") -> 28 | BC9: =IFERROR(BB9-IFERROR(IF(INDEX(Daten_Motive!$A:$ZZ,MATCH($B9&"|Produktinnovation",Daten_Motive!$A$1:$A$331,0),$BK$8)="",NA(),INDEX(Daten_Motive!$A:$ZZ,MATCH($B9&"|Produktinnovation",Daten_Motive!$A$1:$A$331,0),$BK$8)),NA()),"") -> 1 | BD9: =IFERROR(BB9-IFERROR(IF(INDEX(Daten_Motive!$A:$ZZ,MATCH($B9&"|Produktinnovation",Daten_Motive!$A$1:$A$331,0),$BK$9)="",NA(),INDEX(Daten_Motive!$A:$ZZ,MATCH($B9&"|Produktinnovation",Daten_Motive!$A$1:$A$331,0),$BK$9)),NA()),"") -> 0 | BE9: =IFERROR(IF(INDEX(Daten_Motive!$A:$ZZ,MATCH($B9&"|Umweltschutz",Daten_Motive!$A$1:$A$331,0),$BK$7)="","",INDEX(Daten_Motive!$A:$ZZ,MATCH($B9&"|Umweltschutz",Daten_Motive!$A$1:$A$331,0),$BK$7)),"") -> 17 | BF9: =IFERROR(BE9-IFERROR(IF(INDEX(Daten_Motive!$A:$ZZ,MATCH($B9&"|Umweltschutz",Daten_Motive!$A$1:$A$331,0),$BK$8)="",NA(),INDEX(Daten_Motive!$A:$ZZ,MATCH($B9&"|Umweltschutz",Daten_Motive!$A$1:$A$331,0),$BK$8)),NA()),"") -> 1 | BG9: =IFERROR(BE9-IFERROR(IF(INDEX(Daten_Motive!$A:$ZZ,MATCH($B9&"|Umweltschutz",Daten_Motive!$A$1:$A$331,0),$BK$9)="",NA(),INDEX(Daten_Motive!$A:$ZZ,MATCH($B9&"|Umweltschutz",Daten_Motive!$A$1:$A$331,0),$BK$9)),NA()),"") -> -1 | BH9: =IFERROR(IF(INDEX(Daten_Motive!$A:$ZZ,MATCH($B9&"|Kapazitätserweiterung",Daten_Motive!$A$1:$A$331,0),$BK$7)="","",INDEX(Daten_Motive!$A:$ZZ,MATCH($B9&"|Kapazitätserweiterung",Daten_Motive!$A$1:$A$331,0),$BK$7)),"") -> 19 | BI9: =IFERROR(BH9-IFERROR(IF(INDEX(Daten_Motive!$A:$ZZ,MATCH($B9&"|Kapazitätserweiterung",Daten_Motive!$A$1:$A$331,0),$BK$8)="",NA(),INDEX(Daten_Motive!$A:$ZZ,MATCH($B9&"|Kapazitätserweiterung",Daten_Motive!$A$1:$A$331,0),$BK$8)),NA()),"") -> 0 | BJ9: =IFERROR(BH9-IFERROR(IF(INDEX(Daten_Motive!$A:$ZZ,MATCH($B9&"|Kapazitätserweiterung",Daten_Motive!$A$1:$A$331,0),$BK$9)="",NA(),INDEX(Daten_Motive!$A:$ZZ,MATCH($B9&"|Kapazitätserweiterung",Daten_Motive!$A$1:$A$331,0),$BK$9)),NA()),"") -> 0 | BK9: =IFERROR(MATCH(LEFT($C$3,LEN($C$3)-4)&(VALUE(RIGHT($C$3,4))-1),Daten_Motive!$1:$1,0),-1) -> 53
