Workbook
Name zr_dash_1: INDEX(Berechnung!$B$91:$B$160,Berechnung!$E$2):INDEX(Berechnung!$B$91:$B$160,Berechnung!$E$3)
Name zr_dash_10: INDEX(Berechnung!$I$91:$I$160,Berechnung!$E$2):INDEX(Berechnung!$I$91:$I$160,Berechnung!$E$3)
Name zr_dash_11: INDEX(Berechnung!$J$91:$J$160,Berechnung!$E$2):INDEX(Berechnung!$J$91:$J$160,Berechnung!$E$3)
Name zr_dash_12: INDEX(Berechnung!$K$91:$K$160,Berechnung!$E$2):INDEX(Berechnung!$K$91:$K$160,Berechnung!$E$3)
Name zr_dash_13: INDEX(Berechnung!$B$91:$B$160,Berechnung!$E$2):INDEX(Berechnung!$B$91:$B$160,Berechnung!$E$3)
Name zr_dash_14: INDEX(Berechnung!$L$91:$L$160,Berechnung!$E$2):INDEX(Berechnung!$L$91:$L$160,Berechnung!$E$3)
Name zr_dash_15: INDEX(Berechnung!$M$91:$M$160,Berechnung!$E$2):INDEX(Berechnung!$M$91:$M$160,Berechnung!$E$3)
Name zr_dash_16: INDEX(Berechnung!$N$91:$N$160,Berechnung!$E$2):INDEX(Berechnung!$N$91:$N$160,Berechnung!$E$3)
Name zr_dash_17: INDEX(Berechnung!$B$91:$B$160,Berechnung!$E$2):INDEX(Berechnung!$B$91:$B$160,Berechnung!$E$3)
Name zr_dash_18: INDEX(Berechnung!$O$91:$O$160,Berechnung!$E$2):INDEX(Berechnung!$O$91:$O$160,Berechnung!$E$3)
Name zr_dash_19: INDEX(Berechnung!$P$91:$P$160,Berechnung!$E$2):INDEX(Berechnung!$P$91:$P$160,Berechnung!$E$3)
Name zr_dash_2: INDEX(Berechnung!$C$91:$C$160,Berechnung!$E$2):INDEX(Berechnung!$C$91:$C$160,Berechnung!$E$3)
Name zr_dash_20: INDEX(Berechnung!$Q$91:$Q$160,Berechnung!$E$2):INDEX(Berechnung!$Q$91:$Q$160,Berechnung!$E$3)
Name zr_dash_3: INDEX(Berechnung!$D$91:$D$160,Berechnung!$E$2):INDEX(Berechnung!$D$91:$D$160,Berechnung!$E$3)
Name zr_dash_4: INDEX(Berechnung!$E$91:$E$160,Berechnung!$E$2):INDEX(Berechnung!$E$91:$E$160,Berechnung!$E$3)
Name zr_dash_5: INDEX(Berechnung!$B$91:$B$160,Berechnung!$E$2):INDEX(Berechnung!$B$91:$B$160,Berechnung!$E$3)
Name zr_dash_6: INDEX(Berechnung!$F$91:$F$160,Berechnung!$E$2):INDEX(Berechnung!$F$91:$F$160,Berechnung!$E$3)
Name zr_dash_7: INDEX(Berechnung!$G$91:$G$160,Berechnung!$E$2):INDEX(Berechnung!$G$91:$G$160,Berechnung!$E$3)
Name zr_dash_8: INDEX(Berechnung!$H$91:$H$160,Berechnung!$E$2):INDEX(Berechnung!$H$91:$H$160,Berechnung!$E$3)
Name zr_dash_9: INDEX(Berechnung!$B$91:$B$160,Berechnung!$E$2):INDEX(Berechnung!$B$91:$B$160,Berechnung!$E$3)

Sheet Auf einen Blick
B2: Konjunktur auf einen Blick
B3: DIHK-Konjunkturumfrage Herbst 2026 · 23.549 Antworten
B6: DIHK-Stimmungsindex | F6: Geschäftslage | J6: Geschäftserwartungen | N6: Exporterwartungen (Industrie) | R6: Investitionsabsichten | V6: Beschäftigungsabsichten
B7: 94.7 | F7: 3 | J7: -13 | N7: 3 | R7: -6 | V7: -13
B8: ▲ +6,6 zur Vorumfrage | F8: ▲ +6 zur Vorumfrage | J8: ▲ +7 zur Vorumfrage | N8: ▲ +13 zur Vorumfrage | R8: ▲ +5 zur Vorumfrage | V8: ▲ +1 zur Vorumfrage
B9: Vorjahr 93,8 · Ø 109,7 | F9: Vorjahr +0 · Ø +19 | J9: Vorjahr −12 · Ø +2 | N9: Vorjahr −10 · Ø +13 | R9: Vorjahr −9 · Ø +2 | V9: Vorjahr −13 · Ø −1
B10: Punkte, 100 = neutral | F10: Saldo in Punkten | J10: Saldo in Punkten | N10: Saldo in Punkten | R10: Saldo in Punkten | V10: Saldo in Punkten
B12: Kernaussagen | O12: DIHK-Stimmungsindex seit 2010 (Gesamtwirtschaft)
B13: ● | C13: Stimmung: Der DIHK-Stimmungsindex steigt von 88,1 auf 94,7 Punkte –
C14: Vorjahr 93,8, langjähriger Schnitt 109,7.
B15: ● | C15: Geschäftslage: 26 % gut, 23 % schlecht – Saldo +3 (Vorumfrage −3).
B16: ● | C16: Geschäftserwartungen: 15 % besser, 28 % schlechter – Saldo −13
C17: (Vorumfrage −20).
B18: ● | C18: Pläne: Investitionen −6 (Vorumfrage −11), Beschäftigung −13 (−14);
C19: Exporterwartungen der Industrie +3.
B20: ● | C20: Größtes Geschäftsrisiko: Energie- und Rohstoffpreise (67 %, Vorumfrage 70
C21: %), gefolgt von Wirtschaftspolitische Rahmenbedingungen (58 %) und
C22: Arbeitskosten (56 %).
B23: ● | C23: Sektoren: beste Stimmung in Industrie (97,5), schwächste im Handel (79,5).
B26: Sektoren im Vergleich | K26: Geschäftsrisiken in % | S26: Investitionsmotive in %
E27: Index | F27: Lage | G27: Erw. | H27: Inv. | I27: Besch.
B28: Gesamtwirtschaft | E28: 94.7 | F28: 3 | G28: -13 | H28: -6 | I28: -13
B29: Industrie | E29: 97.5 | F29: -1 | G29: -4 | H29: -9 | I29: -16
B30: Baugewerbe | E30: 93.5 | F30: 12 | G30: -22 | H30: -19 | I30: -12
B31: Handel | E31: 79.5 | F31: -18 | G31: -23 | H31: -17 | I31: -20
B32: Dienstleistungen | E32: 97.3 | F32: 10 | G32: -14 | H32: 0 | I32: -11
B33: Index = Stimmungsindex; übrige Werte: Salden in Punkten (aktuelle Umfrage).
B42: Quelle: DIHK-Konjunkturumfrage. Salden = Anteil positiver minus Anteil negativer Antworten. Stimmungsindex = Wurzel aus (100 + Saldo Lage) × (100 + Saldo Erwartungen); Werte über 100 = überwiegend positive Stimmung.
B43: Exporterwartungen: Industrie. Ø = langjähriger Durchschnitt. * Auslandsnachfrage und Wechselkurs: nur exportierende Industrieunternehmen.

Sheet Dashboard
B2: ="DIHK-Konjunkturumfrage "&$N$6&" – Dashboard" -> DIHK-Konjunkturumfrage Herbst 2026 – Dashboard
B3: Gelbe Felder auswählen: Branche für A und B sowie den Zeitraum. Die Umfrage „bis“ ist zugleich die ausgewertete Umfrage. Für B „(kein Vergleich)“ wählen, um nur A anzuzeigen. | P3: =IF(OR(AND(ISNUMBER(P11),P11<30),AND(ISNUMBER(P12),P12<30)),"⚠ Weniger als 30 Antworten – Werte mit Vorsicht interpretieren","")
B5: Auswahl A – Branche | C5: Alle Branchen | H5: =IFERROR("WZ "&INDEX(Listen!$E$2:$E$67,MATCH($C$5,Listen!$A$2:$A$67,0)),"") -> WZ 05 bis 96 ohne 84 und 94 | L5: Zeitreihen von | N5: Jahresbeginn 2007
B6: Auswahl B – Branche | C6: Industrie (ohne Baugewerbe) | H6: =IF($C$6="(kein Vergleich)","",IFERROR("WZ "&INDEX(Listen!$E$2:$E$67,MATCH($C$6,Listen!$A$2:$A$67,0)),"")) -> WZ 05 bis 39 | L6: bis (Umfrage) | N6: Herbst 2026
D9: ="Anteile "&Berechnung!$B$16&" in %" -> Anteile HB 26 in % | G9: ="Anteile "&Berechnung!$B$17&" in %" -> Anteile FS 26 in % | J9: Salden in Punkten
B10: Indikator | C10: Auswahl | D10: positiv | E10: neutral | F10: negativ | G10: positiv | H10: neutral | I10: negativ | J10: =Berechnung!$B$16 -> HB 26 | K10: =Berechnung!$B$17 -> FS 26 | L10: Δ Vor-umfrage | M10: =Berechnung!$B$18 -> HB 25 | N10: Δ Vorjahr | O10: Schnitt seit 2003 | P10: n
B11: Geschäftslage | C11: =Berechnung!$B$14 -> Alle Branchen | D11: =IFERROR(IF(INDEX(Daten_Anteile!$A:$ZZ,MATCH(Berechnung!$B$12&"|Lage|"&Berechnung!$B$2,Daten_Anteile!$A$1:$A$2971,0),6)="","",INDEX(Daten_Anteile!$A:$ZZ,MATCH(Berechnung!$B$12&"|Lage|"&Berechnung!$B$2,Daten_Anteile!$A$1:$A$2971,0),6)),"") -> 26 | E11: =IFERROR(IF(INDEX(Daten_Anteile!$A:$ZZ,MATCH(Berechnung!$B$12&"|Lage|"&Berechnung!$B$2,Daten_Anteile!$A$1:$A$2971,0),7)="","",INDEX(Daten_Anteile!$A:$ZZ,MATCH(Berechnung!$B$12&"|Lage|"&Berechnung!$B$2,Daten_Anteile!$A$1:$A$2971,0),7)),"") -> 51 | F11: =IFERROR(IF(INDEX(Daten_Anteile!$A:$ZZ,MATCH(Berechnung!$B$12&"|Lage|"&Berechnung!$B$2,Daten_Anteile!$A$1:$A$2971,0),8)="","",INDEX(Daten_Anteile!$A:$ZZ,MATCH(Berechnung!$B$12&"|Lage|"&Berechnung!$B$2,Daten_Anteile!$A$1:$A$2971,0),8)),"") -> 23 | G11: =IFERROR(IF(INDEX(Daten_Anteile!$A:$ZZ,MATCH(Berechnung!$B$12&"|Lage|"&Berechnung!$B$3,Daten_Anteile!$A$1:$A$2971,0),6)="","",INDEX(Daten_Anteile!$A:$ZZ,MATCH(Berechnung!$B$12&"|Lage|"&Berechnung!$B$3,Daten_Anteile!$A$1:$A$2971,0),6)),"") -> 23 | H11: =IFERROR(IF(INDEX(Daten_Anteile!$A:$ZZ,MATCH(Berechnung!$B$12&"|Lage|"&Berechnung!$B$3,Daten_Anteile!$A$1:$A$2971,0),7)="","",INDEX(Daten_Anteile!$A:$ZZ,MATCH(Berechnung!$B$12&"|Lage|"&Berechnung!$B$3,Daten_Anteile!$A$1:$A$2971,0),7)),"") -> 51 | I11: =IFERROR(IF(INDEX(Daten_Anteile!$A:$ZZ,MATCH(Berechnung!$B$12&"|Lage|"&Berechnung!$B$3,Daten_Anteile!$A$1:$A$2971,0),8)="","",INDEX(Daten_Anteile!$A:$ZZ,MATCH(Berechnung!$B$12&"|Lage|"&Berechnung!$B$3,Daten_Anteile!$A$1:$A$2971,0),8)),"") -> 26 | J11: =IFERROR(IF(INDEX(Daten_Salden!$A:$ZZ,Berechnung!$B$21,Berechnung!$B$5)="","",INDEX(Daten_Salden!$A:$ZZ,Berechnung!$B$21,Berechnung!$B$5)),"") -> 3 | K11: =IFERROR(IF(INDEX(Daten_Salden!$A:$ZZ,Berechnung!$B$21,Berechnung!$B$6)="","",INDEX(Daten_Salden!$A:$ZZ,Berechnung!$B$21,Berechnung!$B$6)),"") -> -3 | L11: =IF(AND(ISNUMBER(J11),ISNUMBER(K11)),ROUND(J11-K11,1),"") -> 6 | M11: =IFERROR(IF(INDEX(Daten_Salden!$A:$ZZ,Berechnung!$B$21,Berechnung!$B$7)="","",INDEX(Daten_Salden!$A:$ZZ,Berechnung!$B$21,Berechnung!$B$7)),"") -> 0 | N11: =IF(AND(ISNUMBER(J11),ISNUMBER(M11)),ROUND(J11-M11,1),"") -> 3 | O11: =IFERROR(IF(INDEX(Daten_Salden!$A:$ZZ,Berechnung!$B$21,4)="","",INDEX(Daten_Salden!$A:$ZZ,Berechnung!$B$21,4)),"") -> 18.586 | P11: =IFERROR(IF(INDEX(Daten_Anteile!$A:$ZZ,MATCH(Berechnung!$B$12&"|Lage|"&Berechnung!$B$2,Daten_Anteile!$A$1:$A$2971,0),5)="","",INDEX(Daten_Anteile!$A:$ZZ,MATCH(Berechnung!$B$12&"|Lage|"&Berechnung!$B$2,Daten_Anteile!$A$1:$A$2971,0),5)),"") -> 23549
C12: =Berechnung!$B$15 -> Industrie | D12: =IFERROR(IF(INDEX(Daten_Anteile!$A:$ZZ,MATCH(Berechnung!$B$13&"|Lage|"&Berechnung!$B$2,Daten_Anteile!$A$1:$A$2971,0),6)="","",INDEX(Daten_Anteile!$A:$ZZ,MATCH(Berechnung!$B$13&"|Lage|"&Berechnung!$B$2,Daten_Anteile!$A$1:$A$2971,0),6)),"") -> 25 | E12: =IFERROR(IF(INDEX(Daten_Anteile!$A:$ZZ,MATCH(Berechnung!$B$13&"|Lage|"&Berechnung!$B$2,Daten_Anteile!$A$1:$A$2971,0),7)="","",INDEX(Daten_Anteile!$A:$ZZ,MATCH(Berechnung!$B$13&"|Lage|"&Berechnung!$B$2,Daten_Anteile!$A$1:$A$2971,0),7)),"") -> 49 | F12: =IFERROR(IF(INDEX(Daten_Anteile!$A:$ZZ,MATCH(Berechnung!$B$13&"|Lage|"&Berechnung!$B$2,Daten_Anteile!$A$1:$A$2971,0),8)="","",INDEX(Daten_Anteile!$A:$ZZ,MATCH(Berechnung!$B$13&"|Lage|"&Berechnung!$B$2,Daten_Anteile!$A$1:$A$2971,0),8)),"") -> 26 | G12: =IFERROR(IF(INDEX(Daten_Anteile!$A:$ZZ,MATCH(Berechnung!$B$13&"|Lage|"&Berechnung!$B$3,Daten_Anteile!$A$1:$A$2971,0),6)="","",INDEX(Daten_Anteile!$A:$ZZ,MATCH(Berechnung!$B$13&"|Lage|"&Berechnung!$B$3,Daten_Anteile!$A$1:$A$2971,0),6)),"") -> 21 | H12: =IFERROR(IF(INDEX(Daten_Anteile!$A:$ZZ,MATCH(Berechnung!$B$13&"|Lage|"&Berechnung!$B$3,Daten_Anteile!$A$1:$A$2971,0),7)="","",INDEX(Daten_Anteile!$A:$ZZ,MATCH(Berechnung!$B$13&"|Lage|"&Berechnung!$B$3,Daten_Anteile!$A$1:$A$2971,0),7)),"") -> 51 | I12: =IFERROR(IF(INDEX(Daten_Anteile!$A:$ZZ,MATCH(Berechnung!$B$13&"|Lage|"&Berechnung!$B$3,Daten_Anteile!$A$1:$A$2971,0),8)="","",INDEX(Daten_Anteile!$A:$ZZ,MATCH(Berechnung!$B$13&"|Lage|"&Berechnung!$B$3,Daten_Anteile!$A$1:$A$2971,0),8)),"") -> 28 | J12: =IFERROR(IF(INDEX(Daten_Salden!$A:$ZZ,Berechnung!$C$21,Berechnung!$B$5)="","",INDEX(Daten_Salden!$A:$ZZ,Berechnung!$C$21,Berechnung!$B$5)),"") -> -1 | K12: =IFERROR(IF(INDEX(Daten_Salden!$A:$ZZ,Berechnung!$C$21,Berechnung!$B$6)="","",INDEX(Daten_Salden!$A:$ZZ,Berechnung!$C$21,Berechnung!$B$6)),"") -> -7 | L12: =IF(AND(ISNUMBER(J12),ISNUMBER(K12)),ROUND(J12-K12,1),"") -> 6 | M12: =IFERROR(IF(INDEX(Daten_Salden!$A:$ZZ,Berechnung!$C$21,Berechnung!$B$7)="","",INDEX(Daten_Salden!$A:$ZZ,Berechnung!$C$21,Berechnung!$B$7)),"") -> -15 | N12: =IF(AND(ISNUMBER(J12),ISNUMBER(M12)),ROUND(J12-M12,1),"") -> 14 | O12: =IFERROR(IF(INDEX(Daten_Salden!$A:$ZZ,Berechnung!$C$21,4)="","",INDEX(Daten_Salden!$A:$ZZ,Berechnung!$C$21,4)),"") -> 18.571 | P12: =IFERROR(IF(INDEX(Daten_Anteile!$A:$ZZ,MATCH(Berechnung!$B$13&"|Lage|"&Berechnung!$B$2,Daten_Anteile!$A$1:$A$2971,0),5)="","",INDEX(Daten_Anteile!$A:$ZZ,MATCH(Berechnung!$B$13&"|Lage|"&Berechnung!$B$2,Daten_Anteile!$A$1:$A$2971,0),5)),"") -> 5866
B13: Geschäftserwartungen | C13: =Berechnung!$B$14 -> Alle Branchen | D13: =IFERROR(IF(INDEX(Daten_Anteile!$A:$ZZ,MATCH(Berechnung!$B$12&"|Erwartungen|"&Berechnung!$B$2,Daten_Anteile!$A$1:$A$2971,0),6)="","",INDEX(Daten_Anteile!$A:$ZZ,MATCH(Berechnung!$B$12&"|Erwartungen|"&Berechnung!$B$2,Daten_Anteile!$A$1:$A$2971,0),6)),"") -> 15 | E13: =IFERROR(IF(INDEX(Daten_Anteile!$A:$ZZ,MATCH(Berechnung!$B$12&"|Erwartungen|"&Berechnung!$B$2,Daten_Anteile!$A$1:$A$2971,0),7)="","",INDEX(Daten_Anteile!$A:$ZZ,MATCH(Berechnung!$B$12&"|Erwartungen|"&Berechnung!$B$2,Daten_Anteile!$A$1:$A$2971,0),7)),"") -> 57 | F13: =IFERROR(IF(INDEX(Daten_Anteile!$A:$ZZ,MATCH(Berechnung!$B$12&"|Erwartungen|"&Berechnung!$B$2,Daten_Anteile!$A$1:$A$2971,0),8)="","",INDEX(Daten_Anteile!$A:$ZZ,MATCH(Berechnung!$B$12&"|Erwartungen|"&Berechnung!$B$2,Daten_Anteile!$A$1:$A$2971,0),8)),"") -> 28 | G13: =IFERROR(IF(INDEX(Daten_Anteile!$A:$ZZ,MATCH(Berechnung!$B$12&"|Erwartungen|"&Berechnung!$B$3,Daten_Anteile!$A$1:$A$2971,0),6)="","",INDEX(Daten_Anteile!$A:$ZZ,MATCH(Berechnung!$B$12&"|Erwartungen|"&Berechnung!$B$3,Daten_Anteile!$A$1:$A$2971,0),6)),"") -> 13 | H13: =IFERROR(IF(INDEX(Daten_Anteile!$A:$ZZ,MATCH(Berechnung!$B$12&"|Erwartungen|"&Berechnung!$B$3,Daten_Anteile!$A$1:$A$2971,0),7)="","",INDEX(Daten_Anteile!$A:$ZZ,MATCH(Berechnung!$B$12&"|Erwartungen|"&Berechnung!$B$3,Daten_Anteile!$A$1:$A$2971,0),7)),"") -> 54 | I13: =IFERROR(IF(INDEX(Daten_Anteile!$A:$ZZ,MATCH(Berechnung!$B$12&"|Erwartungen|"&Berechnung!$B$3,Daten_Anteile!$A$1:$A$2971,0),8)="","",INDEX(Daten_Anteile!$A:$ZZ,MATCH(Berechnung!$B$12&"|Erwartungen|"&Berechnung!$B$3,Daten_Anteile!$A$1:$A$2971,0),8)),"") -> 33 | J13: =IFERROR(IF(INDEX(Daten_Salden!$A:$ZZ,Berechnung!$B$22,Berechnung!$B$5)="","",INDEX(Daten_Salden!$A:$ZZ,Berechnung!$B$22,Berechnung!$B$5)),"") -> -13 | K13: =IFERROR(IF(INDEX(Daten_Salden!$A:$ZZ,Berechnung!$B$22,Berechnung!$B$6)="","",INDEX(Daten_Salden!$A:$ZZ,Berechnung!$B$22,Berechnung!$B$6)),"") -> -20 | L13: =IF(AND(ISNUMBER(J13),ISNUMBER(K13)),ROUND(J13-K13,1),"") -> 7 | M13: =IFERROR(IF(INDEX(Daten_Salden!$A:$ZZ,Berechnung!$B$22,Berechnung!$B$7)="","",INDEX(Daten_Salden!$A:$ZZ,Berechnung!$B$22,Berechnung!$B$7)),"") -> -12 | N13: =IF(AND(ISNUMBER(J13),ISNUMBER(M13)),ROUND(J13-M13,1),"") -> -1 | O13: =IFERROR(IF(INDEX(Daten_Salden!$A:$ZZ,Berechnung!$B$22,4)="","",INDEX(Daten_Salden!$A:$ZZ,Berechnung!$B$22,4)),"") -> 1.986 | P13: =IFERROR(IF(INDEX(Daten_Anteile!$A:$ZZ,MATCH(Berechnung!$B$12&"|Erwartungen|"&Berechnung!$B$2,Daten_Anteile!$A$1:$A$2971,0),5)="","",INDEX(Daten_Anteile!$A:$ZZ,MATCH(Berechnung!$B$12&"|Erwartungen|"&Berechnung!$B$2,Daten_Anteile!$A$1:$A$2971,0),5)),"") -> 23343
C14: =Berechnung!$B$15 -> Industrie | D14: =IFERROR(IF(INDEX(Daten_Anteile!$A:$ZZ,MATCH(Berechnung!$B$13&"|Erwartungen|"&Berechnung!$B$2,Daten_Anteile!$A$1:$A$2971,0),6)="","",INDEX(Daten_Anteile!$A:$ZZ,MATCH(Berechnung!$B$13&"|Erwartungen|"&Berechnung!$B$2,Daten_Anteile!$A$1:$A$2971,0),6)),"") -> 18 | E14: =IFERROR(IF(INDEX(Daten_Anteile!$A:$ZZ,MATCH(Berechnung!$B$13&"|Erwartungen|"&Berechnung!$B$2,Daten_Anteile!$A$1:$A$2971,0),7)="","",INDEX(Daten_Anteile!$A:$ZZ,MATCH(Berechnung!$B$13&"|Erwartungen|"&Berechnung!$B$2,Daten_Anteile!$A$1:$A$2971,0),7)),"") -> 60 | F14: =IFERROR(IF(INDEX(Daten_Anteile!$A:$ZZ,MATCH(Berechnung!$B$13&"|Erwartungen|"&Berechnung!$B$2,Daten_Anteile!$A$1:$A$2971,0),8)="","",INDEX(Daten_Anteile!$A:$ZZ,MATCH(Berechnung!$B$13&"|Erwartungen|"&Berechnung!$B$2,Daten_Anteile!$A$1:$A$2971,0),8)),"") -> 22 | G14: =IFERROR(IF(INDEX(Daten_Anteile!$A:$ZZ,MATCH(Berechnung!$B$13&"|Erwartungen|"&Berechnung!$B$3,Daten_Anteile!$A$1:$A$2971,0),6)="","",INDEX(Daten_Anteile!$A:$ZZ,MATCH(Berechnung!$B$13&"|Erwartungen|"&Berechnung!$B$3,Daten_Anteile!$A$1:$A$2971,0),6)),"") -> 15 | H14: =IFERROR(IF(INDEX(Daten_Anteile!$A:$ZZ,MATCH(Berechnung!$B$13&"|Erwartungen|"&Berechnung!$B$3,Daten_Anteile!$A$1:$A$2971,0),7)="","",INDEX(Daten_Anteile!$A:$ZZ,MATCH(Berechnung!$B$13&"|Erwartungen|"&Berechnung!$B$3,Daten_Anteile!$A$1:$A$2971,0),7)),"") -> 54 | I14: =IFERROR(IF(INDEX(Daten_Anteile!$A:$ZZ,MATCH(Berechnung!$B$13&"|Erwartungen|"&Berechnung!$B$3,Daten_Anteile!$A$1:$A$2971,0),8)="","",INDEX(Daten_Anteile!$A:$ZZ,MATCH(Berechnung!$B$13&"|Erwartungen|"&Berechnung!$B$3,Daten_Anteile!$A$1:$A$2971,0),8)),"") -> 31 | J14: =IFERROR(IF(INDEX(Daten_Salden!$A:$ZZ,Berechnung!$C$22,Berechnung!$B$5)="","",INDEX(Daten_Salden!$A:$ZZ,Berechnung!$C$22,Berechnung!$B$5)),"") -> -4 | K14: =IFERROR(IF(INDEX(Daten_Salden!$A:$ZZ,Berechnung!$C$22,Berechnung!$B$6)="","",INDEX(Daten_Salden!$A:$ZZ,Berechnung!$C$22,Berechnung!$B$6)),"") -> -16 | L14: =IF(AND(ISNUMBER(J14),ISNUMBER(K14)),ROUND(J14-K14,1),"") -> 12 | M14: =IFERROR(IF(INDEX(Daten_Salden!$A:$ZZ,Berechnung!$C$22,Berechnung!$B$7)="","",INDEX(Daten_Salden!$A:$ZZ,Berechnung!$C$22,Berechnung!$B$7)),"") -> -9 | N14: =IF(AND(ISNUMBER(J14),ISNUMBER(M14)),ROUND(J14-M14,1),"") -> 5 | O14: =IFERROR(IF(INDEX(Daten_Salden!$A:$ZZ,Berechnung!$C$22,4)="","",INDEX(Daten_Salden!$A:$ZZ,Berechnung!$C$22,4)),"") -> 4.971 | P14: =IFERROR(IF(INDEX(Daten_Anteile!$A:$ZZ,MATCH(Berechnung!$B$13&"|Erwartungen|"&Berechnung!$B$2,Daten_Anteile!$A$1:$A$2971,0),5)="","",INDEX(Daten_Anteile!$A:$ZZ,MATCH(Berechnung!$B$13&"|Erwartungen|"&Berechnung!$B$2,Daten_Anteile!$A$1:$A$2971,0),5)),"") -> 5800
B15: Exporterwartungen | C15: =Berechnung!$B$14 -> Alle Branchen | D15: =IFERROR(IF(INDEX(Daten_Anteile!$A:$ZZ,MATCH(Berechnung!$B$12&"|Export|"&Berechnung!$B$2,Daten_Anteile!$A$1:$A$2971,0),6)="","",INDEX(Daten_Anteile!$A:$ZZ,MATCH(Berechnung!$B$12&"|Export|"&Berechnung!$B$2,Daten_Anteile!$A$1:$A$2971,0),6)),"") | E15: =IFERROR(IF(INDEX(Daten_Anteile!$A:$ZZ,MATCH(Berechnung!$B$12&"|Export|"&Berechnung!$B$2,Daten_Anteile!$A$1:$A$2971,0),7)="","",INDEX(Daten_Anteile!$A:$ZZ,MATCH(Berechnung!$B$12&"|Export|"&Berechnung!$B$2,Daten_Anteile!$A$1:$A$2971,0),7)),"") | F15: =IFERROR(IF(INDEX(Daten_Anteile!$A:$ZZ,MATCH(Berechnung!$B$12&"|Export|"&Berechnung!$B$2,Daten_Anteile!$A$1:$A$2971,0),8)="","",INDEX(Daten_Anteile!$A:$ZZ,MATCH(Berechnung!$B$12&"|Export|"&Berechnung!$B$2,Daten_Anteile!$A$1:$A$2971,0),8)),"") | G15: =IFERROR(IF(INDEX(Daten_Anteile!$A:$ZZ,MATCH(Berechnung!$B$12&"|Export|"&Berechnung!$B$3,Daten_Anteile!$A$1:$A$2971,0),6)="","",INDEX(Daten_Anteile!$A:$ZZ,MATCH(Berechnung!$B$12&"|Export|"&Berechnung!$B$3,Daten_Anteile!$A$1:$A$2971,0),6)),"") | H15: =IFERROR(IF(INDEX(Daten_Anteile!$A:$ZZ,MATCH(Berechnung!$B$12&"|Export|"&Berechnung!$B$3,Daten_Anteile!$A$1:$A$2971,0),7)="","",INDEX(Daten_Anteile!$A:$ZZ,MATCH(Berechnung!$B$12&"|Export|"&Berechnung!$B$3,Daten_Anteile!$A$1:$A$2971,0),7)),"") | I15: =IFERROR(IF(INDEX(Daten_Anteile!$A:$ZZ,MATCH(Berechnung!$B$12&"|Export|"&Berechnung!$B$3,Daten_Anteile!$A$1:$A$2971,0),8)="","",INDEX(Daten_Anteile!$A:$ZZ,MATCH(Berechnung!$B$12&"|Export|"&Berechnung!$B$3,Daten_Anteile!$A$1:$A$2971,0),8)),"") | J15: =IFERROR(IF(INDEX(Daten_Salden!$A:$ZZ,Berechnung!$B$23,Berechnung!$B$5)="","",INDEX(Daten_Salden!$A:$ZZ,Berechnung!$B$23,Berechnung!$B$5)),"") | K15: =IFERROR(IF(INDEX(Daten_Salden!$A:$ZZ,Berechnung!$B$23,Berechnung!$B$6)="","",INDEX(Daten_Salden!$A:$ZZ,Berechnung!$B$23,Berechnung!$B$6)),"") | L15: =IF(AND(ISNUMBER(J15),ISNUMBER(K15)),ROUND(J15-K15,1),"") | M15: =IFERROR(IF(INDEX(Daten_Salden!$A:$ZZ,Berechnung!$B$23,Berechnung!$B$7)="","",INDEX(Daten_Salden!$A:$ZZ,Berechnung!$B$23,Berechnung!$B$7)),"") | N15: =IF(AND(ISNUMBER(J15),ISNUMBER(M15)),ROUND(J15-M15,1),"") | O15: =IFERROR(IF(INDEX(Daten_Salden!$A:$ZZ,Berechnung!$B$23,4)="","",INDEX(Daten_Salden!$A:$ZZ,Berechnung!$B$23,4)),"") | P15: =IFERROR(IF(INDEX(Daten_Anteile!$A:$ZZ,MATCH(Berechnung!$B$12&"|Export|"&Berechnung!$B$2,Daten_Anteile!$A$1:$A$2971,0),5)="","",INDEX(Daten_Anteile!$A:$ZZ,MATCH(Berechnung!$B$12&"|Export|"&Berechnung!$B$2,Daten_Anteile!$A$1:$A$2971,0),5)),"")
C16: =Berechnung!$B$15 -> Industrie | D16: =IFERROR(IF(INDEX(Daten_Anteile!$A:$ZZ,MATCH(Berechnung!$B$13&"|Export|"&Berechnung!$B$2,Daten_Anteile!$A$1:$A$2971,0),6)="","",INDEX(Daten_Anteile!$A:$ZZ,MATCH(Berechnung!$B$13&"|Export|"&Berechnung!$B$2,Daten_Anteile!$A$1:$A$2971,0),6)),"") -> 24 | E16: =IFERROR(IF(INDEX(Daten_Anteile!$A:$ZZ,MATCH(Berechnung!$B$13&"|Export|"&Berechnung!$B$2,Daten_Anteile!$A$1:$A$2971,0),7)="","",INDEX(Daten_Anteile!$A:$ZZ,MATCH(Berechnung!$B$13&"|Export|"&Berechnung!$B$2,Daten_Anteile!$A$1:$A$2971,0),7)),"") -> 55 | F16: =IFERROR(IF(INDEX(Daten_Anteile!$A:$ZZ,MATCH(Berechnung!$B$13&"|Export|"&Berechnung!$B$2,Daten_Anteile!$A$1:$A$2971,0),8)="","",INDEX(Daten_Anteile!$A:$ZZ,MATCH(Berechnung!$B$13&"|Export|"&Berechnung!$B$2,Daten_Anteile!$A$1:$A$2971,0),8)),"") -> 21 | G16: =IFERROR(IF(INDEX(Daten_Anteile!$A:$ZZ,MATCH(Berechnung!$B$13&"|Export|"&Berechnung!$B$3,Daten_Anteile!$A$1:$A$2971,0),6)="","",INDEX(Daten_Anteile!$A:$ZZ,MATCH(Berechnung!$B$13&"|Export|"&Berechnung!$B$3,Daten_Anteile!$A$1:$A$2971,0),6)),"") -> 19 | H16: =IFERROR(IF(INDEX(Daten_Anteile!$A:$ZZ,MATCH(Berechnung!$B$13&"|Export|"&Berechnung!$B$3,Daten_Anteile!$A$1:$A$2971,0),7)="","",INDEX(Daten_Anteile!$A:$ZZ,MATCH(Berechnung!$B$13&"|Export|"&Berechnung!$B$3,Daten_Anteile!$A$1:$A$2971,0),7)),"") -> 52 | I16: =IFERROR(IF(INDEX(Daten_Anteile!$A:$ZZ,MATCH(Berechnung!$B$13&"|Export|"&Berechnung!$B$3,Daten_Anteile!$A$1:$A$2971,0),8)="","",INDEX(Daten_Anteile!$A:$ZZ,MATCH(Berechnung!$B$13&"|Export|"&Berechnung!$B$3,Daten_Anteile!$A$1:$A$2971,0),8)),"") -> 29 | J16: =IFERROR(IF(INDEX(Daten_Salden!$A:$ZZ,Berechnung!$C$23,Berechnung!$B$5)="","",INDEX(Daten_Salden!$A:$ZZ,Berechnung!$C$23,Berechnung!$B$5)),"") -> 3 | K16: =IFERROR(IF(INDEX(Daten_Salden!$A:$ZZ,Berechnung!$C$23,Berechnung!$B$6)="","",INDEX(Daten_Salden!$A:$ZZ,Berechnung!$C$23,Berechnung!$B$6)),"") -> -10 | L16: =IF(AND(ISNUMBER(J16),ISNUMBER(K16)),ROUND(J16-K16,1),"") -> 13 | M16: =IFERROR(IF(INDEX(Daten_Salden!$A:$ZZ,Berechnung!$C$23,Berechnung!$B$7)="","",INDEX(Daten_Salden!$A:$ZZ,Berechnung!$C$23,Berechnung!$B$7)),"") -> -10 | N16: =IF(AND(ISNUMBER(J16),ISNUMBER(M16)),ROUND(J16-M16,1),"") -> 13 | O16: =IFERROR(IF(INDEX(Daten_Salden!$A:$ZZ,Berechnung!$C$23,4)="","",INDEX(Daten_Salden!$A:$ZZ,Berechnung!$C$23,4)),"") -> 13.486 | P16: =IFERROR(IF(INDEX(Daten_Anteile!$A:$ZZ,MATCH(Berechnung!$B$13&"|Export|"&Berechnung!$B$2,Daten_Anteile!$A$1:$A$2971,0),5)="","",INDEX(Daten_Anteile!$A:$ZZ,MATCH(Berechnung!$B$13&"|Export|"&Berechnung!$B$2,Daten_Anteile!$A$1:$A$2971,0),5)),"") -> 4062
B17: Investitionsabsichten | C17: =Berechnung!$B$14 -> Alle Branchen | D17: =IFERROR(IF(INDEX(Daten_Anteile!$A:$ZZ,MATCH(Berechnung!$B$12&"|Investitionen|"&Berechnung!$B$2,Daten_Anteile!$A$1:$A$2971,0),6)="","",INDEX(Daten_Anteile!$A:$ZZ,MATCH(Berechnung!$B$12&"|Investitionen|"&Berechnung!$B$2,Daten_Anteile!$A$1:$A$2971,0),6)),"") -> 24 | E17: =IFERROR(IF(INDEX(Daten_Anteile!$A:$ZZ,MATCH(Berechnung!$B$12&"|Investitionen|"&Berechnung!$B$2,Daten_Anteile!$A$1:$A$2971,0),7)="","",INDEX(Daten_Anteile!$A:$ZZ,MATCH(Berechnung!$B$12&"|Investitionen|"&Berechnung!$B$2,Daten_Anteile!$A$1:$A$2971,0),7)),"") -> 46 | F17: =IFERROR(IF(INDEX(Daten_Anteile!$A:$ZZ,MATCH(Berechnung!$B$12&"|Investitionen|"&Berechnung!$B$2,Daten_Anteile!$A$1:$A$2971,0),8)="","",INDEX(Daten_Anteile!$A:$ZZ,MATCH(Berechnung!$B$12&"|Investitionen|"&Berechnung!$B$2,Daten_Anteile!$A$1:$A$2971,0),8)),"") -> 30 | G17: =IFERROR(IF(INDEX(Daten_Anteile!$A:$ZZ,MATCH(Berechnung!$B$12&"|Investitionen|"&Berechnung!$B$3,Daten_Anteile!$A$1:$A$2971,0),6)="","",INDEX(Daten_Anteile!$A:$ZZ,MATCH(Berechnung!$B$12&"|Investitionen|"&Berechnung!$B$3,Daten_Anteile!$A$1:$A$2971,0),6)),"") -> 23 | H17: =IFERROR(IF(INDEX(Daten_Anteile!$A:$ZZ,MATCH(Berechnung!$B$12&"|Investitionen|"&Berechnung!$B$3,Daten_Anteile!$A$1:$A$2971,0),7)="","",INDEX(Daten_Anteile!$A:$ZZ,MATCH(Berechnung!$B$12&"|Investitionen|"&Berechnung!$B$3,Daten_Anteile!$A$1:$A$2971,0),7)),"") -> 43 | I17: =IFERROR(IF(INDEX(Daten_Anteile!$A:$ZZ,MATCH(Berechnung!$B$12&"|Investitionen|"&Berechnung!$B$3,Daten_Anteile!$A$1:$A$2971,0),8)="","",INDEX(Daten_Anteile!$A:$ZZ,MATCH(Berechnung!$B$12&"|Investitionen|"&Berechnung!$B$3,Daten_Anteile!$A$1:$A$2971,0),8)),"") -> 34 | J17: =IFERROR(IF(INDEX(Daten_Salden!$A:$ZZ,Berechnung!$B$24,Berechnung!$B$5)="","",INDEX(Daten_Salden!$A:$ZZ,Berechnung!$B$24,Berechnung!$B$5)),"") -> -6 | K17: =IFERROR(IF(INDEX(Daten_Salden!$A:$ZZ,Berechnung!$B$24,Berechnung!$B$6)="","",INDEX(Daten_Salden!$A:$ZZ,Berechnung!$B$24,Berechnung!$B$6)),"") -> -11 | L17: =IF(AND(ISNUMBER(J17),ISNUMBER(K17)),ROUND(J17-K17,1),"") -> 5 | M17: =IFERROR(IF(INDEX(Daten_Salden!$A:$ZZ,Berechnung!$B$24,Berechnung!$B$7)="","",INDEX(Daten_Salden!$A:$ZZ,Berechnung!$B$24,Berechnung!$B$7)),"") -> -9 | N17: =IF(AND(ISNUMBER(J17),ISNUMBER(M17)),ROUND(J17-M17,1),"") -> 3 | O17: =IFERROR(IF(INDEX(Daten_Salden!$A:$ZZ,Berechnung!$B$24,4)="","",INDEX(Daten_Salden!$A:$ZZ,Berechnung!$B$24,4)),"") -> 2.243 | P17: =IFERROR(IF(INDEX(Daten_Anteile!$A:$ZZ,MATCH(Berechnung!$B$12&"|Investitionen|"&Berechnung!$B$2,Daten_Anteile!$A$1:$A$2971,0),5)="","",INDEX(Daten_Anteile!$A:$ZZ,MATCH(Berechnung!$B$12&"|Investitionen|"&Berechnung!$B$2,Daten_Anteile!$A$1:$A$2971,0),5)),"") -> 19255
C18: =Berechnung!$B$15 -> Industrie | D18: =IFERROR(IF(INDEX(Daten_Anteile!$A:$ZZ,MATCH(Berechnung!$B$13&"|Investitionen|"&Berechnung!$B$2,Daten_Anteile!$A$1:$A$2971,0),6)="","",INDEX(Daten_Anteile!$A:$ZZ,MATCH(Berechnung!$B$13&"|Investitionen|"&Berechnung!$B$2,Daten_Anteile!$A$1:$A$2971,0),6)),"") -> 22 | E18: =IFERROR(IF(INDEX(Daten_Anteile!$A:$ZZ,MATCH(Berechnung!$B$13&"|Investitionen|"&Berechnung!$B$2,Daten_Anteile!$A$1:$A$2971,0),7)="","",INDEX(Daten_Anteile!$A:$ZZ,MATCH(Berechnung!$B$13&"|Investitionen|"&Berechnung!$B$2,Daten_Anteile!$A$1:$A$2971,0),7)),"") -> 47 | F18: =IFERROR(IF(INDEX(Daten_Anteile!$A:$ZZ,MATCH(Berechnung!$B$13&"|Investitionen|"&Berechnung!$B$2,Daten_Anteile!$A$1:$A$2971,0),8)="","",INDEX(Daten_Anteile!$A:$ZZ,MATCH(Berechnung!$B$13&"|Investitionen|"&Berechnung!$B$2,Daten_Anteile!$A$1:$A$2971,0),8)),"") -> 31 | G18: =IFERROR(IF(INDEX(Daten_Anteile!$A:$ZZ,MATCH(Berechnung!$B$13&"|Investitionen|"&Berechnung!$B$3,Daten_Anteile!$A$1:$A$2971,0),6)="","",INDEX(Daten_Anteile!$A:$ZZ,MATCH(Berechnung!$B$13&"|Investitionen|"&Berechnung!$B$3,Daten_Anteile!$A$1:$A$2971,0),6)),"") -> 21 | H18: =IFERROR(IF(INDEX(Daten_Anteile!$A:$ZZ,MATCH(Berechnung!$B$13&"|Investitionen|"&Berechnung!$B$3,Daten_Anteile!$A$1:$A$2971,0),7)="","",INDEX(Daten_Anteile!$A:$ZZ,MATCH(Berechnung!$B$13&"|Investitionen|"&Berechnung!$B$3,Daten_Anteile!$A$1:$A$2971,0),7)),"") -> 43 | I18: =IFERROR(IF(INDEX(Daten_Anteile!$A:$ZZ,MATCH(Berechnung!$B$13&"|Investitionen|"&Berechnung!$B$3,Daten_Anteile!$A$1:$A$2971,0),8)="","",INDEX(Daten_Anteile!$A:$ZZ,MATCH(Berechnung!$B$13&"|Investitionen|"&Berechnung!$B$3,Daten_Anteile!$A$1:$A$2971,0),8)),"") -> 36 | J18: =IFERROR(IF(INDEX(Daten_Salden!$A:$ZZ,Berechnung!$C$24,Berechnung!$B$5)="","",INDEX(Daten_Salden!$A:$ZZ,Berechnung!$C$24,Berechnung!$B$5)),"") -> -9 | K18: =IFERROR(IF(INDEX(Daten_Salden!$A:$ZZ,Berechnung!$C$24,Berechnung!$B$6)="","",INDEX(Daten_Salden!$A:$ZZ,Berechnung!$C$24,Berechnung!$B$6)),"") -> -15 | L18: =IF(AND(ISNUMBER(J18),ISNUMBER(K18)),ROUND(J18-K18,1),"") -> 6 | M18: =IFERROR(IF(INDEX(Daten_Salden!$A:$ZZ,Berechnung!$C$24,Berechnung!$B$7)="","",INDEX(Daten_Salden!$A:$ZZ,Berechnung!$C$24,Berechnung!$B$7)),"") -> -16 | N18: =IF(AND(ISNUMBER(J18),ISNUMBER(M18)),ROUND(J18-M18,1),"") -> 7 | O18: =IFERROR(IF(INDEX(Daten_Salden!$A:$ZZ,Berechnung!$C$24,4)="","",INDEX(Daten_Salden!$A:$ZZ,Berechnung!$C$24,4)),"") -> 3.757 | P18: =IFERROR(IF(INDEX(Daten_Anteile!$A:$ZZ,MATCH(Berechnung!$B$13&"|Investitionen|"&Berechnung!$B$2,Daten_Anteile!$A$1:$A$2971,0),5)="","",INDEX(Daten_Anteile!$A:$ZZ,MATCH(Berechnung!$B$13&"|Investitionen|"&Berechnung!$B$2,Daten_Anteile!$A$1:$A$2971,0),5)),"") -> 4943
B19: Beschäftigungsabsichten | C19: =Berechnung!$B$14 -> Alle Branchen | D19: =IFERROR(IF(INDEX(Daten_Anteile!$A:$ZZ,MATCH(Berechnung!$B$12&"|Beschäftigung|"&Berechnung!$B$2,Daten_Anteile!$A$1:$A$2971,0),6)="","",INDEX(Daten_Anteile!$A:$ZZ,MATCH(Berechnung!$B$12&"|Beschäftigung|"&Berechnung!$B$2,Daten_Anteile!$A$1:$A$2971,0),6)),"") -> 11 | E19: =IFERROR(IF(INDEX(Daten_Anteile!$A:$ZZ,MATCH(Berechnung!$B$12&"|Beschäftigung|"&Berechnung!$B$2,Daten_Anteile!$A$1:$A$2971,0),7)="","",INDEX(Daten_Anteile!$A:$ZZ,MATCH(Berechnung!$B$12&"|Beschäftigung|"&Berechnung!$B$2,Daten_Anteile!$A$1:$A$2971,0),7)),"") -> 65 | F19: =IFERROR(IF(INDEX(Daten_Anteile!$A:$ZZ,MATCH(Berechnung!$B$12&"|Beschäftigung|"&Berechnung!$B$2,Daten_Anteile!$A$1:$A$2971,0),8)="","",INDEX(Daten_Anteile!$A:$ZZ,MATCH(Berechnung!$B$12&"|Beschäftigung|"&Berechnung!$B$2,Daten_Anteile!$A$1:$A$2971,0),8)),"") -> 24 | G19: =IFERROR(IF(INDEX(Daten_Anteile!$A:$ZZ,MATCH(Berechnung!$B$12&"|Beschäftigung|"&Berechnung!$B$3,Daten_Anteile!$A$1:$A$2971,0),6)="","",INDEX(Daten_Anteile!$A:$ZZ,MATCH(Berechnung!$B$12&"|Beschäftigung|"&Berechnung!$B$3,Daten_Anteile!$A$1:$A$2971,0),6)),"") -> 10 | H19: =IFERROR(IF(INDEX(Daten_Anteile!$A:$ZZ,MATCH(Berechnung!$B$12&"|Beschäftigung|"&Berechnung!$B$3,Daten_Anteile!$A$1:$A$2971,0),7)="","",INDEX(Daten_Anteile!$A:$ZZ,MATCH(Berechnung!$B$12&"|Beschäftigung|"&Berechnung!$B$3,Daten_Anteile!$A$1:$A$2971,0),7)),"") -> 66 | I19: =IFERROR(IF(INDEX(Daten_Anteile!$A:$ZZ,MATCH(Berechnung!$B$12&"|Beschäftigung|"&Berechnung!$B$3,Daten_Anteile!$A$1:$A$2971,0),8)="","",INDEX(Daten_Anteile!$A:$ZZ,MATCH(Berechnung!$B$12&"|Beschäftigung|"&Berechnung!$B$3,Daten_Anteile!$A$1:$A$2971,0),8)),"") -> 24 | J19: =IFERROR(IF(INDEX(Daten_Salden!$A:$ZZ,Berechnung!$B$25,Berechnung!$B$5)="","",INDEX(Daten_Salden!$A:$ZZ,Berechnung!$B$25,Berechnung!$B$5)),"") -> -13 | K19: =IFERROR(IF(INDEX(Daten_Salden!$A:$ZZ,Berechnung!$B$25,Berechnung!$B$6)="","",INDEX(Daten_Salden!$A:$ZZ,Berechnung!$B$25,Berechnung!$B$6)),"") -> -14 | L19: =IF(AND(ISNUMBER(J19),ISNUMBER(K19)),ROUND(J19-K19,1),"") -> 1 | M19: =IFERROR(IF(INDEX(Daten_Salden!$A:$ZZ,Berechnung!$B$25,Berechnung!$B$7)="","",INDEX(Daten_Salden!$A:$ZZ,Berechnung!$B$25,Berechnung!$B$7)),"") -> -13 | N19: =IF(AND(ISNUMBER(J19),ISNUMBER(M19)),ROUND(J19-M19,1),"") -> 0 | O19: =IFERROR(IF(INDEX(Daten_Salden!$A:$ZZ,Berechnung!$B$25,4)="","",INDEX(Daten_Salden!$A:$ZZ,Berechnung!$B$25,4)),"") -> -1.4 | P19: =IFERROR(IF(INDEX(Daten_Anteile!$A:$ZZ,MATCH(Berechnung!$B$12&"|Beschäftigung|"&Berechnung!$B$2,Daten_Anteile!$A$1:$A$2971,0),5)="","",INDEX(Daten_Anteile!$A:$ZZ,MATCH(Berechnung!$B$12&"|Beschäftigung|"&Berechnung!$B$2,Daten_Anteile!$A$1:$A$2971,0),5)),"") -> 22785
C20: =Berechnung!$B$15 -> Industrie | D20: =IFERROR(IF(INDEX(Daten_Anteile!$A:$ZZ,MATCH(Berechnung!$B$13&"|Beschäftigung|"&Berechnung!$B$2,Daten_Anteile!$A$1:$A$2971,0),6)="","",INDEX(Daten_Anteile!$A:$ZZ,MATCH(Berechnung!$B$13&"|Beschäftigung|"&Berechnung!$B$2,Daten_Anteile!$A$1:$A$2971,0),6)),"") -> 12 | E20: =IFERROR(IF(INDEX(Daten_Anteile!$A:$ZZ,MATCH(Berechnung!$B$13&"|Beschäftigung|"&Berechnung!$B$2,Daten_Anteile!$A$1:$A$2971,0),7)="","",INDEX(Daten_Anteile!$A:$ZZ,MATCH(Berechnung!$B$13&"|Beschäftigung|"&Berechnung!$B$2,Daten_Anteile!$A$1:$A$2971,0),7)),"") -> 60 | F20: =IFERROR(IF(INDEX(Daten_Anteile!$A:$ZZ,MATCH(Berechnung!$B$13&"|Beschäftigung|"&Berechnung!$B$2,Daten_Anteile!$A$1:$A$2971,0),8)="","",INDEX(Daten_Anteile!$A:$ZZ,MATCH(Berechnung!$B$13&"|Beschäftigung|"&Berechnung!$B$2,Daten_Anteile!$A$1:$A$2971,0),8)),"") -> 28 | G20: =IFERROR(IF(INDEX(Daten_Anteile!$A:$ZZ,MATCH(Berechnung!$B$13&"|Beschäftigung|"&Berechnung!$B$3,Daten_Anteile!$A$1:$A$2971,0),6)="","",INDEX(Daten_Anteile!$A:$ZZ,MATCH(Berechnung!$B$13&"|Beschäftigung|"&Berechnung!$B$3,Daten_Anteile!$A$1:$A$2971,0),6)),"") -> 11 | H20: =IFERROR(IF(INDEX(Daten_Anteile!$A:$ZZ,MATCH(Berechnung!$B$13&"|Beschäftigung|"&Berechnung!$B$3,Daten_Anteile!$A$1:$A$2971,0),7)="","",INDEX(Daten_Anteile!$A:$ZZ,MATCH(Berechnung!$B$13&"|Beschäftigung|"&Berechnung!$B$3,Daten_Anteile!$A$1:$A$2971,0),7)),"") -> 58 | I20: =IFERROR(IF(INDEX(Daten_Anteile!$A:$ZZ,MATCH(Berechnung!$B$13&"|Beschäftigung|"&Berechnung!$B$3,Daten_Anteile!$A$1:$A$2971,0),8)="","",INDEX(Daten_Anteile!$A:$ZZ,MATCH(Berechnung!$B$13&"|Beschäftigung|"&Berechnung!$B$3,Daten_Anteile!$A$1:$A$2971,0),8)),"") -> 31 | J20: =IFERROR(IF(INDEX(Daten_Salden!$A:$ZZ,Berechnung!$C$25,Berechnung!$B$5)="","",INDEX(Daten_Salden!$A:$ZZ,Berechnung!$C$25,Berechnung!$B$5)),"") -> -16 | K20: =IFERROR(IF(INDEX(Daten_Salden!$A:$ZZ,Berechnung!$C$25,Berechnung!$B$6)="","",INDEX(Daten_Salden!$A:$ZZ,Berechnung!$C$25,Berechnung!$B$6)),"") -> -20 | L20: =IF(AND(ISNUMBER(J20),ISNUMBER(K20)),ROUND(J20-K20,1),"") -> 4 | M20: =IFERROR(IF(INDEX(Daten_Salden!$A:$ZZ,Berechnung!$C$25,Berechnung!$B$7)="","",INDEX(Daten_Salden!$A:$ZZ,Berechnung!$C$25,Berechnung!$B$7)),"") -> -21 | N20: =IF(AND(ISNUMBER(J20),ISNUMBER(M20)),ROUND(J20-M20,1),"") -> 5 | O20: =IFERROR(IF(INDEX(Daten_Salden!$A:$ZZ,Berechnung!$C$25,4)="","",INDEX(Daten_Salden!$A:$ZZ,Berechnung!$C$25,4)),"") -> -3.643 | P20: =IFERROR(IF(INDEX(Daten_Anteile!$A:$ZZ,MATCH(Berechnung!$B$13&"|Beschäftigung|"&Berechnung!$B$2,Daten_Anteile!$A$1:$A$2971,0),5)="","",INDEX(Daten_Anteile!$A:$ZZ,MATCH(Berechnung!$B$13&"|Beschäftigung|"&Berechnung!$B$2,Daten_Anteile!$A$1:$A$2971,0),5)),"") -> 5658
B21: Stimmungsindex | C21: =Berechnung!$B$14 -> Alle Branchen | J21: =IF(AND(ISNUMBER(J11),ISNUMBER(J13)),ROUND(SQRT((100+J11)*(100+J13)),1),"") -> 94.7 | K21: =IF(AND(ISNUMBER(K11),ISNUMBER(K13)),ROUND(SQRT((100+K11)*(100+K13)),1),"") -> 88.1 | L21: =IF(AND(ISNUMBER(J21),ISNUMBER(K21)),ROUND(J21-K21,1),"") -> 6.6 | M21: =IF(AND(ISNUMBER(M11),ISNUMBER(M13)),ROUND(SQRT((100+M11)*(100+M13)),1),"") -> 93.8 | N21: =IF(AND(ISNUMBER(J21),ISNUMBER(M21)),ROUND(J21-M21,1),"") -> 0.9
C22: =Berechnung!$B$15 -> Industrie | J22: =IF(AND(ISNUMBER(J12),ISNUMBER(J14)),ROUND(SQRT((100+J12)*(100+J14)),1),"") -> 97.5 | K22: =IF(AND(ISNUMBER(K12),ISNUMBER(K14)),ROUND(SQRT((100+K12)*(100+K14)),1),"") -> 88.4 | L22: =IF(AND(ISNUMBER(J22),ISNUMBER(K22)),ROUND(J22-K22,1),"") -> 9.1 | M22: =IF(AND(ISNUMBER(M12),ISNUMBER(M14)),ROUND(SQRT((100+M12)*(100+M14)),1),"") -> 87.9 | N22: =IF(AND(ISNUMBER(J22),ISNUMBER(M22)),ROUND(J22-M22,1),"") -> 9.6
B23: Salden = Anteil positiv minus Anteil negativ. Exporterwartungen: nur Unternehmen mit Exportgeschäft.
B24: Stimmungsindex = Wurzel aus (100 + Saldo Lage) × (100 + Saldo Erwartungen). n = Antworten zur jeweiligen Frage.
B26: Legende Zeitreihen | C26: ="━━ A: "&Berechnung!$B$14 -> ━━ A: Alle Branchen | G26: =IF(Berechnung!$B$15="","","━━ B: "&Berechnung!$B$15) -> ━━ B: Industrie | L26: ┄┄ Schnitt seit 2003 (A)
K64: Hinweise
K65: • Zeitreihen: Legende oben; B abschaltbar mit „(kein Vergleich)“.
K66: • Anteile, Risiken, Motive: nur Auswahl A.
K67: • Zeitreihen: Zeitraum oben wählbar (von/bis), ab Herbst 2003.
K68: • Risiken/Motive: Anteile in %, Mehrfachnennungen.
K69: • n < 30: Werte schwanken stark.

Sheet Branchenvergleich
A1: ="Branchenvergleich – "&$C$3 -> Branchenvergleich – Herbst 2026 | BK1: =IFERROR(MATCH($C$3,Daten_Salden!$1:$1,0),-1) -> 74
BK2: =IFERROR(MATCH(INDEX(Listen!$I$2:$I$71,MATCH($C$3,Listen!$I$2:$I$71,0)-1),Daten_Salden!$1:$1,0),-1) -> 73
B3: Umfrage | C3: Herbst 2026 | H3: Salden in Punkten; Δ VU = Veränderung zur Vorumfrage, Δ VJ = zum Vorjahr (bei Risiken/Motiven in Prozentpunkten; Risiken: rot = häufiger genannt). Filterpfeile zum Sortieren/Filtern; Spalte „Nr.“ aufsteigend sortieren = ursprüngliche Reihenfolge. | BK3: =IFERROR(MATCH(LEFT($C$3,LEN($C$3)-4)&(VALUE(RIGHT($C$3,4))-1),Daten_Salden!$1:$1,0),-1) -> 71
H4: Grau und kursiv: weniger als 30 Antworten – Werte mit Vorsicht interpretieren. | BK4: =IFERROR(MATCH($C$3,Daten_Risiken!$1:$1,0),-1) -> 55
BK5: =IFERROR(MATCH(INDEX(Listen!$I$2:$I$71,MATCH($C$3,Listen!$I$2:$I$71,0)-1),Daten_Risiken!$1:$1,0),-1) -> 54
F6: Stimmung und Standardfragen (Salden in Punkten) | X6: Geschäftsrisiken (Anteile in %) | AV6: Investitionsmotive (Anteile in %) | BK6: =IFERROR(MATCH(LEFT($C$3,LEN($C$3)-4)&(VALUE(RIGHT($C$3,4))-1),Daten_Risiken!$1:$1,0),-1) -> 52
F7: Stimmungsindex | I7: Geschäftslage | L7: Geschäftserwartungen | O7: Exporterwartungen | R7: Investitionsabsichten | U7: Beschäftigungsabsichten | X7: Energie/Rohstoffe | AA7: Arbeitskosten | AD7: Inlandsnachfrage | AG7: Wirtschaftspolitik | AJ7: Fachkräftemangel | AM7: Auslandsnachfrage | AP7: Finanzierung | AS7: Wechselkurs | AV7: Ersatzbedarf | AY7: Rationalisierung | BB7: Innovation | BE7: Umweltschutz | BH7: Kapazität | BK7: =IFERROR(MATCH($C$3,Daten_Motive!$1:$1,0),-1) -> 56
A8: Nr. | B8: Branche | C8: WZ-Code | D8: Wirtschafts-zweig | E8: n (Lage) | F8: Index | G8: Δ VU | H8: Δ VJ | I8: Saldo | J8: Δ VU | K8: Δ VJ | L8: Saldo | M8: Δ VU | N8: Δ VJ | O8: Saldo | P8: Δ VU | Q8: Δ VJ | R8: Saldo | S8: Δ VU | T8: Δ VJ | U8: Saldo | V8: Δ VU | W8: Δ VJ | X8: % | Y8: Δ VU | Z8: Δ VJ | AA8: % | AB8: Δ VU | AC8: Δ VJ | AD8: % | AE8: Δ VU | AF8: Δ VJ | AG8: % | AH8: Δ VU | AI8: Δ VJ | AJ8: % | AK8: Δ VU | AL8: Δ VJ | AM8: % | AN8: Δ VU | AO8: Δ VJ | AP8: % | AQ8: Δ VU | AR8: Δ VJ | AS8: % | AT8: Δ VU | AU8: Δ VJ | AV8: % | AW8: Δ VU | AX8: Δ VJ | AY8: % | AZ8: Δ VU | BA8: Δ VJ | BB8: % | BC8: Δ VU | BD8: Δ VJ | BE8: % | BF8: Δ VU | BG8: Δ VJ | BH8: % | BI8: Δ VU | BJ8: Δ VJ | BK8: =IFERROR(MATCH(INDEX(Listen!$I$2:$I$71,MATCH($C$3,Listen!$I$2:$I$71,0)-1),Daten_Motive!$1:$1,0),-1) -> 55
A9: 1 | B9: =Listen!A2 -> Alle Branchen | C9: 05 bis 96 ohne 84 und 94 | D9: =Listen!B2 -> Gesamt | E9: =IFERROR(IF(INDEX(Daten_Anteile!$A:$ZZ,MATCH($B9&"|Lage|"&$C$3,Daten_Anteile!$A$1:$A$2971,0),5)="","",INDEX(Daten_Anteile!$A:$ZZ,MATCH($B9&"|Lage|"&$C$3,Daten_Anteile!$A$1:$A$2971,0),5)),"") -> 23549 | F9: =IF(AND(ISNUMBER(I9),ISNUMBER(L9)),ROUND(SQRT((100+I9)*(100+L9)),1),"") -> 94.7 | G9: =IF(AND(ISNUMBER(F9),ISNUMBER(J9),ISNUMBER(M9)),ROUND(F9-SQRT((100+I9-J9)*(100+L9-M9)),1),"") -> 6.6 | H9: =IF(AND(ISNUMBER(F9),ISNUMBER(K9),ISNUMBER(N9)),ROUND(F9-SQRT((100+I9-K9)*(100+L9-N9)),1),"") -> 0.9 | I9: =IFERROR(IF(INDEX(Daten_Salden!$A:$ZZ,MATCH($B9&"|Lage",Daten_Salden!$A$1:$A$331,0),$BK$1)="","",INDEX(Daten_Salden!$A:$ZZ,MATCH($B9&"|Lage",Daten_Salden!$A$1:$A$331,0),$BK$1)),"") -> 3 | J9: =IFERROR(I9-IFERROR(IF(INDEX(Daten_Salden!$A:$ZZ,MATCH($B9&"|Lage",Daten_Salden!$A$1:$A$331,0),$BK$2)="",NA(),INDEX(Daten_Salden!$A:$ZZ,MATCH($B9&"|Lage",Daten_Salden!$A$1:$A$331,0),$BK$2)),NA()),"") -> 6 | K9: =IFERROR(I9-IFERROR(IF(INDEX(Daten_Salden!$A:$ZZ,MATCH($B9&"|Lage",Daten_Salden!$A$1:$A$331,0),$BK$3)="",NA(),INDEX(Daten_Salden!$A:$ZZ,MATCH($B9&"|Lage",Daten_Salden!$A$1:$A$331,0),$BK$3)),NA()),"") -> 3 | L9: =IFERROR(IF(INDEX(Daten_Salden!$A:$ZZ,MATCH($B9&"|Erwartungen",Daten_Salden!$A$1:$A$331,0),$BK$1)="","",INDEX(Daten_Salden!$A:$ZZ,MATCH($B9&"|Erwartungen",Daten_Salden!$A$1:$A$331,0),$BK$1)),"") -> -13 | M9: =IFERROR(L9-IFERROR(IF(INDEX(Daten_Salden!$A:$ZZ,MATCH($B9&"|Erwartungen",Daten_Salden!$A$1:$A$331,0),$BK$2)="",NA(),INDEX(Daten_Salden!$A:$ZZ,MATCH($B9&"|Erwartungen",Daten_Salden!$A$1:$A$331,0),$BK$2)),NA()),"") -> 7 | N9: =IFERROR(L9-IFERROR(IF(INDEX(Daten_Salden!$A:$ZZ,MATCH($B9&"|Erwartungen",Daten_Salden!$A$1:$A$331,0),$BK$3)="",NA(),INDEX(Daten_Salden!$A:$ZZ,MATCH($B9&"|Erwartungen",Daten_Salden!$A$1:$A$331,0),$BK$3)),NA()),"") -> -1 | O9: =IFERROR(IF(INDEX(Daten_Salden!$A:$ZZ,MATCH($B9&"|Export",Daten_Salden!$A$1:$A$331,0),$BK$1)="","",INDEX(Daten_Salden!$A:$ZZ,MATCH($B9&"|Export",Daten_Salden!$A$1:$A$331,0),$BK$1)),"") | P9: =IFERROR(O9-IFERROR(IF(INDEX(Daten_Salden!$A:$ZZ,MATCH($B9&"|Export",Daten_Salden!$A$1:$A$331,0),$BK$2)="",NA(),INDEX(Daten_Salden!$A:$ZZ,MATCH($B9&"|Export",Daten_Salden!$A$1:$A$331,0),$BK$2)),NA()),"") | Q9: =IFERROR(O9-IFERROR(IF(INDEX(Daten_Salden!$A:$ZZ,MATCH($B9&"|Export",Daten_Salden!$A$1:$A$331,0),$BK$3)="",NA(),INDEX(Daten_Salden!$A:$ZZ,MATCH($B9&"|Export",Daten_Salden!$A$1:$A$331,0),$BK$3)),NA()),"") | R9: =IFERROR(IF(INDEX(Daten_Salden!$A:$ZZ,MATCH($B9&"|Investitionen",Daten_Salden!$A$1:$A$331,0),$BK$1)="","",INDEX(Daten_Salden!$A:$ZZ,MATCH($B9&"|Investitionen",Daten_Salden!$A$1:$A$331,0),$BK$1)),"") -> -6 | S9: =IFERROR(R9-IFERROR(IF(INDEX(Daten_Salden!$A:$ZZ,MATCH($B9&"|Investitionen",Daten_Salden!$A$1:$A$331,0),$BK$2)="",NA(),INDEX(Daten_Salden!$A:$ZZ,MATCH($B9&"|Investitionen",Daten_Salden!$A$1:$A$331,0),$BK$2)),NA()),"") -> 5 | T9: =IFERROR(R9-IFERROR(IF(INDEX(Daten_Salden!$A:$ZZ,MATCH($B9&"|Investitionen",Daten_Salden!$A$1:$A$331,0),$BK$3)="",NA(),INDEX(Daten_Salden!$A:$ZZ,MATCH($B9&"|Investitionen",Daten_Salden!$A$1:$A$331,0),$BK$3)),NA()),"") -> 3 | U9: =IFERROR(IF(INDEX(Daten_Salden!$A:$ZZ,MATCH($B9&"|Beschäftigung",Daten_Salden!$A$1:$A$331,0),$BK$1)="","",INDEX(Daten_Salden!$A:$ZZ,MATCH($B9&"|Beschäftigung",Daten_Salden!$A$1:$A$331,0),$BK$1)),"") -> -13 | V9: =IFERROR(U9-IFERROR(IF(INDEX(Daten_Salden!$A:$ZZ,MATCH($B9&"|Beschäftigung",Daten_Salden!$A$1:$A$331,0),$BK$2)="",NA(),INDEX(Daten_Salden!$A:$ZZ,MATCH($B9&"|Beschäftigung",Daten_Salden!$A$1:$A$331,0),$BK$2)),NA()),"") -> 1 | W9: =IFERROR(U9-IFERROR(IF(INDEX(Daten_Salden!$A:$ZZ,MATCH($B9&"|Beschäftigung",Daten_Salden!$A$1:$A$331,0),$BK$3)="",NA(),INDEX(Daten_Salden!$A:$ZZ,MATCH($B9&"|Beschäftigung",Daten_Salden!$A$1:$A$331,0),$BK$3)),NA()),"") -> 0 | X9: =IFERROR(IF(INDEX(Daten_Risiken!$A:$ZZ,MATCH($B9&"|Energie- und Rohstoffpreise",Daten_Risiken!$A$1:$A$529,0),$BK$4)="","",INDEX(Daten_Risiken!$A:$ZZ,MATCH($B9&"|Energie- und Rohstoffpreise",Daten_Risiken!$A$1:$A$529,0),$BK$4)),"") -> 67 | Y9: =IFERROR(X9-IFERROR(IF(INDEX(Daten_Risiken!$A:$ZZ,MATCH($B9&"|Energie- und Rohstoffpreise",Daten_Risiken!$A$1:$A$529,0),$BK$5)="",NA(),INDEX(Daten_Risiken!$A:$ZZ,MATCH($B9&"|Energie- und Rohstoffpreise",Daten_Risiken!$A$1:$A$529,0),$BK$5)),NA()),"") -> -3 | Z9: =IFERROR(X9-IFERROR(IF(INDEX(Daten_Risiken!$A:$ZZ,MATCH($B9&"|Energie- und Rohstoffpreise",Daten_Risiken!$A$1:$A$529,0),$BK$6)="",NA(),INDEX(Daten_Risiken!$A:$ZZ,MATCH($B9&"|Energie- und Rohstoffpreise",Daten_Risiken!$A$1:$A$529,0),$BK$6)),NA()),"") -> 18 | AA9: =IFERROR(IF(INDEX(Daten_Risiken!$A:$ZZ,MATCH($B9&"|Arbeitskosten",Daten_Risiken!$A$1:$A$529,0),$BK$4)="","",INDEX(Daten_Risiken!$A:$ZZ,MATCH($B9&"|Arbeitskosten",Daten_Risiken!$A$1:$A$529,0),$BK$4)),"") -> 56 | AB9: =IFERROR(AA9-IFERROR(IF(INDEX(Daten_Risiken!$A:$ZZ,MATCH($B9&"|Arbeitskosten",Daten_Risiken!$A$1:$A$529,0),$BK$5)="",NA(),INDEX(Daten_Risiken!$A:$ZZ,MATCH($B9&"|Arbeitskosten",Daten_Risiken!$A$1:$A$529,0),$BK$5)),NA()),"") -> -1 | AC9: =IFERROR(AA9-IFERROR(IF(INDEX(Daten_Risiken!$A:$ZZ,MATCH($B9&"|Arbeitskosten",Daten_Risiken!$A$1:$A$529,0),$BK$6)="",NA(),INDEX(Daten_Risiken!$A:$ZZ,MATCH($B9&"|Arbeitskosten",Daten_Risiken!$A$1:$A$529,0),$BK$6)),NA()),"") -> 0 | AD9: =IFERROR(IF(INDEX(Daten_Risiken!$A:$ZZ,MATCH($B9&"|Inlandsnachfrage",Daten_Risiken!$A$1:$A$529,0),$BK$4)="","",INDEX(Daten_Risiken!$A:$ZZ,MATCH($B9&"|Inlandsnachfrage",Daten_Risiken!$A$1:$A$529,0),$BK$4)),"") -> 54 | AE9: =IFERROR(AD9-IFERROR(IF(INDEX(Daten_Risiken!$A:$ZZ,MATCH($B9&"|Inlandsnachfrage",Daten_Risiken!$A$1:$A$529,0),$BK$5)="",NA(),INDEX(Daten_Risiken!$A:$ZZ,MATCH($B9&"|Inlandsnachfrage",Daten_Risiken!$A$1:$A$529,0),$BK$5)),NA()),"") -> -2 | AF9: =IFERROR(AD9-IFERROR(IF(INDEX(Daten_Risiken!$A:$ZZ,MATCH($B9&"|Inlandsnachfrage",Daten_Risiken!$A$1:$A$529,0),$BK$6)="",NA(),INDEX(Daten_Risiken!$A:$ZZ,MATCH($B9&"|Inlandsnachfrage",Daten_Risiken!$A$1:$A$529,0),$BK$6)),NA()),"") -> -4 | AG9: =IFERROR(IF(INDEX(Daten_Risiken!$A:$ZZ,MATCH($B9&"|Wirtschaftspolitische Rahmenbedingungen",Daten_Risiken!$A$1:$A$529,0),$BK$4)="","",INDEX(Daten_Risiken!$A:$ZZ,MATCH($B9&"|Wirtschaftspolitische Rahmenbedingungen",Daten_Risiken!$A$1:$A$529,0),$BK$4)),"") -> 58 | AH9: =IFERROR(AG9-IFERROR(IF(INDEX(Daten_Risiken!$A:$ZZ,MATCH($B9&"|Wirtschaftspolitische Rahmenbedingungen",Daten_Risiken!$A$1:$A$529,0),$BK$5)="",NA(),INDEX(Daten_Risiken!$A:$ZZ,MATCH($B9&"|Wirtschaftspolitische Rahmenbedingungen",Daten_Risiken!$A$1:$A$529,0),$BK$5)),NA()),"") -> 0 | AI9: =IFERROR(AG9-IFERROR(IF(INDEX(Daten_Risiken!$A:$ZZ,MATCH($B9&"|Wirtschaftspolitische Rahmenbedingungen",Daten_Risiken!$A$1:$A$529,0),$BK$6)="",NA(),INDEX(Daten_Risiken!$A:$ZZ,MATCH($B9&"|Wirtschaftspolitische Rahmenbedingungen",Daten_Risiken!$A$1:$A$529,0),$BK$6)),NA()),"") -> 1 | AJ9: =IFERROR(IF(INDEX(Daten_Risiken!$A:$ZZ,MATCH($B9&"|Fachkräftemangel",Daten_Risiken!$A$1:$A$529,0),$BK$4)="","",INDEX(Daten_Risiken!$A:$ZZ,MATCH($B9&"|Fachkräftemangel",Daten_Risiken!$A$1:$A$529,0),$BK$4)),"") -> 36 | AK9: =IFERROR(AJ9-IFERROR(IF(INDEX(Daten_Risiken!$A:$ZZ,MATCH($B9&"|Fachkräftemangel",Daten_Risiken!$A$1:$A$529,0),$BK$5)="",NA(),INDEX(Daten_Risiken!$A:$ZZ,MATCH($B9&"|Fachkräftemangel",Daten_Risiken!$A$1:$A$529,0),$BK$5)),NA()),"") -> 0 | AL9: =IFERROR(AJ9-IFERROR(IF(INDEX(Daten_Risiken!$A:$ZZ,MATCH($B9&"|Fachkräftemangel",Daten_Risiken!$A$1:$A$529,0),$BK$6)="",NA(),INDEX(Daten_Risiken!$A:$ZZ,MATCH($B9&"|Fachkräftemangel",Daten_Risiken!$A$1:$A$529,0),$BK$6)),NA()),"") -> -8 | AM9: =IFERROR(IF(INDEX(Daten_Risiken!$A:$ZZ,MATCH($B9&"|Auslandsnachfrage",Daten_Risiken!$A$1:$A$529,0),$BK$4)="","",INDEX(Daten_Risiken!$A:$ZZ,MATCH($B9&"|Auslandsnachfrage",Daten_Risiken!$A$1:$A$529,0),$BK$4)),"") | AN9: =IFERROR(AM9-IFERROR(IF(INDEX(Daten_Risiken!$A:$ZZ,MATCH($B9&"|Auslandsnachfrage",Daten_Risiken!$A$1:$A$529,0),$BK$5)="",NA(),INDEX(Daten_Risiken!$A:$ZZ,MATCH($B9&"|Auslandsnachfrage",Daten_Risiken!$A$1:$A$529,0),$BK$5)),NA()),"") | AO9: =IFERROR(AM9-IFERROR(IF(INDEX(Daten_Risiken!$A:$ZZ,MATCH($B9&"|Auslandsnachfrage",Daten_Risiken!$A$1:$A$529,0),$BK$6)="",NA(),INDEX(Daten_Risiken!$A:$ZZ,MATCH($B9&"|Auslandsnachfrage",Daten_Risiken!$A$1:$A$529,0),$BK$6)),NA()),"") | AP9: =IFERROR(IF(INDEX(Daten_Risiken!$A:$ZZ,MATCH($B9&"|Finanzierung",Daten_Risiken!$A$1:$A$529,0),$BK$4)="","",INDEX(Daten_Risiken!$A:$ZZ,MATCH($B9&"|Finanzierung",Daten_Risiken!$A$1:$A$529,0),$BK$4)),"") -> 16 | AQ9: =IFERROR(AP9-IFERROR(IF(INDEX(Daten_Risiken!$A:$ZZ,MATCH($B9&"|Finanzierung",Daten_Risiken!$A$1:$A$529,0),$BK$5)="",NA(),INDEX(Daten_Risiken!$A:$ZZ,MATCH($B9&"|Finanzierung",Daten_Risiken!$A$1:$A$529,0),$BK$5)),NA()),"") -> 1 | AR9: =IFERROR(AP9-IFERROR(IF(INDEX(Daten_Risiken!$A:$ZZ,MATCH($B9&"|Finanzierung",Daten_Risiken!$A$1:$A$529,0),$BK$6)="",NA(),INDEX(Daten_Risiken!$A:$ZZ,MATCH($B9&"|Finanzierung",Daten_Risiken!$A$1:$A$529,0),$BK$6)),NA()),"") -> 2 | AS9: =IFERROR(IF(INDEX(Daten_Risiken!$A:$ZZ,MATCH($B9&"|Wechselkurs",Daten_Risiken!$A$1:$A$529,0),$BK$4)="","",INDEX(Daten_Risiken!$A:$ZZ,MATCH($B9&"|Wechselkurs",Daten_Risiken!$A$1:$A$529,0),$BK$4)),"") | AT9: =IFERROR(AS9-IFERROR(IF(INDEX(Daten_Risiken!$A:$ZZ,MATCH($B9&"|Wechselkurs",Daten_Risiken!$A$1:$A$529,0),$BK$5)="",NA(),INDEX(Daten_Risiken!$A:$ZZ,MATCH($B9&"|Wechselkurs",Daten_Risiken!$A$1:$A$529,0),$BK$5)),NA()),"") | AU9: =IFERROR(AS9-IFERROR(IF(INDEX(Daten_Risiken!$A:$ZZ,MATCH($B9&"|Wechselkurs",Daten_Risiken!$A$1:$A$529,0),$BK$6)="",NA(),INDEX(Daten_Risiken!$A:$ZZ,MATCH($B9&"|Wechselkurs",Daten_Risiken!$A$1:$A$529,0),$BK$6)),NA()),"") | AV9: =IFERROR(IF(INDEX(Daten_Motive!$A:$ZZ,MATCH($B9&"|Ersatzbedarf",Daten_Motive!$A$1:$A$331,0),$BK$7)="","",INDEX(Daten_Motive!$A:$ZZ,MATCH($B9&"|Ersatzbedarf",Daten_Motive!$A$1:$A$331,0),$BK$7)),"") -> 66 | AW9: =IFERROR(AV9-IFERROR(IF(INDEX(Daten_Motive!$A:$ZZ,MATCH($B9&"|Ersatzbedarf",Daten_Motive!$A$1:$A$331,0),$BK$8)="",NA(),INDEX(Daten_Motive!$A:$ZZ,MATCH($B9&"|Ersatzbedarf",Daten_Motive!$A$1:$A$331,0),$BK$8)),NA()),"") -> -1 | AX9: =IFERROR(AV9-IFERROR(IF(INDEX(Daten_Motive!$A:$ZZ,MATCH($B9&"|Ersatzbedarf",Daten_Motive!$A$1:$A$331,0),$BK$9)="",NA(),INDEX(Daten_Motive!$A:$ZZ,MATCH($B9&"|Ersatzbedarf",Daten_Motive!$A$1:$A$331,0),$BK$9)),NA()),"") -> -1 | AY9: =IFERROR(IF(INDEX(Daten_Motive!$A:$ZZ,MATCH($B9&"|Rationalisierung",Daten_Motive!$A$1:$A$331,0),$BK$7)="","",INDEX(Daten_Motive!$A:$ZZ,MATCH($B9&"|Rationalisierung",Daten_Motive!$A$1:$A$331,0),$BK$7)),"") -> 34 | AZ9: =IFERROR(AY9-IFERROR(IF(INDEX(Daten_Motive!$A:$ZZ,MATCH($B9&"|Rationalisierung",Daten_Motive!$A$1:$A$331,0),$BK$8)="",NA(),INDEX(Daten_Motive!$A:$ZZ,MATCH($B9&"|Rationalisierung",Daten_Motive!$A$1:$A$331,0),$BK$8)),NA()),"") -> 0 | BA9: =IFERROR(AY9-IFERROR(IF(INDEX(Daten_Motive!$A:$ZZ,MATCH($B9&"|Rationalisierung",Daten_Motive!$A$1:$A$331,0),$BK$9)="",NA(),INDEX(Daten_Motive!$A:$ZZ,MATCH($B9&"|Rationalisierung",Daten_Motive!$A$1:$A$331,0),$BK$9)),NA()),"") -> 1 | BB9: =IFERROR(IF(INDEX(Daten_Motive!$A:$ZZ,MATCH($B9&"|Produktinnovation",Daten_Motive!$A$1:$A$331,0),$BK$7)="","",INDEX(Daten_Motive!$A:$ZZ,MATCH($B9&"|Produktinnovation",Daten_Motive!$A$1:$A$331,0),$BK$7)),"") -> 28 | BC9: =IFERROR(BB9-IFERROR(IF(INDEX(Daten_Motive!$A:$ZZ,MATCH($B9&"|Produktinnovation",Daten_Motive!$A$1:$A$331,0),$BK$8)="",NA(),INDEX(Daten_Motive!$A:$ZZ,MATCH($B9&"|Produktinnovation",Daten_Motive!$A$1:$A$331,0),$BK$8)),NA()),"") -> 1 | BD9: =IFERROR(BB9-IFERROR(IF(INDEX(Daten_Motive!$A:$ZZ,MATCH($B9&"|Produktinnovation",Daten_Motive!$A$1:$A$331,0),$BK$9)="",NA(),INDEX(Daten_Motive!$A:$ZZ,MATCH($B9&"|Produktinnovation",Daten_Motive!$A$1:$A$331,0),$BK$9)),NA()),"") -> 0 | BE9: =IFERROR(IF(INDEX(Daten_Motive!$A:$ZZ,MATCH($B9&"|Umweltschutz",Daten_Motive!$A$1:$A$331,0),$BK$7)="","",INDEX(Daten_Motive!$A:$ZZ,MATCH($B9&"|Umweltschutz",Daten_Motive!$A$1:$A$331,0),$BK$7)),"") -> 17 | BF9: =IFERROR(BE9-IFERROR(IF(INDEX(Daten_Motive!$A:$ZZ,MATCH($B9&"|Umweltschutz",Daten_Motive!$A$1:$A$331,0),$BK$8)="",NA(),INDEX(Daten_Motive!$A:$ZZ,MATCH($B9&"|Umweltschutz",Daten_Motive!$A$1:$A$331,0),$BK$8)),NA()),"") -> 1 | BG9: =IFERROR(BE9-IFERROR(IF(INDEX(Daten_Motive!$A:$ZZ,MATCH($B9&"|Umweltschutz",Daten_Motive!$A$1:$A$331,0),$BK$9)="",NA(),INDEX(Daten_Motive!$A:$ZZ,MATCH($B9&"|Umweltschutz",Daten_Motive!$A$1:$A$331,0),$BK$9)),NA()),"") -> -1 | BH9: =IFERROR(IF(INDEX(Daten_Motive!$A:$ZZ,MATCH($B9&"|Kapazitätserweiterung",Daten_Motive!$A$1:$A$331,0),$BK$7)="","",INDEX(Daten_Motive!$A:$ZZ,MATCH($B9&"|Kapazitätserweiterung",Daten_Motive!$A$1:$A$331,0),$BK$7)),"") -> 19 | BI9: =IFERROR(BH9-IFERROR(IF(INDEX(Daten_Motive!$A:$ZZ,MATCH($B9&"|Kapazitätserweiterung",Daten_Motive!$A$1:$A$331,0),$BK$8)="",NA(),INDEX(Daten_Motive!$A:$ZZ,MATCH($B9&"|Kapazitätserweiterung",Daten_Motive!$A$1:$A$331,0),$BK$8)),NA()),"") -> 0 | BJ9: =IFERROR(BH9-IFERROR(IF(INDEX(Daten_Motive!$A:$ZZ,MATCH($B9&"|Kapazitätserweiterung",Daten_Motive!$A$1:$A$331,0),$BK$9)="",NA(),INDEX(Daten_Motive!$A:$ZZ,MATCH($B9&"|Kapazitätserweiterung",Daten_Motive!$A$1:$A$331,0),$BK$9)),NA()),"") -> 0 | BK9: =IFERROR(MATCH(LEFT($C$3,LEN($C$3)-4)&(VALUE(RIGHT($C$3,4))-1),Daten_Motive!$1:$1,0),-1) -> 53
A10: 2 | B10: =Listen!A3 -> Industrie (ohne Baugewerbe) | C10: 05 bis 39 | D10: =Listen!B3 -> Industrie | E10: =IFERROR(IF(INDEX(Daten_Anteile!$A:$ZZ,MATCH($B10&"|Lage|"&$C$3,Daten_Anteile!$A$1:$A$2971,0),5)="","",INDEX(Daten_Anteile!$A:$ZZ,MATCH($B10&"|Lage|"&$C$3,Daten_Anteile!$A$1:$A$2971,0),5)),"") -> 5866 | F10: =IF(AND(ISNUMBER(I10),ISNUMBER(L10)),ROUND(SQRT((100+I10)*(100+L10)),1),"") -> 97.5 | G10: =IF(AND(ISNUMBER(F10),ISNUMBER(J10),ISNUMBER(M10)),ROUND(F10-SQRT((100+I10-J10)*(100+L10-M10)),1),"") -> 9.1 | H10: =IF(AND(ISNUMBER(F10),ISNUMBER(K10),ISNUMBER(N10)),ROUND(F10-SQRT((100+I10-K10)*(100+L10-N10)),1),"") -> 9.6 | I10: =IFERROR(IF(INDEX(Daten_Salden!$A:$ZZ,MATCH($B10&"|Lage",Daten_Salden!$A$1:$A$331,0),$BK$1)="","",INDEX(Daten_Salden!$A:$ZZ,MATCH($B10&"|Lage",Daten_Salden!$A$1:$A$331,0),$BK$1)),"") -> -1 | J10: =IFERROR(I10-IFERROR(IF(INDEX(Daten_Salden!$A:$ZZ,MATCH($B10&"|Lage",Daten_Salden!$A$1:$A$331,0),$BK$2)="",NA(),INDEX(Daten_Salden!$A:$ZZ,MATCH($B10&"|Lage",Daten_Salden!$A$1:$A$331,0),$BK$2)),NA()),"") -> 6 | K10: =IFERROR(I10-IFERROR(IF(INDEX(Daten_Salden!$A:$ZZ,MATCH($B10&"|Lage",Daten_Salden!$A$1:$A$331,0),$BK$3)="",NA(),INDEX(Daten_Salden!$A:$ZZ,MATCH($B10&"|Lage",Daten_Salden!$A$1:$A$331,0),$BK$3)),NA()),"") -> 14 | L10: =IFERROR(IF(INDEX(Daten_Salden!$A:$ZZ,MATCH($B10&"|Erwartungen",Daten_Salden!$A$1:$A$331,0),$BK$1)="","",INDEX(Daten_Salden!$A:$ZZ,MATCH($B10&"|Erwartungen",Daten_Salden!$A$1:$A$331,0),$BK$1)),"") -> -4 | M10: =IFERROR(L10-IFERROR(IF(INDEX(Daten_Salden!$A:$ZZ,MATCH($B10&"|Erwartungen",Daten_Salden!$A$1:$A$331,0),$BK$2)="",NA(),INDEX(Daten_Salden!$A:$ZZ,MATCH($B10&"|Erwartungen",Daten_Salden!$A$1:$A$331,0),$BK$2)),NA()),"") -> 12 | N10: =IFERROR(L10-IFERROR(IF(INDEX(Daten_Salden!$A:$ZZ,MATCH($B10&"|Erwartungen",Daten_Salden!$A$1:$A$331,0),$BK$3)="",NA(),INDEX(Daten_Salden!$A:$ZZ,MATCH($B10&"|Erwartungen",Daten_Salden!$A$1:$A$331,0),$BK$3)),NA()),"") -> 5 | O10: =IFERROR(IF(INDEX(Daten_Salden!$A:$ZZ,MATCH($B10&"|Export",Daten_Salden!$A$1:$A$331,0),$BK$1)="","",INDEX(Daten_Salden!$A:$ZZ,MATCH($B10&"|Export",Daten_Salden!$A$1:$A$331,0),$BK$1)),"") -> 3 | P10: =IFERROR(O10-IFERROR(IF(INDEX(Daten_Salden!$A:$ZZ,MATCH($B10&"|Export",Daten_Salden!$A$1:$A$331,0),$BK$2)="",NA(),INDEX(Daten_Salden!$A:$ZZ,MATCH($B10&"|Export",Daten_Salden!$A$1:$A$331,0),$BK$2)),NA()),"") -> 13 | Q10: =IFERROR(O10-IFERROR(IF(INDEX(Daten_Salden!$A:$ZZ,MATCH($B10&"|Export",Daten_Salden!$A$1:$A$331,0),$BK$3)="",NA(),INDEX(Daten_Salden!$A:$ZZ,MATCH($B10&"|Export",Daten_Salden!$A$1:$A$331,0),$BK$3)),NA()),"") -> 13 | R10: =IFERROR(IF(INDEX(Daten_Salden!$A:$ZZ,MATCH($B10&"|Investitionen",Daten_Salden!$A$1:$A$331,0),$BK$1)="","",INDEX(Daten_Salden!$A:$ZZ,MATCH($B10&"|Investitionen",Daten_Salden!$A$1:$A$331,0),$BK$1)),"") -> -9 | S10: =IFERROR(R10-IFERROR(IF(INDEX(Daten_Salden!$A:$ZZ,MATCH($B10&"|Investitionen",Daten_Salden!$A$1:$A$331,0),$BK$2)="",NA(),INDEX(Daten_Salden!$A:$ZZ,MATCH($B10&"|Investitionen",Daten_Salden!$A$1:$A$331,0),$BK$2)),NA()),"") -> 6 | T10: =IFERROR(R10-IFERROR(IF(INDEX(Daten_Salden!$A:$ZZ,MATCH($B10&"|Investitionen",Daten_Salden!$A$1:$A$331,0),$BK$3)="",NA(),INDEX(Daten_Salden!$A:$ZZ,MATCH($B10&"|Investitionen",Daten_Salden!$A$1:$A$331,0),$BK$3)),NA()),"") -> 7 | U10: =IFERROR(IF(INDEX(Daten_Salden!$A:$ZZ,MATCH($B10&"|Beschäftigung",Daten_Salden!$A$1:$A$331,0),$BK$1)="","",INDEX(Daten_Salden!$A:$ZZ,MATCH($B10&"|Beschäftigung",Daten_Salden!$A$1:$A$331,0),$BK$1)),"") -> -16 | V10: =IFERROR(U10-IFERROR(IF(INDEX(Daten_Salden!$A:$ZZ,MATCH($B10&"|Beschäftigung",Daten_Salden!$A$1:$A$331,0),$BK$2)="",NA(),INDEX(Daten_Salden!$A:$ZZ,MATCH($B10&"|Beschäftigung",Daten_Salden!$A$1:$A$331,0),$BK$2)),NA()),"") -> 4 | W10: =IFERROR(U10-IFERROR(IF(INDEX(Daten_Salden!$A:$ZZ,MATCH($B10&"|Beschäftigung",Daten_Salden!$A$1:$A$331,0),$BK$3)="",NA(),INDEX(Daten_Salden!$A:$ZZ,MATCH($B10&"|Beschäftigung",Daten_Salden!$A$1:$A$331,0),$BK$3)),NA()),"") -> 5 | X10: =IFERROR(IF(INDEX(Daten_Risiken!$A:$ZZ,MATCH($B10&"|Energie- und Rohstoffpreise",Daten_Risiken!$A$1:$A$529,0),$BK$4)="","",INDEX(Daten_Risiken!$A:$ZZ,MATCH($B10&"|Energie- und Rohstoffpreise",Daten_Risiken!$A$1:$A$529,0),$BK$4)),"") -> 78 | Y10: =IFERROR(X10-IFERROR(IF(INDEX(Daten_Risiken!$A:$ZZ,MATCH($B10&"|Energie- und Rohstoffpreise",Daten_Risiken!$A$1:$A$529,0),$BK$5)="",NA(),INDEX(Daten_Risiken!$A:$ZZ,MATCH($B10&"|Energie- und Rohstoffpreise",Daten_Risiken!$A$1:$A$529,0),$BK$5)),NA()),"") -> -3 | Z10: =IFERROR(X10-IFERROR(IF(INDEX(Daten_Risiken!$A:$ZZ,MATCH($B10&"|Energie- und Rohstoffpreise",Daten_Risiken!$A$1:$A$529,0),$BK$6)="",NA(),INDEX(Daten_Risiken!$A:$ZZ,MATCH($B10&"|Energie- und Rohstoffpreise",Daten_Risiken!$A$1:$A$529,0),$BK$6)),NA()),"") -> 21 | AA10: =IFERROR(IF(INDEX(Daten_Risiken!$A:$ZZ,MATCH($B10&"|Arbeitskosten",Daten_Risiken!$A$1:$A$529,0),$BK$4)="","",INDEX(Daten_Risiken!$A:$ZZ,MATCH($B10&"|Arbeitskosten",Daten_Risiken!$A$1:$A$529,0),$BK$4)),"") -> 61 | AB10: =IFERROR(AA10-IFERROR(IF(INDEX(Daten_Risiken!$A:$ZZ,MATCH($B10&"|Arbeitskosten",Daten_Risiken!$A$1:$A$529,0),$BK$5)="",NA(),INDEX(Daten_Risiken!$A:$ZZ,MATCH($B10&"|Arbeitskosten",Daten_Risiken!$A$1:$A$529,0),$BK$5)),NA()),"") -> 1 | AC10: =IFERROR(AA10-IFERROR(IF(INDEX(Daten_Risiken!$A:$ZZ,MATCH($B10&"|Arbeitskosten",Daten_Risiken!$A$1:$A$529,0),$BK$6)="",NA(),INDEX(Daten_Risiken!$A:$ZZ,MATCH($B10&"|Arbeitskosten",Daten_Risiken!$A$1:$A$529,0),$BK$6)),NA()),"") -> 2 | AD10: =IFERROR(IF(INDEX(Daten_Risiken!$A:$ZZ,MATCH($B10&"|Inlandsnachfrage",Daten_Risiken!$A$1:$A$529,0),$BK$4)="","",INDEX(Daten_Risiken!$A:$ZZ,MATCH($B10&"|Inlandsnachfrage",Daten_Risiken!$A$1:$A$529,0),$BK$4)),"") -> 61 | AE10: =IFERROR(AD10-IFERROR(IF(INDEX(Daten_Risiken!$A:$ZZ,MATCH($B10&"|Inlandsnachfrage",Daten_Risiken!$A$1:$A$529,0),$BK$5)="",NA(),INDEX(Daten_Risiken!$A:$ZZ,MATCH($B10&"|Inlandsnachfrage",Daten_Risiken!$A$1:$A$529,0),$BK$5)),NA()),"") -> -1 | AF10: =IFERROR(AD10-IFERROR(IF(INDEX(Daten_Risiken!$A:$ZZ,MATCH($B10&"|Inlandsnachfrage",Daten_Risiken!$A$1:$A$529,0),$BK$6)="",NA(),INDEX(Daten_Risiken!$A:$ZZ,MATCH($B10&"|Inlandsnachfrage",Daten_Risiken!$A$1:$A$529,0),$BK$6)),NA()),"") -> -7 | AG10: =IFERROR(IF(INDEX(Daten_Risiken!$A:$ZZ,MATCH($B10&"|Wirtschaftspolitische Rahmenbedingungen",Daten_Risiken!$A$1:$A$529,0),$BK$4)="","",INDEX(Daten_Risiken!$A:$ZZ,MATCH($B10&"|Wirtschaftspolitische Rahmenbedingungen",Daten_Risiken!$A$1:$A$529,0),$BK$4)),"") -> 59 | AH10: =IFERROR(AG10-IFERROR(IF(INDEX(Daten_Risiken!$A:$ZZ,MATCH($B10&"|Wirtschaftspolitische Rahmenbedingungen",Daten_Risiken!$A$1:$A$529,0),$BK$5)="",NA(),INDEX(Daten_Risiken!$A:$ZZ,MATCH($B10&"|Wirtschaftspolitische Rahmenbedingungen",Daten_Risiken!$A$1:$A$529,0),$BK$5)),NA()),"") -> -1 | AI10: =IFERROR(AG10-IFERROR(IF(INDEX(Daten_Risiken!$A:$ZZ,MATCH($B10&"|Wirtschaftspolitische Rahmenbedingungen",Daten_Risiken!$A$1:$A$529,0),$BK$6)="",NA(),INDEX(Daten_Risiken!$A:$ZZ,MATCH($B10&"|Wirtschaftspolitische Rahmenbedingungen",Daten_Risiken!$A$1:$A$529,0),$BK$6)),NA()),"") -> -1 | AJ10: =IFERROR(IF(INDEX(Daten_Risiken!$A:$ZZ,MATCH($B10&"|Fachkräftemangel",Daten_Risiken!$A$1:$A$529,0),$BK$4)="","",INDEX(Daten_Risiken!$A:$ZZ,MATCH($B10&"|Fachkräftemangel",Daten_Risiken!$A$1:$A$529,0),$BK$4)),"") -> 34 | AK10: =IFERROR(AJ10-IFERROR(IF(INDEX(Daten_Risiken!$A:$ZZ,MATCH($B10&"|Fachkräftemangel",Daten_Risiken!$A$1:$A$529,0),$BK$5)="",NA(),INDEX(Daten_Risiken!$A:$ZZ,MATCH($B10&"|Fachkräftemangel",Daten_Risiken!$A$1:$A$529,0),$BK$5)),NA()),"") -> 2 | AL10: =IFERROR(AJ10-IFERROR(IF(INDEX(Daten_Risiken!$A:$ZZ,MATCH($B10&"|Fachkräftemangel",Daten_Risiken!$A$1:$A$529,0),$BK$6)="",NA(),INDEX(Daten_Risiken!$A:$ZZ,MATCH($B10&"|Fachkräftemangel",Daten_Risiken!$A$1:$A$529,0),$BK$6)),NA()),"") -> -5 | AM10: =IFERROR(IF(INDEX(Daten_Risiken!$A:$ZZ,MATCH($B10&"|Auslandsnachfrage",Daten_Risiken!$A$1:$A$529,0),$BK$4)="","",INDEX(Daten_Risiken!$A:$ZZ,MATCH($B10&"|Auslandsnachfrage",Daten_Risiken!$A$1:$A$529,0),$BK$4)),"") -> 29 | AN10: =IFERROR(AM10-IFERROR(IF(INDEX(Daten_Risiken!$A:$ZZ,MATCH($B10&"|Auslandsnachfrage",Daten_Risiken!$A$1:$A$529,0),$BK$5)="",NA(),INDEX(Daten_Risiken!$A:$ZZ,MATCH($B10&"|Auslandsnachfrage",Daten_Risiken!$A$1:$A$529,0),$BK$5)),NA()),"") -> -5 | AO10: =IFERROR(AM10-IFERROR(IF(INDEX(Daten_Risiken!$A:$ZZ,MATCH($B10&"|Auslandsnachfrage",Daten_Risiken!$A$1:$A$529,0),$BK$6)="",NA(),INDEX(Daten_Risiken!$A:$ZZ,MATCH($B10&"|Auslandsnachfrage",Daten_Risiken!$A$1:$A$529,0),$BK$6)),NA()),"") -> -7 | AP10: =IFERROR(IF(INDEX(Daten_Risiken!$A:$ZZ,MATCH($B10&"|Finanzierung",Daten_Risiken!$A$1:$A$529,0),$BK$4)="","",INDEX(Daten_Risiken!$A:$ZZ,MATCH($B10&"|Finanzierung",Daten_Risiken!$A$1:$A$529,0),$BK$4)),"") -> 13 | AQ10: =IFERROR(AP10-IFERROR(IF(INDEX(Daten_Risiken!$A:$ZZ,MATCH($B10&"|Finanzierung",Daten_Risiken!$A$1:$A$529,0),$BK$5)="",NA(),INDEX(Daten_Risiken!$A:$ZZ,MATCH($B10&"|Finanzierung",Daten_Risiken!$A$1:$A$529,0),$BK$5)),NA()),"") -> 1 | AR10: =IFERROR(AP10-IFERROR(IF(INDEX(Daten_Risiken!$A:$ZZ,MATCH($B10&"|Finanzierung",Daten_Risiken!$A$1:$A$529,0),$BK$6)="",NA(),INDEX(Daten_Risiken!$A:$ZZ,MATCH($B10&"|Finanzierung",Daten_Risiken!$A$1:$A$529,0),$BK$6)),NA()),"") -> 2 | AS10: =IFERROR(IF(INDEX(Daten_Risiken!$A:$ZZ,MATCH($B10&"|Wechselkurs",Daten_Risiken!$A$1:$A$529,0),$BK$4)="","",INDEX(Daten_Risiken!$A:$ZZ,MATCH($B10&"|Wechselkurs",Daten_Risiken!$A$1:$A$529,0),$BK$4)),"") -> 4 | AT10: =IFERROR(AS10-IFERROR(IF(INDEX(Daten_Risiken!$A:$ZZ,MATCH($B10&"|Wechselkurs",Daten_Risiken!$A$1:$A$529,0),$BK$5)="",NA(),INDEX(Daten_Risiken!$A:$ZZ,MATCH($B10&"|Wechselkurs",Daten_Risiken!$A$1:$A$529,0),$BK$5)),NA()),"") -> -1 | AU10: =IFERROR(AS10-IFERROR(IF(INDEX(Daten_Risiken!$A:$ZZ,MATCH($B10&"|Wechselkurs",Daten_Risiken!$A$1:$A$529,0),$BK$6)="",NA(),INDEX(Daten_Risiken!$A:$ZZ,MATCH($B10&"|Wechselkurs",Daten_Risiken!$A$1:$A$529,0),$BK$6)),NA()),"") -> -2 | AV10: =IFERROR(IF(INDEX(Daten_Motive!$A:$ZZ,MATCH($B10&"|Ersatzbedarf",Daten_Motive!$A$1:$A$331,0),$BK$7)="","",INDEX(Daten_Motive!$A:$ZZ,MATCH($B10&"|Ersatzbedarf",Daten_Motive!$A$1:$A$331,0),$BK$7)),"") -> 67 | AW10: =IFERROR(AV10-IFERROR(IF(INDEX(Daten_Motive!$A:$ZZ,MATCH($B10&"|Ersatzbedarf",Daten_Motive!$A$1:$A$331,0),$BK$8)="",NA(),INDEX(Daten_Motive!$A:$ZZ,MATCH($B10&"|Ersatzbedarf",Daten_Motive!$A$1:$A$331,0),$BK$8)),NA()),"") -> -1 | AX10: =IFERROR(AV10-IFERROR(IF(INDEX(Daten_Motive!$A:$ZZ,MATCH($B10&"|Ersatzbedarf",Daten_Motive!$A$1:$A$331,0),$BK$9)="",NA(),INDEX(Daten_Motive!$A:$ZZ,MATCH($B10&"|Ersatzbedarf",Daten_Motive!$A$1:$A$331,0),$BK$9)),NA()),"") -> 1 | AY10: =IFERROR(IF(INDEX(Daten_Motive!$A:$ZZ,MATCH($B10&"|Rationalisierung",Daten_Motive!$A$1:$A$331,0),$BK$7)="","",INDEX(Daten_Motive!$A:$ZZ,MATCH($B10&"|Rationalisierung",Daten_Motive!$A$1:$A$331,0),$BK$7)),"") -> 43 | AZ10: =IFERROR(AY10-IFERROR(IF(INDEX(Daten_Motive!$A:$ZZ,MATCH($B10&"|Rationalisierung",Daten_Motive!$A$1:$A$331,0),$BK$8)="",NA(),INDEX(Daten_Motive!$A:$ZZ,MATCH($B10&"|Rationalisierung",Daten_Motive!$A$1:$A$331,0),$BK$8)),NA()),"") -> 0 | BA10: =IFERROR(AY10-IFERROR(IF(INDEX(Daten_Motive!$A:$ZZ,MATCH($B10&"|Rationalisierung",Daten_Motive!$A$1:$A$331,0),$BK$9)="",NA(),INDEX(Daten_Motive!$A:$ZZ,MATCH($B10&"|Rationalisierung",Daten_Motive!$A$1:$A$331,0),$BK$9)),NA()),"") -> -1 | BB10: =IFERROR(IF(INDEX(Daten_Motive!$A:$ZZ,MATCH($B10&"|Produktinnovation",Daten_Motive!$A$1:$A$331,0),$BK$7)="","",INDEX(Daten_Motive!$A:$ZZ,MATCH($B10&"|Produktinnovation",Daten_Motive!$A$1:$A$331,0),$BK$7)),"") -> 30 | BC10: =IFERROR(BB10-IFERROR(IF(INDEX(Daten_Motive!$A:$ZZ,MATCH($B10&"|Produktinnovation",Daten_Motive!$A$1:$A$331,0),$BK$8)="",NA(),INDEX(Daten_Motive!$A:$ZZ,MATCH($B10&"|Produktinnovation",Daten_Motive!$A$1:$A$331,0),$BK$8)),NA()),"") -> 1 | BD10: =IFERROR(BB10-IFERROR(IF(INDEX(Daten_Motive!$A:$ZZ,MATCH($B10&"|Produktinnovation",Daten_Motive!$A$1:$A$331,0),$BK$9)="",NA(),INDEX(Daten_Motive!$A:$ZZ,MATCH($B10&"|Produktinnovation",Daten_Motive!$A$1:$A$331,0),$BK$9)),NA()),"") -> 0 | BE10: =IFERROR(IF(INDEX(Daten_Motive!$A:$ZZ,MATCH($B10&"|Umweltschutz",Daten_Motive!$A$1:$A$331,0),$BK$7)="","",INDEX(Daten_Motive!$A:$ZZ,MATCH($B10&"|Umweltschutz",Daten_Motive!$A$1:$A$331,0),$BK$7)),"") -> 21 | BF10: =IFERROR(BE10-IFERROR(IF(INDEX(Daten_Motive!$A:$ZZ,MATCH($B10&"|Umweltschutz",Daten_Motive!$A$1:$A$331,0),$BK$8)="",NA(),INDEX(Daten_Motive!$A:$ZZ,MATCH($B10&"|Umweltschutz",Daten_Motive!$A$1:$A$331,0),$BK$8)),NA()),"") -> 0 | BG10: =IFERROR(BE10-IFERROR(IF(INDEX(Daten_Motive!$A:$ZZ,MATCH($B10&"|Umweltschutz",Daten_Motive!$A$1:$A$331,0),$BK$9)="",NA(),INDEX(Daten_Motive!$A:$ZZ,MATCH($B10&"|Umweltschutz",Daten_Motive!$A$1:$A$331,0),$BK$9)),NA()),"") -> -2 | BH10: =IFERROR(IF(INDEX(Daten_Motive!$A:$ZZ,MATCH($B10&"|Kapazitätserweiterung",Daten_Motive!$A$1:$A$331,0),$BK$7)="","",INDEX(Daten_Motive!$A:$ZZ,MATCH($B10&"|Kapazitätserweiterung",Daten_Motive!$A$1:$A$331,0),$BK$7)),"") -> 22 | BI10: =IFERROR(BH10-IFERROR(IF(INDEX(Daten_Motive!$A:$ZZ,MATCH($B10&"|Kapazitätserweiterung",Daten_Motive!$A$1:$A$331,0),$BK$8)="",NA(),INDEX(Daten_Motive!$A:$ZZ,MATCH($B10&"|Kapazitätserweiterung",Daten_Motive!$A$1:$A$331,0),$BK$8)),NA()),"") -> 2 | BJ10: =IFERROR(BH10-IFERROR(IF(INDEX(Daten_Motive!$A:$ZZ,MATCH($B10&"|Kapazitätserweiterung",Daten_Motive!$A$1:$A$331,0),$BK$9)="",NA(),INDEX(Daten_Motive!$A:$ZZ,MATCH($B10&"|Kapazitätserweiterung",Daten_Motive!$A$1:$A$331,0),$BK$9)),NA()),"") -> 2
A11: 3 | B11: =Listen!A4 -> Gewinnung von Steinen und Erden, Bergbau | C11: 05 bis 09 | D11: =Listen!B4 -> Industrie | E11: =IFERROR(IF(INDEX(Daten_Anteile!$A:$ZZ,MATCH($B11&"|Lage|"&$C$3,Daten_Anteile!$A$1:$A$2971,0),5)="","",INDEX(Daten_Anteile!$A:$ZZ,MATCH($B11&"|Lage|"&$C$3,Daten_Anteile!$A$1:$A$2971,0),5)),"") -> 66 | F11: =IF(AND(ISNUMBER(I11),ISNUMBER(L11)),ROUND(SQRT((100+I11)*(100+L11)),1),"") -> 77.4 | G11: =IF(AND(ISNUMBER(F11),ISNUMBER(J11),ISNUMBER(M11)),ROUND(F11-SQRT((100+I11-J11)*(100+L11-M11)),1),"") -> -8.1 | H11: =IF(AND(ISNUMBER(F11),ISNUMBER(K11),ISNUMBER(N11)),ROUND(F11-SQRT((100+I11-K11)*(100+L11-N11)),1),"") -> -11 | I11: =IFERROR(IF(INDEX(Daten_Salden!$A:$ZZ,MATCH($B11&"|Lage",Daten_Salden!$A$1:$A$331,0),$BK$1)="","",INDEX(Daten_Salden!$A:$ZZ,MATCH($B11&"|Lage",Daten_Salden!$A$1:$A$331,0),$BK$1)),"") -> -19 | J11: =IFERROR(I11-IFERROR(IF(INDEX(Daten_Salden!$A:$ZZ,MATCH($B11&"|Lage",Daten_Salden!$A$1:$A$331,0),$BK$2)="",NA(),INDEX(Daten_Salden!$A:$ZZ,MATCH($B11&"|Lage",Daten_Salden!$A$1:$A$331,0),$BK$2)),NA()),"") -> -7 | K11: =IFERROR(I11-IFERROR(IF(INDEX(Daten_Salden!$A:$ZZ,MATCH($B11&"|Lage",Daten_Salden!$A$1:$A$331,0),$BK$3)="",NA(),INDEX(Daten_Salden!$A:$ZZ,MATCH($B11&"|Lage",Daten_Salden!$A$1:$A$331,0),$BK$3)),NA()),"") -> -4 | L11: =IFERROR(IF(INDEX(Daten_Salden!$A:$ZZ,MATCH($B11&"|Erwartungen",Daten_Salden!$A$1:$A$331,0),$BK$1)="","",INDEX(Daten_Salden!$A:$ZZ,MATCH($B11&"|Erwartungen",Daten_Salden!$A$1:$A$331,0),$BK$1)),"") -> -26 | M11: =IFERROR(L11-IFERROR(IF(INDEX(Daten_Salden!$A:$ZZ,MATCH($B11&"|Erwartungen",Daten_Salden!$A$1:$A$331,0),$BK$2)="",NA(),INDEX(Daten_Salden!$A:$ZZ,MATCH($B11&"|Erwartungen",Daten_Salden!$A$1:$A$331,0),$BK$2)),NA()),"") -> -9 | N11: =IFERROR(L11-IFERROR(IF(INDEX(Daten_Salden!$A:$ZZ,MATCH($B11&"|Erwartungen",Daten_Salden!$A$1:$A$331,0),$BK$3)="",NA(),INDEX(Daten_Salden!$A:$ZZ,MATCH($B11&"|Erwartungen",Daten_Salden!$A$1:$A$331,0),$BK$3)),NA()),"") -> -18 | O11: =IFERROR(IF(INDEX(Daten_Salden!$A:$ZZ,MATCH($B11&"|Export",Daten_Salden!$A$1:$A$331,0),$BK$1)="","",INDEX(Daten_Salden!$A:$ZZ,MATCH($B11&"|Export",Daten_Salden!$A$1:$A$331,0),$BK$1)),"") -> -27 | P11: =IFERROR(O11-IFERROR(IF(INDEX(Daten_Salden!$A:$ZZ,MATCH($B11&"|Export",Daten_Salden!$A$1:$A$331,0),$BK$2)="",NA(),INDEX(Daten_Salden!$A:$ZZ,MATCH($B11&"|Export",Daten_Salden!$A$1:$A$331,0),$BK$2)),NA()),"") -> -5 | Q11: =IFERROR(O11-IFERROR(IF(INDEX(Daten_Salden!$A:$ZZ,MATCH($B11&"|Export",Daten_Salden!$A$1:$A$331,0),$BK$3)="",NA(),INDEX(Daten_Salden!$A:$ZZ,MATCH($B11&"|Export",Daten_Salden!$A$1:$A$331,0),$BK$3)),NA()),"") -> -20 | R11: =IFERROR(IF(INDEX(Daten_Salden!$A:$ZZ,MATCH($B11&"|Investitionen",Daten_Salden!$A$1:$A$331,0),$BK$1)="","",INDEX(Daten_Salden!$A:$ZZ,MATCH($B11&"|Investitionen",Daten_Salden!$A$1:$A$331,0),$BK$1)),"") -> -19 | S11: =IFERROR(R11-IFERROR(IF(INDEX(Daten_Salden!$A:$ZZ,MATCH($B11&"|Investitionen",Daten_Salden!$A$1:$A$331,0),$BK$2)="",NA(),INDEX(Daten_Salden!$A:$ZZ,MATCH($B11&"|Investitionen",Daten_Salden!$A$1:$A$331,0),$BK$2)),NA()),"") -> 4 | T11: =IFERROR(R11-IFERROR(IF(INDEX(Daten_Salden!$A:$ZZ,MATCH($B11&"|Investitionen",Daten_Salden!$A$1:$A$331,0),$BK$3)="",NA(),INDEX(Daten_Salden!$A:$ZZ,MATCH($B11&"|Investitionen",Daten_Salden!$A$1:$A$331,0),$BK$3)),NA()),"") -> 11 | U11: =IFERROR(IF(INDEX(Daten_Salden!$A:$ZZ,MATCH($B11&"|Beschäftigung",Daten_Salden!$A$1:$A$331,0),$BK$1)="","",INDEX(Daten_Salden!$A:$ZZ,MATCH($B11&"|Beschäftigung",Daten_Salden!$A$1:$A$331,0),$BK$1)),"") -> -13 | V11: =IFERROR(U11-IFERROR(IF(INDEX(Daten_Salden!$A:$ZZ,MATCH($B11&"|Beschäftigung",Daten_Salden!$A$1:$A$331,0),$BK$2)="",NA(),INDEX(Daten_Salden!$A:$ZZ,MATCH($B11&"|Beschäftigung",Daten_Salden!$A$1:$A$331,0),$BK$2)),NA()),"") -> -2 | W11: =IFERROR(U11-IFERROR(IF(INDEX(Daten_Salden!$A:$ZZ,MATCH($B11&"|Beschäftigung",Daten_Salden!$A$1:$A$331,0),$BK$3)="",NA(),INDEX(Daten_Salden!$A:$ZZ,MATCH($B11&"|Beschäftigung",Daten_Salden!$A$1:$A$331,0),$BK$3)),NA()),"") -> 0 | X11: =IFERROR(IF(INDEX(Daten_Risiken!$A:$ZZ,MATCH($B11&"|Energie- und Rohstoffpreise",Daten_Risiken!$A$1:$A$529,0),$BK$4)="","",INDEX(Daten_Risiken!$A:$ZZ,MATCH($B11&"|Energie- und Rohstoffpreise",Daten_Risiken!$A$1:$A$529,0),$BK$4)),"") -> 98 | Y11: =IFERROR(X11-IFERROR(IF(INDEX(Daten_Risiken!$A:$ZZ,MATCH($B11&"|Energie- und Rohstoffpreise",Daten_Risiken!$A$1:$A$529,0),$BK$5)="",NA(),INDEX(Daten_Risiken!$A:$ZZ,MATCH($B11&"|Energie- und Rohstoffpreise",Daten_Risiken!$A$1:$A$529,0),$BK$5)),NA()),"") -> 3 | Z11: =IFERROR(X11-IFERROR(IF(INDEX(Daten_Risiken!$A:$ZZ,MATCH($B11&"|Energie- und Rohstoffpreise",Daten_Risiken!$A$1:$A$529,0),$BK$6)="",NA(),INDEX(Daten_Risiken!$A:$ZZ,MATCH($B11&"|Energie- und Rohstoffpreise",Daten_Risiken!$A$1:$A$529,0),$BK$6)),NA()),"") -> 12 | AA11: =IFERROR(IF(INDEX(Daten_Risiken!$A:$ZZ,MATCH($B11&"|Arbeitskosten",Daten_Risiken!$A$1:$A$529,0),$BK$4)="","",INDEX(Daten_Risiken!$A:$ZZ,MATCH($B11&"|Arbeitskosten",Daten_Risiken!$A$1:$A$529,0),$BK$4)),"") -> 47 | AB11: =IFERROR(AA11-IFERROR(IF(INDEX(Daten_Risiken!$A:$ZZ,MATCH($B11&"|Arbeitskosten",Daten_Risiken!$A$1:$A$529,0),$BK$5)="",NA(),INDEX(Daten_Risiken!$A:$ZZ,MATCH($B11&"|Arbeitskosten",Daten_Risiken!$A$1:$A$529,0),$BK$5)),NA()),"") -> 2 | AC11: =IFERROR(AA11-IFERROR(IF(INDEX(Daten_Risiken!$A:$ZZ,MATCH($B11&"|Arbeitskosten",Daten_Risiken!$A$1:$A$529,0),$BK$6)="",NA(),INDEX(Daten_Risiken!$A:$ZZ,MATCH($B11&"|Arbeitskosten",Daten_Risiken!$A$1:$A$529,0),$BK$6)),NA()),"") -> 0 | AD11: =IFERROR(IF(INDEX(Daten_Risiken!$A:$ZZ,MATCH($B11&"|Inlandsnachfrage",Daten_Risiken!$A$1:$A$529,0),$BK$4)="","",INDEX(Daten_Risiken!$A:$ZZ,MATCH($B11&"|Inlandsnachfrage",Daten_Risiken!$A$1:$A$529,0),$BK$4)),"") -> 70 | AE11: =IFERROR(AD11-IFERROR(IF(INDEX(Daten_Risiken!$A:$ZZ,MATCH($B11&"|Inlandsnachfrage",Daten_Risiken!$A$1:$A$529,0),$BK$5)="",NA(),INDEX(Daten_Risiken!$A:$ZZ,MATCH($B11&"|Inlandsnachfrage",Daten_Risiken!$A$1:$A$529,0),$BK$5)),NA()),"") -> 2 | AF11: =IFERROR(AD11-IFERROR(IF(INDEX(Daten_Risiken!$A:$ZZ,MATCH($B11&"|Inlandsnachfrage",Daten_Risiken!$A$1:$A$529,0),$BK$6)="",NA(),INDEX(Daten_Risiken!$A:$ZZ,MATCH($B11&"|Inlandsnachfrage",Daten_Risiken!$A$1:$A$529,0),$BK$6)),NA()),"") -> -6 | AG11: =IFERROR(IF(INDEX(Daten_Risiken!$A:$ZZ,MATCH($B11&"|Wirtschaftspolitische Rahmenbedingungen",Daten_Risiken!$A$1:$A$529,0),$BK$4)="","",INDEX(Daten_Risiken!$A:$ZZ,MATCH($B11&"|Wirtschaftspolitische Rahmenbedingungen",Daten_Risiken!$A$1:$A$529,0),$BK$4)),"") -> 55 | AH11: =IFERROR(AG11-IFERROR(IF(INDEX(Daten_Risiken!$A:$ZZ,MATCH($B11&"|Wirtschaftspolitische Rahmenbedingungen",Daten_Risiken!$A$1:$A$529,0),$BK$5)="",NA(),INDEX(Daten_Risiken!$A:$ZZ,MATCH($B11&"|Wirtschaftspolitische Rahmenbedingungen",Daten_Risiken!$A$1:$A$529,0),$BK$5)),NA()),"") -> -6 | AI11: =IFERROR(AG11-IFERROR(IF(INDEX(Daten_Risiken!$A:$ZZ,MATCH($B11&"|Wirtschaftspolitische Rahmenbedingungen",Daten_Risiken!$A$1:$A$529,0),$BK$6)="",NA(),INDEX(Daten_Risiken!$A:$ZZ,MATCH($B11&"|Wirtschaftspolitische Rahmenbedingungen",Daten_Risiken!$A$1:$A$529,0),$BK$6)),NA()),"") -> -10 | AJ11: =IFERROR(IF(INDEX(Daten_Risiken!$A:$ZZ,MATCH($B11&"|Fachkräftemangel",Daten_Risiken!$A$1:$A$529,0),$BK$4)="","",INDEX(Daten_Risiken!$A:$ZZ,MATCH($B11&"|Fachkräftemangel",Daten_Risiken!$A$1:$A$529,0),$BK$4)),"") -> 35 | AK11: =IFERROR(AJ11-IFERROR(IF(INDEX(Daten_Risiken!$A:$ZZ,MATCH($B11&"|Fachkräftemangel",Daten_Risiken!$A$1:$A$529,0),$BK$5)="",NA(),INDEX(Daten_Risiken!$A:$ZZ,MATCH($B11&"|Fachkräftemangel",Daten_Risiken!$A$1:$A$529,0),$BK$5)),NA()),"") -> 14 | AL11: =IFERROR(AJ11-IFERROR(IF(INDEX(Daten_Risiken!$A:$ZZ,MATCH($B11&"|Fachkräftemangel",Daten_Risiken!$A$1:$A$529,0),$BK$6)="",NA(),INDEX(Daten_Risiken!$A:$ZZ,MATCH($B11&"|Fachkräftemangel",Daten_Risiken!$A$1:$A$529,0),$BK$6)),NA()),"") -> -1 | AM11: =IFERROR(IF(INDEX(Daten_Risiken!$A:$ZZ,MATCH($B11&"|Auslandsnachfrage",Daten_Risiken!$A$1:$A$529,0),$BK$4)="","",INDEX(Daten_Risiken!$A:$ZZ,MATCH($B11&"|Auslandsnachfrage",Daten_Risiken!$A$1:$A$529,0),$BK$4)),"") -> 17 | AN11: =IFERROR(AM11-IFERROR(IF(INDEX(Daten_Risiken!$A:$ZZ,MATCH($B11&"|Auslandsnachfrage",Daten_Risiken!$A$1:$A$529,0),$BK$5)="",NA(),INDEX(Daten_Risiken!$A:$ZZ,MATCH($B11&"|Auslandsnachfrage",Daten_Risiken!$A$1:$A$529,0),$BK$5)),NA()),"") -> 4 | AO11: =IFERROR(AM11-IFERROR(IF(INDEX(Daten_Risiken!$A:$ZZ,MATCH($B11&"|Auslandsnachfrage",Daten_Risiken!$A$1:$A$529,0),$BK$6)="",NA(),INDEX(Daten_Risiken!$A:$ZZ,MATCH($B11&"|Auslandsnachfrage",Daten_Risiken!$A$1:$A$529,0),$BK$6)),NA()),"") -> 8 | AP11: =IFERROR(IF(INDEX(Daten_Risiken!$A:$ZZ,MATCH($B11&"|Finanzierung",Daten_Risiken!$A$1:$A$529,0),$BK$4)="","",INDEX(Daten_Risiken!$A:$ZZ,MATCH($B11&"|Finanzierung",Daten_Risiken!$A$1:$A$529,0),$BK$4)),"") -> 13 | AQ11: =IFERROR(AP11-IFERROR(IF(INDEX(Daten_Risiken!$A:$ZZ,MATCH($B11&"|Finanzierung",Daten_Risiken!$A$1:$A$529,0),$BK$5)="",NA(),INDEX(Daten_Risiken!$A:$ZZ,MATCH($B11&"|Finanzierung",Daten_Risiken!$A$1:$A$529,0),$BK$5)),NA()),"") -> 6 | AR11: =IFERROR(AP11-IFERROR(IF(INDEX(Daten_Risiken!$A:$ZZ,MATCH($B11&"|Finanzierung",Daten_Risiken!$A$1:$A$529,0),$BK$6)="",NA(),INDEX(Daten_Risiken!$A:$ZZ,MATCH($B11&"|Finanzierung",Daten_Risiken!$A$1:$A$529,0),$BK$6)),NA()),"") -> 5 | AS11: =IFERROR(IF(INDEX(Daten_Risiken!$A:$ZZ,MATCH($B11&"|Wechselkurs",Daten_Risiken!$A$1:$A$529,0),$BK$4)="","",INDEX(Daten_Risiken!$A:$ZZ,MATCH($B11&"|Wechselkurs",Daten_Risiken!$A$1:$A$529,0),$BK$4)),"") -> 0 | AT11: =IFERROR(AS11-IFERROR(IF(INDEX(Daten_Risiken!$A:$ZZ,MATCH($B11&"|Wechselkurs",Daten_Risiken!$A$1:$A$529,0),$BK$5)="",NA(),INDEX(Daten_Risiken!$A:$ZZ,MATCH($B11&"|Wechselkurs",Daten_Risiken!$A$1:$A$529,0),$BK$5)),NA()),"") -> -2 | AU11: =IFERROR(AS11-IFERROR(IF(INDEX(Daten_Risiken!$A:$ZZ,MATCH($B11&"|Wechselkurs",Daten_Risiken!$A$1:$A$529,0),$BK$6)="",NA(),INDEX(Daten_Risiken!$A:$ZZ,MATCH($B11&"|Wechselkurs",Daten_Risiken!$A$1:$A$529,0),$BK$6)),NA()),"") -> -4 | AV11: =IFERROR(IF(INDEX(Daten_Motive!$A:$ZZ,MATCH($B11&"|Ersatzbedarf",Daten_Motive!$A$1:$A$331,0),$BK$7)="","",INDEX(Daten_Motive!$A:$ZZ,MATCH($B11&"|Ersatzbedarf",Daten_Motive!$A$1:$A$331,0),$BK$7)),"") -> 83 | AW11: =IFERROR(AV11-IFERROR(IF(INDEX(Daten_Motive!$A:$ZZ,MATCH($B11&"|Ersatzbedarf",Daten_Motive!$A$1:$A$331,0),$BK$8)="",NA(),INDEX(Daten_Motive!$A:$ZZ,MATCH($B11&"|Ersatzbedarf",Daten_Motive!$A$1:$A$331,0),$BK$8)),NA()),"") -> 1 | AX11: =IFERROR(AV11-IFERROR(IF(INDEX(Daten_Motive!$A:$ZZ,MATCH($B11&"|Ersatzbedarf",Daten_Motive!$A$1:$A$331,0),$BK$9)="",NA(),INDEX(Daten_Motive!$A:$ZZ,MATCH($B11&"|Ersatzbedarf",Daten_Motive!$A$1:$A$331,0),$BK$9)),NA()),"") -> -9 | AY11: =IFERROR(IF(INDEX(Daten_Motive!$A:$ZZ,MATCH($B11&"|Rationalisierung",Daten_Motive!$A$1:$A$331,0),$BK$7)="","",INDEX(Daten_Motive!$A:$ZZ,MATCH($B11&"|Rationalisierung",Daten_Motive!$A$1:$A$331,0),$BK$7)),"") -> 38 | AZ11: =IFERROR(AY11-IFERROR(IF(INDEX(Daten_Motive!$A:$ZZ,MATCH($B11&"|Rationalisierung",Daten_Motive!$A$1:$A$331,0),$BK$8)="",NA(),INDEX(Daten_Motive!$A:$ZZ,MATCH($B11&"|Rationalisierung",Daten_Motive!$A$1:$A$331,0),$BK$8)),NA()),"") -> 9 | BA11: =IFERROR(AY11-IFERROR(IF(INDEX(Daten_Motive!$A:$ZZ,MATCH($B11&"|Rationalisierung",Daten_Motive!$A$1:$A$331,0),$BK$9)="",NA(),INDEX(Daten_Motive!$A:$ZZ,MATCH($B11&"|Rationalisierung",Daten_Motive!$A$1:$A$331,0),$BK$9)),NA()),"") -> 10 | BB11: =IFERROR(IF(INDEX(Daten_Motive!$A:$ZZ,MATCH($B11&"|Produktinnovation",Daten_Motive!$A$1:$A$331,0),$BK$7)="","",INDEX(Daten_Motive!$A:$ZZ,MATCH($B11&"|Produktinnovation",Daten_Motive!$A$1:$A$331,0),$BK$7)),"") -> 19 | BC11: =IFERROR(BB11-IFERROR(IF(INDEX(Daten_Motive!$A:$ZZ,MATCH($B11&"|Produktinnovation",Daten_Motive!$A$1:$A$331,0),$BK$8)="",NA(),INDEX(Daten_Motive!$A:$ZZ,MATCH($B11&"|Produktinnovation",Daten_Motive!$A$1:$A$331,0),$BK$8)),NA()),"") -> 6 | BD11: =IFERROR(BB11-IFERROR(IF(INDEX(Daten_Motive!$A:$ZZ,MATCH($B11&"|Produktinnovation",Daten_Motive!$A$1:$A$331,0),$BK$9)="",NA(),INDEX(Daten_Motive!$A:$ZZ,MATCH($B11&"|Produktinnovation",Daten_Motive!$A$1:$A$331,0),$BK$9)),NA()),"") -> 10 | BE11: =IFERROR(IF(INDEX(Daten_Motive!$A:$ZZ,MATCH($B11&"|Umweltschutz",Daten_Motive!$A$1:$A$331,0),$BK$7)="","",INDEX(Daten_Motive!$A:$ZZ,MATCH($B11&"|Umweltschutz",Daten_Motive!$A$1:$A$331,0),$BK$7)),"") -> 27 | BF11: =IFERROR(BE11-IFERROR(IF(INDEX(Daten_Motive!$A:$ZZ,MATCH($B11&"|Umweltschutz",Daten_Motive!$A$1:$A$331,0),$BK$8)="",NA(),INDEX(Daten_Motive!$A:$ZZ,MATCH($B11&"|Umweltschutz",Daten_Motive!$A$1:$A$331,0),$BK$8)),NA()),"") -> -4 | BG11: =IFERROR(BE11-IFERROR(IF(INDEX(Daten_Motive!$A:$ZZ,MATCH($B11&"|Umweltschutz",Daten_Motive!$A$1:$A$331,0),$BK$9)="",NA(),INDEX(Daten_Motive!$A:$ZZ,MATCH($B11&"|Umweltschutz",Daten_Motive!$A$1:$A$331,0),$BK$9)),NA()),"") -> -13 | BH11: =IFERROR(IF(INDEX(Daten_Motive!$A:$ZZ,MATCH($B11&"|Kapazitätserweiterung",Daten_Motive!$A$1:$A$331,0),$BK$7)="","",INDEX(Daten_Motive!$A:$ZZ,MATCH($B11&"|Kapazitätserweiterung",Daten_Motive!$A$1:$A$331,0),$BK$7)),"") -> 5 | BI11: =IFERROR(BH11-IFERROR(IF(INDEX(Daten_Motive!$A:$ZZ,MATCH($B11&"|Kapazitätserweiterung",Daten_Motive!$A$1:$A$331,0),$BK$8)="",NA(),INDEX(Daten_Motive!$A:$ZZ,MATCH($B11&"|Kapazitätserweiterung",Daten_Motive!$A$1:$A$331,0),$BK$8)),NA()),"") -> 1 | BJ11: =IFERROR(BH11-IFERROR(IF(INDEX(Daten_Motive!$A:$ZZ,MATCH($B11&"|Kapazitätserweiterung",Daten_Motive!$A$1:$A$331,0),$BK$9)="",NA(),INDEX(Daten_Motive!$A:$ZZ,MATCH($B11&"|Kapazitätserweiterung",Daten_Motive!$A$1:$A$331,0),$BK$9)),NA()),"") -> -2
A12: 4 | B12: =Listen!A5 -> Nahrungs- und Futtermittelindustrie | C12: 10 | D12: =Listen!B5 -> Industrie | E12: =IFERROR(IF(INDEX(Daten_Anteile!$A:$ZZ,MATCH($B12&"|Lage|"&$C$3,Daten_Anteile!$A$1:$A$2971,0),5)="","",INDEX(Daten_Anteile!$A:$ZZ,MATCH($B12&"|Lage|"&$C$3,Daten_Anteile!$A$1:$A$2971,0),5)),"") -> 235 | F12: =IF(AND(ISNUMBER(I12),ISNUMBER(L12)),ROUND(SQRT((100+I12)*(100+L12)),1),"") -> 95.4 | G12: =IF(AND(ISNUMBER(F12),ISNUMBER(J12),ISNUMBER(M12)),ROUND(F12-SQRT((100+I12-J12)*(100+L12-M12)),1),"") -> 7.8 | H12: =IF(AND(ISNUMBER(F12),ISNUMBER(K12),ISNUMBER(N12)),ROUND(F12-SQRT((100+I12-K12)*(100+L12-N12)),1),"") -> -0.5 | I12: =IFERROR(IF(INDEX(Daten_Salden!$A:$ZZ,MATCH($B12&"|Lage",Daten_Salden!$A$1:$A$331,0),$BK$1)="","",INDEX(Daten_Salden!$A:$ZZ,MATCH($B12&"|Lage",Daten_Salden!$A$1:$A$331,0),$BK$1)),"") -> 0 | J12: =IFERROR(I12-IFERROR(IF(INDEX(Daten_Salden!$A:$ZZ,MATCH($B12&"|Lage",Daten_Salden!$A$1:$A$331,0),$BK$2)="",NA(),INDEX(Daten_Salden!$A:$ZZ,MATCH($B12&"|Lage",Daten_Salden!$A$1:$A$331,0),$BK$2)),NA()),"") -> 4 | K12: =IFERROR(I12-IFERROR(IF(INDEX(Daten_Salden!$A:$ZZ,MATCH($B12&"|Lage",Daten_Salden!$A$1:$A$331,0),$BK$3)="",NA(),INDEX(Daten_Salden!$A:$ZZ,MATCH($B12&"|Lage",Daten_Salden!$A$1:$A$331,0),$BK$3)),NA()),"") -> 0 | L12: =IFERROR(IF(INDEX(Daten_Salden!$A:$ZZ,MATCH($B12&"|Erwartungen",Daten_Salden!$A$1:$A$331,0),$BK$1)="","",INDEX(Daten_Salden!$A:$ZZ,MATCH($B12&"|Erwartungen",Daten_Salden!$A$1:$A$331,0),$BK$1)),"") -> -9 | M12: =IFERROR(L12-IFERROR(IF(INDEX(Daten_Salden!$A:$ZZ,MATCH($B12&"|Erwartungen",Daten_Salden!$A$1:$A$331,0),$BK$2)="",NA(),INDEX(Daten_Salden!$A:$ZZ,MATCH($B12&"|Erwartungen",Daten_Salden!$A$1:$A$331,0),$BK$2)),NA()),"") -> 11 | N12: =IFERROR(L12-IFERROR(IF(INDEX(Daten_Salden!$A:$ZZ,MATCH($B12&"|Erwartungen",Daten_Salden!$A$1:$A$331,0),$BK$3)="",NA(),INDEX(Daten_Salden!$A:$ZZ,MATCH($B12&"|Erwartungen",Daten_Salden!$A$1:$A$331,0),$BK$3)),NA()),"") -> -1 | O12: =IFERROR(IF(INDEX(Daten_Salden!$A:$ZZ,MATCH($B12&"|Export",Daten_Salden!$A$1:$A$331,0),$BK$1)="","",INDEX(Daten_Salden!$A:$ZZ,MATCH($B12&"|Export",Daten_Salden!$A$1:$A$331,0),$BK$1)),"") -> 5 | P12: =IFERROR(O12-IFERROR(IF(INDEX(Daten_Salden!$A:$ZZ,MATCH($B12&"|Export",Daten_Salden!$A$1:$A$331,0),$BK$2)="",NA(),INDEX(Daten_Salden!$A:$ZZ,MATCH($B12&"|Export",Daten_Salden!$A$1:$A$331,0),$BK$2)),NA()),"") -> 6 | Q12: =IFERROR(O12-IFERROR(IF(INDEX(Daten_Salden!$A:$ZZ,MATCH($B12&"|Export",Daten_Salden!$A$1:$A$331,0),$BK$3)="",NA(),INDEX(Daten_Salden!$A:$ZZ,MATCH($B12&"|Export",Daten_Salden!$A$1:$A$331,0),$BK$3)),NA()),"") -> 4 | R12: =IFERROR(IF(INDEX(Daten_Salden!$A:$ZZ,MATCH($B12&"|Investitionen",Daten_Salden!$A$1:$A$331,0),$BK$1)="","",INDEX(Daten_Salden!$A:$ZZ,MATCH($B12&"|Investitionen",Daten_Salden!$A$1:$A$331,0),$BK$1)),"") -> 5 | S12: =IFERROR(R12-IFERROR(IF(INDEX(Daten_Salden!$A:$ZZ,MATCH($B12&"|Investitionen",Daten_Salden!$A$1:$A$331,0),$BK$2)="",NA(),INDEX(Daten_Salden!$A:$ZZ,MATCH($B12&"|Investitionen",Daten_Salden!$A$1:$A$331,0),$BK$2)),NA()),"") -> 5 | T12: =IFERROR(R12-IFERROR(IF(INDEX(Daten_Salden!$A:$ZZ,MATCH($B12&"|Investitionen",Daten_Salden!$A$1:$A$331,0),$BK$3)="",NA(),INDEX(Daten_Salden!$A:$ZZ,MATCH($B12&"|Investitionen",Daten_Salden!$A$1:$A$331,0),$BK$3)),NA()),"") -> 20 | U12: =IFERROR(IF(INDEX(Daten_Salden!$A:$ZZ,MATCH($B12&"|Beschäftigung",Daten_Salden!$A$1:$A$331,0),$BK$1)="","",INDEX(Daten_Salden!$A:$ZZ,MATCH($B12&"|Beschäftigung",Daten_Salden!$A$1:$A$331,0),$BK$1)),"") -> -6 | V12: =IFERROR(U12-IFERROR(IF(INDEX(Daten_Salden!$A:$ZZ,MATCH($B12&"|Beschäftigung",Daten_Salden!$A$1:$A$331,0),$BK$2)="",NA(),INDEX(Daten_Salden!$A:$ZZ,MATCH($B12&"|Beschäftigung",Daten_Salden!$A$1:$A$331,0),$BK$2)),NA()),"") -> 2 | W12: =IFERROR(U12-IFERROR(IF(INDEX(Daten_Salden!$A:$ZZ,MATCH($B12&"|Beschäftigung",Daten_Salden!$A$1:$A$331,0),$BK$3)="",NA(),INDEX(Daten_Salden!$A:$ZZ,MATCH($B12&"|Beschäftigung",Daten_Salden!$A$1:$A$331,0),$BK$3)),NA()),"") -> 7 | X12: =IFERROR(IF(INDEX(Daten_Risiken!$A:$ZZ,MATCH($B12&"|Energie- und Rohstoffpreise",Daten_Risiken!$A$1:$A$529,0),$BK$4)="","",INDEX(Daten_Risiken!$A:$ZZ,MATCH($B12&"|Energie- und Rohstoffpreise",Daten_Risiken!$A$1:$A$529,0),$BK$4)),"") -> 89 | Y12: =IFERROR(X12-IFERROR(IF(INDEX(Daten_Risiken!$A:$ZZ,MATCH($B12&"|Energie- und Rohstoffpreise",Daten_Risiken!$A$1:$A$529,0),$BK$5)="",NA(),INDEX(Daten_Risiken!$A:$ZZ,MATCH($B12&"|Energie- und Rohstoffpreise",Daten_Risiken!$A$1:$A$529,0),$BK$5)),NA()),"") -> -4 | Z12: =IFERROR(X12-IFERROR(IF(INDEX(Daten_Risiken!$A:$ZZ,MATCH($B12&"|Energie- und Rohstoffpreise",Daten_Risiken!$A$1:$A$529,0),$BK$6)="",NA(),INDEX(Daten_Risiken!$A:$ZZ,MATCH($B12&"|Energie- und Rohstoffpreise",Daten_Risiken!$A$1:$A$529,0),$BK$6)),NA()),"") -> 10 | AA12: =IFERROR(IF(INDEX(Daten_Risiken!$A:$ZZ,MATCH($B12&"|Arbeitskosten",Daten_Risiken!$A$1:$A$529,0),$BK$4)="","",INDEX(Daten_Risiken!$A:$ZZ,MATCH($B12&"|Arbeitskosten",Daten_Risiken!$A$1:$A$529,0),$BK$4)),"") -> 72 | AB12: =IFERROR(AA12-IFERROR(IF(INDEX(Daten_Risiken!$A:$ZZ,MATCH($B12&"|Arbeitskosten",Daten_Risiken!$A$1:$A$529,0),$BK$5)="",NA(),INDEX(Daten_Risiken!$A:$ZZ,MATCH($B12&"|Arbeitskosten",Daten_Risiken!$A$1:$A$529,0),$BK$5)),NA()),"") -> 6 | AC12: =IFERROR(AA12-IFERROR(IF(INDEX(Daten_Risiken!$A:$ZZ,MATCH($B12&"|Arbeitskosten",Daten_Risiken!$A$1:$A$529,0),$BK$6)="",NA(),INDEX(Daten_Risiken!$A:$ZZ,MATCH($B12&"|Arbeitskosten",Daten_Risiken!$A$1:$A$529,0),$BK$6)),NA()),"") -> 9 | AD12: =IFERROR(IF(INDEX(Daten_Risiken!$A:$ZZ,MATCH($B12&"|Inlandsnachfrage",Daten_Risiken!$A$1:$A$529,0),$BK$4)="","",INDEX(Daten_Risiken!$A:$ZZ,MATCH($B12&"|Inlandsnachfrage",Daten_Risiken!$A$1:$A$529,0),$BK$4)),"") -> 56 | AE12: =IFERROR(AD12-IFERROR(IF(INDEX(Daten_Risiken!$A:$ZZ,MATCH($B12&"|Inlandsnachfrage",Daten_Risiken!$A$1:$A$529,0),$BK$5)="",NA(),INDEX(Daten_Risiken!$A:$ZZ,MATCH($B12&"|Inlandsnachfrage",Daten_Risiken!$A$1:$A$529,0),$BK$5)),NA()),"") -> 10 | AF12: =IFERROR(AD12-IFERROR(IF(INDEX(Daten_Risiken!$A:$ZZ,MATCH($B12&"|Inlandsnachfrage",Daten_Risiken!$A$1:$A$529,0),$BK$6)="",NA(),INDEX(Daten_Risiken!$A:$ZZ,MATCH($B12&"|Inlandsnachfrage",Daten_Risiken!$A$1:$A$529,0),$BK$6)),NA()),"") -> 5 | AG12: =IFERROR(IF(INDEX(Daten_Risiken!$A:$ZZ,MATCH($B12&"|Wirtschaftspolitische Rahmenbedingungen",Daten_Risiken!$A$1:$A$529,0),$BK$4)="","",INDEX(Daten_Risiken!$A:$ZZ,MATCH($B12&"|Wirtschaftspolitische Rahmenbedingungen",Daten_Risiken!$A$1:$A$529,0),$BK$4)),"") -> 60 | AH12: =IFERROR(AG12-IFERROR(IF(INDEX(Daten_Risiken!$A:$ZZ,MATCH($B12&"|Wirtschaftspolitische Rahmenbedingungen",Daten_Risiken!$A$1:$A$529,0),$BK$5)="",NA(),INDEX(Daten_Risiken!$A:$ZZ,MATCH($B12&"|Wirtschaftspolitische Rahmenbedingungen",Daten_Risiken!$A$1:$A$529,0),$BK$5)),NA()),"") -> 4 | AI12: =IFERROR(AG12-IFERROR(IF(INDEX(Daten_Risiken!$A:$ZZ,MATCH($B12&"|Wirtschaftspolitische Rahmenbedingungen",Daten_Risiken!$A$1:$A$529,0),$BK$6)="",NA(),INDEX(Daten_Risiken!$A:$ZZ,MATCH($B12&"|Wirtschaftspolitische Rahmenbedingungen",Daten_Risiken!$A$1:$A$529,0),$BK$6)),NA()),"") -> 7 | AJ12: =IFERROR(IF(INDEX(Daten_Risiken!$A:$ZZ,MATCH($B12&"|Fachkräftemangel",Daten_Risiken!$A$1:$A$529,0),$BK$4)="","",INDEX(Daten_Risiken!$A:$ZZ,MATCH($B12&"|Fachkräftemangel",Daten_Risiken!$A$1:$A$529,0),$BK$4)),"") -> 33 | AK12: =IFERROR(AJ12-IFERROR(IF(INDEX(Daten_Risiken!$A:$ZZ,MATCH($B12&"|Fachkräftemangel",Daten_Risiken!$A$1:$A$529,0),$BK$5)="",NA(),INDEX(Daten_Risiken!$A:$ZZ,MATCH($B12&"|Fachkräftemangel",Daten_Risiken!$A$1:$A$529,0),$BK$5)),NA()),"") -> 1 | AL12: =IFERROR(AJ12-IFERROR(IF(INDEX(Daten_Risiken!$A:$ZZ,MATCH($B12&"|Fachkräftemangel",Daten_Risiken!$A$1:$A$529,0),$BK$6)="",NA(),INDEX(Daten_Risiken!$A:$ZZ,MATCH($B12&"|Fachkräftemangel",Daten_Risiken!$A$1:$A$529,0),$BK$6)),NA()),"") -> -16 | AM12: =IFERROR(IF(INDEX(Daten_Risiken!$A:$ZZ,MATCH($B12&"|Auslandsnachfrage",Daten_Risiken!$A$1:$A$529,0),$BK$4)="","",INDEX(Daten_Risiken!$A:$ZZ,MATCH($B12&"|Auslandsnachfrage",Daten_Risiken!$A$1:$A$529,0),$BK$4)),"") -> 16 | AN12: =IFERROR(AM12-IFERROR(IF(INDEX(Daten_Risiken!$A:$ZZ,MATCH($B12&"|Auslandsnachfrage",Daten_Risiken!$A$1:$A$529,0),$BK$5)="",NA(),INDEX(Daten_Risiken!$A:$ZZ,MATCH($B12&"|Auslandsnachfrage",Daten_Risiken!$A$1:$A$529,0),$BK$5)),NA()),"") -> -2 | AO12: =IFERROR(AM12-IFERROR(IF(INDEX(Daten_Risiken!$A:$ZZ,MATCH($B12&"|Auslandsnachfrage",Daten_Risiken!$A$1:$A$529,0),$BK$6)="",NA(),INDEX(Daten_Risiken!$A:$ZZ,MATCH($B12&"|Auslandsnachfrage",Daten_Risiken!$A$1:$A$529,0),$BK$6)),NA()),"") -> -1 | AP12: =IFERROR(IF(INDEX(Daten_Risiken!$A:$ZZ,MATCH($B12&"|Finanzierung",Daten_Risiken!$A$1:$A$529,0),$BK$4)="","",INDEX(Daten_Risiken!$A:$ZZ,MATCH($B12&"|Finanzierung",Daten_Risiken!$A$1:$A$529,0),$BK$4)),"") -> 13 | AQ12: =IFERROR(AP12-IFERROR(IF(INDEX(Daten_Risiken!$A:$ZZ,MATCH($B12&"|Finanzierung",Daten_Risiken!$A$1:$A$529,0),$BK$5)="",NA(),INDEX(Daten_Risiken!$A:$ZZ,MATCH($B12&"|Finanzierung",Daten_Risiken!$A$1:$A$529,0),$BK$5)),NA()),"") -> 6 | AR12: =IFERROR(AP12-IFERROR(IF(INDEX(Daten_Risiken!$A:$ZZ,MATCH($B12&"|Finanzierung",Daten_Risiken!$A$1:$A$529,0),$BK$6)="",NA(),INDEX(Daten_Risiken!$A:$ZZ,MATCH($B12&"|Finanzierung",Daten_Risiken!$A$1:$A$529,0),$BK$6)),NA()),"") -> 2 | AS12: =IFERROR(IF(INDEX(Daten_Risiken!$A:$ZZ,MATCH($B12&"|Wechselkurs",Daten_Risiken!$A$1:$A$529,0),$BK$4)="","",INDEX(Daten_Risiken!$A:$ZZ,MATCH($B12&"|Wechselkurs",Daten_Risiken!$A$1:$A$529,0),$BK$4)),"") -> 4 | AT12: =IFERROR(AS12-IFERROR(IF(INDEX(Daten_Risiken!$A:$ZZ,MATCH($B12&"|Wechselkurs",Daten_Risiken!$A$1:$A$529,0),$BK$5)="",NA(),INDEX(Daten_Risiken!$A:$ZZ,MATCH($B12&"|Wechselkurs",Daten_Risiken!$A$1:$A$529,0),$BK$5)),NA()),"") -> -1 | AU12: =IFERROR(AS12-IFERROR(IF(INDEX(Daten_Risiken!$A:$ZZ,MATCH($B12&"|Wechselkurs",Daten_Risiken!$A$1:$A$529,0),$BK$6)="",NA(),INDEX(Daten_Risiken!$A:$ZZ,MATCH($B12&"|Wechselkurs",Daten_Risiken!$A$1:$A$529,0),$BK$6)),NA()),"") -> -4 | AV12: =IFERROR(IF(INDEX(Daten_Motive!$A:$ZZ,MATCH($B12&"|Ersatzbedarf",Daten_Motive!$A$1:$A$331,0),$BK$7)="","",INDEX(Daten_Motive!$A:$ZZ,MATCH($B12&"|Ersatzbedarf",Daten_Motive!$A$1:$A$331,0),$BK$7)),"") -> 66 | AW12: =IFERROR(AV12-IFERROR(IF(INDEX(Daten_Motive!$A:$ZZ,MATCH($B12&"|Ersatzbedarf",Daten_Motive!$A$1:$A$331,0),$BK$8)="",NA(),INDEX(Daten_Motive!$A:$ZZ,MATCH($B12&"|Ersatzbedarf",Daten_Motive!$A$1:$A$331,0),$BK$8)),NA()),"") -> -4 | AX12: =IFERROR(AV12-IFERROR(IF(INDEX(Daten_Motive!$A:$ZZ,MATCH($B12&"|Ersatzbedarf",Daten_Motive!$A$1:$A$331,0),$BK$9)="",NA(),INDEX(Daten_Motive!$A:$ZZ,MATCH($B12&"|Ersatzbedarf",Daten_Motive!$A$1:$A$331,0),$BK$9)),NA()),"") -> -9 | AY12: =IFERROR(IF(INDEX(Daten_Motive!$A:$ZZ,MATCH($B12&"|Rationalisierung",Daten_Motive!$A$1:$A$331,0),$BK$7)="","",INDEX(Daten_Motive!$A:$ZZ,MATCH($B12&"|Rationalisierung",Daten_Motive!$A$1:$A$331,0),$BK$7)),"") -> 42 | AZ12: =IFERROR(AY12-IFERROR(IF(INDEX(Daten_Motive!$A:$ZZ,MATCH($B12&"|Rationalisierung",Daten_Motive!$A$1:$A$331,0),$BK$8)="",NA(),INDEX(Daten_Motive!$A:$ZZ,MATCH($B12&"|Rationalisierung",Daten_Motive!$A$1:$A$331,0),$BK$8)),NA()),"") -> 1 | BA12: =IFERROR(AY12-IFERROR(IF(INDEX(Daten_Motive!$A:$ZZ,MATCH($B12&"|Rationalisierung",Daten_Motive!$A$1:$A$331,0),$BK$9)="",NA(),INDEX(Daten_Motive!$A:$ZZ,MATCH($B12&"|Rationalisierung",Daten_Motive!$A$1:$A$331,0),$BK$9)),NA()),"") -> 0 | BB12: =IFERROR(IF(INDEX(Daten_Motive!$A:$ZZ,MATCH($B12&"|Produktinnovation",Daten_Motive!$A$1:$A$331,0),$BK$7)="","",INDEX(Daten_Motive!$A:$ZZ,MATCH($B12&"|Produktinnovation",Daten_Motive!$A$1:$A$331,0),$BK$7)),"") -> 22 | BC12: =IFERROR(BB12-IFERROR(IF(INDEX(Daten_Motive!$A:$ZZ,MATCH($B12&"|Produktinnovation",Daten_Motive!$A$1:$A$331,0),$BK$8)="",NA(),INDEX(Daten_Motive!$A:$ZZ,MATCH($B12&"|Produktinnovation",Daten_Motive!$A$1:$A$331,0),$BK$8)),NA()),"") -> 1 | BD12: =IFERROR(BB12-IFERROR(IF(INDEX(Daten_Motive!$A:$ZZ,MATCH($B12&"|Produktinnovation",Daten_Motive!$A$1:$A$331,0),$BK$9)="",NA(),INDEX(Daten_Motive!$A:$ZZ,MATCH($B12&"|Produktinnovation",Daten_Motive!$A$1:$A$331,0),$BK$9)),NA()),"") -> 1 | BE12: =IFERROR(IF(INDEX(Daten_Motive!$A:$ZZ,MATCH($B12&"|Umweltschutz",Daten_Motive!$A$1:$A$331,0),$BK$7)="","",INDEX(Daten_Motive!$A:$ZZ,MATCH($B12&"|Umweltschutz",Daten_Motive!$A$1:$A$331,0),$BK$7)),"") -> 22 | BF12: =IFERROR(BE12-IFERROR(IF(INDEX(Daten_Motive!$A:$ZZ,MATCH($B12&"|Umweltschutz",Daten_Motive!$A$1:$A$331,0),$BK$8)="",NA(),INDEX(Daten_Motive!$A:$ZZ,MATCH($B12&"|Umweltschutz",Daten_Motive!$A$1:$A$331,0),$BK$8)),NA()),"") -> 0 | BG12: =IFERROR(BE12-IFERROR(IF(INDEX(Daten_Motive!$A:$ZZ,MATCH($B12&"|Umweltschutz",Daten_Motive!$A$1:$A$331,0),$BK$9)="",NA(),INDEX(Daten_Motive!$A:$ZZ,MATCH($B12&"|Umweltschutz",Daten_Motive!$A$1:$A$331,0),$BK$9)),NA()),"") -> -2 | BH12: =IFERROR(IF(INDEX(Daten_Motive!$A:$ZZ,MATCH($B12&"|Kapazitätserweiterung",Daten_Motive!$A$1:$A$331,0),$BK$7)="","",INDEX(Daten_Motive!$A:$ZZ,MATCH($B12&"|Kapazitätserweiterung",Daten_Motive!$A$1:$A$331,0),$BK$7)),"") -> 37 | BI12: =IFERROR(BH12-IFERROR(IF(INDEX(Daten_Motive!$A:$ZZ,MATCH($B12&"|Kapazitätserweiterung",Daten_Motive!$A$1:$A$331,0),$BK$8)="",NA(),INDEX(Daten_Motive!$A:$ZZ,MATCH($B12&"|Kapazitätserweiterung",Daten_Motive!$A$1:$A$331,0),$BK$8)),NA()),"") -> 12 | BJ12: =IFERROR(BH12-IFERROR(IF(INDEX(Daten_Motive!$A:$ZZ,MATCH($B12&"|Kapazitätserweiterung",Daten_Motive!$A$1:$A$331,0),$BK$9)="",NA(),INDEX(Daten_Motive!$A:$ZZ,MATCH($B12&"|Kapazitätserweiterung",Daten_Motive!$A$1:$A$331,0),$BK$9)),NA()),"") -> 13
A13: 5 | B13: =Listen!A6 -> Getränkeindustrie | C13: 11 | D13: =Listen!B6 -> Industrie | E13: =IFERROR(IF(INDEX(Daten_Anteile!$A:$ZZ,MATCH($B13&"|Lage|"&$C$3,Daten_Anteile!$A$1:$A$2971,0),5)="","",INDEX(Daten_Anteile!$A:$ZZ,MATCH($B13&"|Lage|"&$C$3,Daten_Anteile!$A$1:$A$2971,0),5)),"") -> 107 | F13: =IF(AND(ISNUMBER(I13),ISNUMBER(L13)),ROUND(SQRT((100+I13)*(100+L13)),1),"") -> 86.3 | G13: =IF(AND(ISNUMBER(F13),ISNUMBER(J13),ISNUMBER(M13)),ROUND(F13-SQRT((100+I13-J13)*(100+L13-M13)),1),"") -> 6.3 | H13: =IF(AND(ISNUMBER(F13),ISNUMBER(K13),ISNUMBER(N13)),ROUND(F13-SQRT((100+I13-K13)*(100+L13-N13)),1),"") -> -1.2 | I13: =IFERROR(IF(INDEX(Daten_Salden!$A:$ZZ,MATCH($B13&"|Lage",Daten_Salden!$A$1:$A$331,0),$BK$1)="","",INDEX(Daten_Salden!$A:$ZZ,MATCH($B13&"|Lage",Daten_Salden!$A$1:$A$331,0),$BK$1)),"") -> -7 | J13: =IFERROR(I13-IFERROR(IF(INDEX(Daten_Salden!$A:$ZZ,MATCH($B13&"|Lage",Daten_Salden!$A$1:$A$331,0),$BK$2)="",NA(),INDEX(Daten_Salden!$A:$ZZ,MATCH($B13&"|Lage",Daten_Salden!$A$1:$A$331,0),$BK$2)),NA()),"") -> 12 | K13: =IFERROR(I13-IFERROR(IF(INDEX(Daten_Salden!$A:$ZZ,MATCH($B13&"|Lage",Daten_Salden!$A$1:$A$331,0),$BK$3)="",NA(),INDEX(Daten_Salden!$A:$ZZ,MATCH($B13&"|Lage",Daten_Salden!$A$1:$A$331,0),$BK$3)),NA()),"") -> 6 | L13: =IFERROR(IF(INDEX(Daten_Salden!$A:$ZZ,MATCH($B13&"|Erwartungen",Daten_Salden!$A$1:$A$331,0),$BK$1)="","",INDEX(Daten_Salden!$A:$ZZ,MATCH($B13&"|Erwartungen",Daten_Salden!$A$1:$A$331,0),$BK$1)),"") -> -20 | M13: =IFERROR(L13-IFERROR(IF(INDEX(Daten_Salden!$A:$ZZ,MATCH($B13&"|Erwartungen",Daten_Salden!$A$1:$A$331,0),$BK$2)="",NA(),INDEX(Daten_Salden!$A:$ZZ,MATCH($B13&"|Erwartungen",Daten_Salden!$A$1:$A$331,0),$BK$2)),NA()),"") -> 1 | N13: =IFERROR(L13-IFERROR(IF(INDEX(Daten_Salden!$A:$ZZ,MATCH($B13&"|Erwartungen",Daten_Salden!$A$1:$A$331,0),$BK$3)="",NA(),INDEX(Daten_Salden!$A:$ZZ,MATCH($B13&"|Erwartungen",Daten_Salden!$A$1:$A$331,0),$BK$3)),NA()),"") -> -8 | O13: =IFERROR(IF(INDEX(Daten_Salden!$A:$ZZ,MATCH($B13&"|Export",Daten_Salden!$A$1:$A$331,0),$BK$1)="","",INDEX(Daten_Salden!$A:$ZZ,MATCH($B13&"|Export",Daten_Salden!$A$1:$A$331,0),$BK$1)),"") -> -1 | P13: =IFERROR(O13-IFERROR(IF(INDEX(Daten_Salden!$A:$ZZ,MATCH($B13&"|Export",Daten_Salden!$A$1:$A$331,0),$BK$2)="",NA(),INDEX(Daten_Salden!$A:$ZZ,MATCH($B13&"|Export",Daten_Salden!$A$1:$A$331,0),$BK$2)),NA()),"") -> 17 | Q13: =IFERROR(O13-IFERROR(IF(INDEX(Daten_Salden!$A:$ZZ,MATCH($B13&"|Export",Daten_Salden!$A$1:$A$331,0),$BK$3)="",NA(),INDEX(Daten_Salden!$A:$ZZ,MATCH($B13&"|Export",Daten_Salden!$A$1:$A$331,0),$BK$3)),NA()),"") -> 8 | R13: =IFERROR(IF(INDEX(Daten_Salden!$A:$ZZ,MATCH($B13&"|Investitionen",Daten_Salden!$A$1:$A$331,0),$BK$1)="","",INDEX(Daten_Salden!$A:$ZZ,MATCH($B13&"|Investitionen",Daten_Salden!$A$1:$A$331,0),$BK$1)),"") -> -17 | S13: =IFERROR(R13-IFERROR(IF(INDEX(Daten_Salden!$A:$ZZ,MATCH($B13&"|Investitionen",Daten_Salden!$A$1:$A$331,0),$BK$2)="",NA(),INDEX(Daten_Salden!$A:$ZZ,MATCH($B13&"|Investitionen",Daten_Salden!$A$1:$A$331,0),$BK$2)),NA()),"") -> 9 | T13: =IFERROR(R13-IFERROR(IF(INDEX(Daten_Salden!$A:$ZZ,MATCH($B13&"|Investitionen",Daten_Salden!$A$1:$A$331,0),$BK$3)="",NA(),INDEX(Daten_Salden!$A:$ZZ,MATCH($B13&"|Investitionen",Daten_Salden!$A$1:$A$331,0),$BK$3)),NA()),"") -> -16 | U13: =IFERROR(IF(INDEX(Daten_Salden!$A:$ZZ,MATCH($B13&"|Beschäftigung",Daten_Salden!$A$1:$A$331,0),$BK$1)="","",INDEX(Daten_Salden!$A:$ZZ,MATCH($B13&"|Beschäftigung",Daten_Salden!$A$1:$A$331,0),$BK$1)),"") -> -19 | V13: =IFERROR(U13-IFERROR(IF(INDEX(Daten_Salden!$A:$ZZ,MATCH($B13&"|Beschäftigung",Daten_Salden!$A$1:$A$331,0),$BK$2)="",NA(),INDEX(Daten_Salden!$A:$ZZ,MATCH($B13&"|Beschäftigung",Daten_Salden!$A$1:$A$331,0),$BK$2)),NA()),"") -> 1 | W13: =IFERROR(U13-IFERROR(IF(INDEX(Daten_Salden!$A:$ZZ,MATCH($B13&"|Beschäftigung",Daten_Salden!$A$1:$A$331,0),$BK$3)="",NA(),INDEX(Daten_Salden!$A:$ZZ,MATCH($B13&"|Beschäftigung",Daten_Salden!$A$1:$A$331,0),$BK$3)),NA()),"") -> 5 | X13: =IFERROR(IF(INDEX(Daten_Risiken!$A:$ZZ,MATCH($B13&"|Energie- und Rohstoffpreise",Daten_Risiken!$A$1:$A$529,0),$BK$4)="","",INDEX(Daten_Risiken!$A:$ZZ,MATCH($B13&"|Energie- und Rohstoffpreise",Daten_Risiken!$A$1:$A$529,0),$BK$4)),"") -> 86 | Y13: =IFERROR(X13-IFERROR(IF(INDEX(Daten_Risiken!$A:$ZZ,MATCH($B13&"|Energie- und Rohstoffpreise",Daten_Risiken!$A$1:$A$529,0),$BK$5)="",NA(),INDEX(Daten_Risiken!$A:$ZZ,MATCH($B13&"|Energie- und Rohstoffpreise",Daten_Risiken!$A$1:$A$529,0),$BK$5)),NA()),"") -> 2 | Z13: =IFERROR(X13-IFERROR(IF(INDEX(Daten_Risiken!$A:$ZZ,MATCH($B13&"|Energie- und Rohstoffpreise",Daten_Risiken!$A$1:$A$529,0),$BK$6)="",NA(),INDEX(Daten_Risiken!$A:$ZZ,MATCH($B13&"|Energie- und Rohstoffpreise",Daten_Risiken!$A$1:$A$529,0),$BK$6)),NA()),"") -> 14 | AA13: =IFERROR(IF(INDEX(Daten_Risiken!$A:$ZZ,MATCH($B13&"|Arbeitskosten",Daten_Risiken!$A$1:$A$529,0),$BK$4)="","",INDEX(Daten_Risiken!$A:$ZZ,MATCH($B13&"|Arbeitskosten",Daten_Risiken!$A$1:$A$529,0),$BK$4)),"") -> 61 | AB13: =IFERROR(AA13-IFERROR(IF(INDEX(Daten_Risiken!$A:$ZZ,MATCH($B13&"|Arbeitskosten",Daten_Risiken!$A$1:$A$529,0),$BK$5)="",NA(),INDEX(Daten_Risiken!$A:$ZZ,MATCH($B13&"|Arbeitskosten",Daten_Risiken!$A$1:$A$529,0),$BK$5)),NA()),"") -> 1 | AC13: =IFERROR(AA13-IFERROR(IF(INDEX(Daten_Risiken!$A:$ZZ,MATCH($B13&"|Arbeitskosten",Daten_Risiken!$A$1:$A$529,0),$BK$6)="",NA(),INDEX(Daten_Risiken!$A:$ZZ,MATCH($B13&"|Arbeitskosten",Daten_Risiken!$A$1:$A$529,0),$BK$6)),NA()),"") -> -7 | AD13: =IFERROR(IF(INDEX(Daten_Risiken!$A:$ZZ,MATCH($B13&"|Inlandsnachfrage",Daten_Risiken!$A$1:$A$529,0),$BK$4)="","",INDEX(Daten_Risiken!$A:$ZZ,MATCH($B13&"|Inlandsnachfrage",Daten_Risiken!$A$1:$A$529,0),$BK$4)),"") -> 74 | AE13: =IFERROR(AD13-IFERROR(IF(INDEX(Daten_Risiken!$A:$ZZ,MATCH($B13&"|Inlandsnachfrage",Daten_Risiken!$A$1:$A$529,0),$BK$5)="",NA(),INDEX(Daten_Risiken!$A:$ZZ,MATCH($B13&"|Inlandsnachfrage",Daten_Risiken!$A$1:$A$529,0),$BK$5)),NA()),"") -> -6 | AF13: =IFERROR(AD13-IFERROR(IF(INDEX(Daten_Risiken!$A:$ZZ,MATCH($B13&"|Inlandsnachfrage",Daten_Risiken!$A$1:$A$529,0),$BK$6)="",NA(),INDEX(Daten_Risiken!$A:$ZZ,MATCH($B13&"|Inlandsnachfrage",Daten_Risiken!$A$1:$A$529,0),$BK$6)),NA()),"") -> -8 | AG13: =IFERROR(IF(INDEX(Daten_Risiken!$A:$ZZ,MATCH($B13&"|Wirtschaftspolitische Rahmenbedingungen",Daten_Risiken!$A$1:$A$529,0),$BK$4)="","",INDEX(Daten_Risiken!$A:$ZZ,MATCH($B13&"|Wirtschaftspolitische Rahmenbedingungen",Daten_Risiken!$A$1:$A$529,0),$BK$4)),"") -> 60 | AH13: =IFERROR(AG13-IFERROR(IF(INDEX(Daten_Risiken!$A:$ZZ,MATCH($B13&"|Wirtschaftspolitische Rahmenbedingungen",Daten_Risiken!$A$1:$A$529,0),$BK$5)="",NA(),INDEX(Daten_Risiken!$A:$ZZ,MATCH($B13&"|Wirtschaftspolitische Rahmenbedingungen",Daten_Risiken!$A$1:$A$529,0),$BK$5)),NA()),"") -> 8 | AI13: =IFERROR(AG13-IFERROR(IF(INDEX(Daten_Risiken!$A:$ZZ,MATCH($B13&"|Wirtschaftspolitische Rahmenbedingungen",Daten_Risiken!$A$1:$A$529,0),$BK$6)="",NA(),INDEX(Daten_Risiken!$A:$ZZ,MATCH($B13&"|Wirtschaftspolitische Rahmenbedingungen",Daten_Risiken!$A$1:$A$529,0),$BK$6)),NA()),"") -> 12 | AJ13: =IFERROR(IF(INDEX(Daten_Risiken!$A:$ZZ,MATCH($B13&"|Fachkräftemangel",Daten_Risiken!$A$1:$A$529,0),$BK$4)="","",INDEX(Daten_Risiken!$A:$ZZ,MATCH($B13&"|Fachkräftemangel",Daten_Risiken!$A$1:$A$529,0),$BK$4)),"") -> 29 | AK13: =IFERROR(AJ13-IFERROR(IF(INDEX(Daten_Risiken!$A:$ZZ,MATCH($B13&"|Fachkräftemangel",Daten_Risiken!$A$1:$A$529,0),$BK$5)="",NA(),INDEX(Daten_Risiken!$A:$ZZ,MATCH($B13&"|Fachkräftemangel",Daten_Risiken!$A$1:$A$529,0),$BK$5)),NA()),"") -> 11 | AL13: =IFERROR(AJ13-IFERROR(IF(INDEX(Daten_Risiken!$A:$ZZ,MATCH($B13&"|Fachkräftemangel",Daten_Risiken!$A$1:$A$529,0),$BK$6)="",NA(),INDEX(Daten_Risiken!$A:$ZZ,MATCH($B13&"|Fachkräftemangel",Daten_Risiken!$A$1:$A$529,0),$BK$6)),NA()),"") -> 9 | AM13: =IFERROR(IF(INDEX(Daten_Risiken!$A:$ZZ,MATCH($B13&"|Auslandsnachfrage",Daten_Risiken!$A$1:$A$529,0),$BK$4)="","",INDEX(Daten_Risiken!$A:$ZZ,MATCH($B13&"|Auslandsnachfrage",Daten_Risiken!$A$1:$A$529,0),$BK$4)),"") -> 13 | AN13: =IFERROR(AM13-IFERROR(IF(INDEX(Daten_Risiken!$A:$ZZ,MATCH($B13&"|Auslandsnachfrage",Daten_Risiken!$A$1:$A$529,0),$BK$5)="",NA(),INDEX(Daten_Risiken!$A:$ZZ,MATCH($B13&"|Auslandsnachfrage",Daten_Risiken!$A$1:$A$529,0),$BK$5)),NA()),"") -> -4 | AO13: =IFERROR(AM13-IFERROR(IF(INDEX(Daten_Risiken!$A:$ZZ,MATCH($B13&"|Auslandsnachfrage",Daten_Risiken!$A$1:$A$529,0),$BK$6)="",NA(),INDEX(Daten_Risiken!$A:$ZZ,MATCH($B13&"|Auslandsnachfrage",Daten_Risiken!$A$1:$A$529,0),$BK$6)),NA()),"") -> -1 | AP13: =IFERROR(IF(INDEX(Daten_Risiken!$A:$ZZ,MATCH($B13&"|Finanzierung",Daten_Risiken!$A$1:$A$529,0),$BK$4)="","",INDEX(Daten_Risiken!$A:$ZZ,MATCH($B13&"|Finanzierung",Daten_Risiken!$A$1:$A$529,0),$BK$4)),"") -> 22 | AQ13: =IFERROR(AP13-IFERROR(IF(INDEX(Daten_Risiken!$A:$ZZ,MATCH($B13&"|Finanzierung",Daten_Risiken!$A$1:$A$529,0),$BK$5)="",NA(),INDEX(Daten_Risiken!$A:$ZZ,MATCH($B13&"|Finanzierung",Daten_Risiken!$A$1:$A$529,0),$BK$5)),NA()),"") -> -1 | AR13: =IFERROR(AP13-IFERROR(IF(INDEX(Daten_Risiken!$A:$ZZ,MATCH($B13&"|Finanzierung",Daten_Risiken!$A$1:$A$529,0),$BK$6)="",NA(),INDEX(Daten_Risiken!$A:$ZZ,MATCH($B13&"|Finanzierung",Daten_Risiken!$A$1:$A$529,0),$BK$6)),NA()),"") -> 4 | AS13: =IFERROR(IF(INDEX(Daten_Risiken!$A:$ZZ,MATCH($B13&"|Wechselkurs",Daten_Risiken!$A$1:$A$529,0),$BK$4)="","",INDEX(Daten_Risiken!$A:$ZZ,MATCH($B13&"|Wechselkurs",Daten_Risiken!$A$1:$A$529,0),$BK$4)),"") -> 2 | AT13: =IFERROR(AS13-IFERROR(IF(INDEX(Daten_Risiken!$A:$ZZ,MATCH($B13&"|Wechselkurs",Daten_Risiken!$A$1:$A$529,0),$BK$5)="",NA(),INDEX(Daten_Risiken!$A:$ZZ,MATCH($B13&"|Wechselkurs",Daten_Risiken!$A$1:$A$529,0),$BK$5)),NA()),"") -> 0 | AU13: =IFERROR(AS13-IFERROR(IF(INDEX(Daten_Risiken!$A:$ZZ,MATCH($B13&"|Wechselkurs",Daten_Risiken!$A$1:$A$529,0),$BK$6)="",NA(),INDEX(Daten_Risiken!$A:$ZZ,MATCH($B13&"|Wechselkurs",Daten_Risiken!$A$1:$A$529,0),$BK$6)),NA()),"") -> 1 | AV13: =IFERROR(IF(INDEX(Daten_Motive!$A:$ZZ,MATCH($B13&"|Ersatzbedarf",Daten_Motive!$A$1:$A$331,0),$BK$7)="","",INDEX(Daten_Motive!$A:$ZZ,MATCH($B13&"|Ersatzbedarf",Daten_Motive!$A$1:$A$331,0),$BK$7)),"") -> 67 | AW13: =IFERROR(AV13-IFERROR(IF(INDEX(Daten_Motive!$A:$ZZ,MATCH($B13&"|Ersatzbedarf",Daten_Motive!$A$1:$A$331,0),$BK$8)="",NA(),INDEX(Daten_Motive!$A:$ZZ,MATCH($B13&"|Ersatzbedarf",Daten_Motive!$A$1:$A$331,0),$BK$8)),NA()),"") -> -11 | AX13: =IFERROR(AV13-IFERROR(IF(INDEX(Daten_Motive!$A:$ZZ,MATCH($B13&"|Ersatzbedarf",Daten_Motive!$A$1:$A$331,0),$BK$9)="",NA(),INDEX(Daten_Motive!$A:$ZZ,MATCH($B13&"|Ersatzbedarf",Daten_Motive!$A$1:$A$331,0),$BK$9)),NA()),"") -> 4 | AY13: =IFERROR(IF(INDEX(Daten_Motive!$A:$ZZ,MATCH($B13&"|Rationalisierung",Daten_Motive!$A$1:$A$331,0),$BK$7)="","",INDEX(Daten_Motive!$A:$ZZ,MATCH($B13&"|Rationalisierung",Daten_Motive!$A$1:$A$331,0),$BK$7)),"") -> 40 | AZ13: =IFERROR(AY13-IFERROR(IF(INDEX(Daten_Motive!$A:$ZZ,MATCH($B13&"|Rationalisierung",Daten_Motive!$A$1:$A$331,0),$BK$8)="",NA(),INDEX(Daten_Motive!$A:$ZZ,MATCH($B13&"|Rationalisierung",Daten_Motive!$A$1:$A$331,0),$BK$8)),NA()),"") -> -3 | BA13: =IFERROR(AY13-IFERROR(IF(INDEX(Daten_Motive!$A:$ZZ,MATCH($B13&"|Rationalisierung",Daten_Motive!$A$1:$A$331,0),$BK$9)="",NA(),INDEX(Daten_Motive!$A:$ZZ,MATCH($B13&"|Rationalisierung",Daten_Motive!$A$1:$A$331,0),$BK$9)),NA()),"") -> -2 | BB13: =IFERROR(IF(INDEX(Daten_Motive!$A:$ZZ,MATCH($B13&"|Produktinnovation",Daten_Motive!$A$1:$A$331,0),$BK$7)="","",INDEX(Daten_Motive!$A:$ZZ,MATCH($B13&"|Produktinnovation",Daten_Motive!$A$1:$A$331,0),$BK$7)),"") -> 26 | BC13: =IFERROR(BB13-IFERROR(IF(INDEX(Daten_Motive!$A:$ZZ,MATCH($B13&"|Produktinnovation",Daten_Motive!$A$1:$A$331,0),$BK$8)="",NA(),INDEX(Daten_Motive!$A:$ZZ,MATCH($B13&"|Produktinnovation",Daten_Motive!$A$1:$A$331,0),$BK$8)),NA()),"") -> 9 | BD13: =IFERROR(BB13-IFERROR(IF(INDEX(Daten_Motive!$A:$ZZ,MATCH($B13&"|Produktinnovation",Daten_Motive!$A$1:$A$331,0),$BK$9)="",NA(),INDEX(Daten_Motive!$A:$ZZ,MATCH($B13&"|Produktinnovation",Daten_Motive!$A$1:$A$331,0),$BK$9)),NA()),"") -> -2 | BE13: =IFERROR(IF(INDEX(Daten_Motive!$A:$ZZ,MATCH($B13&"|Umweltschutz",Daten_Motive!$A$1:$A$331,0),$BK$7)="","",INDEX(Daten_Motive!$A:$ZZ,MATCH($B13&"|Umweltschutz",Daten_Motive!$A$1:$A$331,0),$BK$7)),"") -> 25 | BF13: =IFERROR(BE13-IFERROR(IF(INDEX(Daten_Motive!$A:$ZZ,MATCH($B13&"|Umweltschutz",Daten_Motive!$A$1:$A$331,0),$BK$8)="",NA(),INDEX(Daten_Motive!$A:$ZZ,MATCH($B13&"|Umweltschutz",Daten_Motive!$A$1:$A$331,0),$BK$8)),NA()),"") -> -7 | BG13: =IFERROR(BE13-IFERROR(IF(INDEX(Daten_Motive!$A:$ZZ,MATCH($B13&"|Umweltschutz",Daten_Motive!$A$1:$A$331,0),$BK$9)="",NA(),INDEX(Daten_Motive!$A:$ZZ,MATCH($B13&"|Umweltschutz",Daten_Motive!$A$1:$A$331,0),$BK$9)),NA()),"") -> -6 | BH13: =IFERROR(IF(INDEX(Daten_Motive!$A:$ZZ,MATCH($B13&"|Kapazitätserweiterung",Daten_Motive!$A$1:$A$331,0),$BK$7)="","",INDEX(Daten_Motive!$A:$ZZ,MATCH($B13&"|Kapazitätserweiterung",Daten_Motive!$A$1:$A$331,0),$BK$7)),"") -> 17 | BI13: =IFERROR(BH13-IFERROR(IF(INDEX(Daten_Motive!$A:$ZZ,MATCH($B13&"|Kapazitätserweiterung",Daten_Motive!$A$1:$A$331,0),$BK$8)="",NA(),INDEX(Daten_Motive!$A:$ZZ,MATCH($B13&"|Kapazitätserweiterung",Daten_Motive!$A$1:$A$331,0),$BK$8)),NA()),"") -> 4 | BJ13: =IFERROR(BH13-IFERROR(IF(INDEX(Daten_Motive!$A:$ZZ,MATCH($B13&"|Kapazitätserweiterung",Daten_Motive!$A$1:$A$331,0),$BK$9)="",NA(),INDEX(Daten_Motive!$A:$ZZ,MATCH($B13&"|Kapazitätserweiterung",Daten_Motive!$A$1:$A$331,0),$BK$9)),NA()),"") -> 0
A14: 6 | B14: =Listen!A7 -> Textil-, Bekleidungs- und Ledergewerbe | C14: 13 bis 15 | D14: =Listen!B7 -> Industrie | E14: =IFERROR(IF(INDEX(Daten_Anteile!$A:$ZZ,MATCH($B14&"|Lage|"&$C$3,Daten_Anteile!$A$1:$A$2971,0),5)="","",INDEX(Daten_Anteile!$A:$ZZ,MATCH($B14&"|Lage|"&$C$3,Daten_Anteile!$A$1:$A$2971,0),5)),"") -> 226 | F14: =IF(AND(ISNUMBER(I14),ISNUMBER(L14)),ROUND(SQRT((100+I14)*(100+L14)),1),"") -> 91 | G14: =IF(AND(ISNUMBER(F14),ISNUMBER(J14),ISNUMBER(M14)),ROUND(F14-SQRT((100+I14-J14)*(100+L14-M14)),1),"") -> 6.5 | H14: =IF(AND(ISNUMBER(F14),ISNUMBER(K14),ISNUMBER(N14)),ROUND(F14-SQRT((100+I14-K14)*(100+L14-N14)),1),"") -> 5.2 | I14: =IFERROR(IF(INDEX(Daten_Salden!$A:$ZZ,MATCH($B14&"|Lage",Daten_Salden!$A$1:$A$331,0),$BK$1)="","",INDEX(Daten_Salden!$A:$ZZ,MATCH($B14&"|Lage",Daten_Salden!$A$1:$A$331,0),$BK$1)),"") -> -10 | J14: =IFERROR(I14-IFERROR(IF(INDEX(Daten_Salden!$A:$ZZ,MATCH($B14&"|Lage",Daten_Salden!$A$1:$A$331,0),$BK$2)="",NA(),INDEX(Daten_Salden!$A:$ZZ,MATCH($B14&"|Lage",Daten_Salden!$A$1:$A$331,0),$BK$2)),NA()),"") -> 4 | K14: =IFERROR(I14-IFERROR(IF(INDEX(Daten_Salden!$A:$ZZ,MATCH($B14&"|Lage",Daten_Salden!$A$1:$A$331,0),$BK$3)="",NA(),INDEX(Daten_Salden!$A:$ZZ,MATCH($B14&"|Lage",Daten_Salden!$A$1:$A$331,0),$BK$3)),NA()),"") -> 10 | L14: =IFERROR(IF(INDEX(Daten_Salden!$A:$ZZ,MATCH($B14&"|Erwartungen",Daten_Salden!$A$1:$A$331,0),$BK$1)="","",INDEX(Daten_Salden!$A:$ZZ,MATCH($B14&"|Erwartungen",Daten_Salden!$A$1:$A$331,0),$BK$1)),"") -> -8 | M14: =IFERROR(L14-IFERROR(IF(INDEX(Daten_Salden!$A:$ZZ,MATCH($B14&"|Erwartungen",Daten_Salden!$A$1:$A$331,0),$BK$2)="",NA(),INDEX(Daten_Salden!$A:$ZZ,MATCH($B14&"|Erwartungen",Daten_Salden!$A$1:$A$331,0),$BK$2)),NA()),"") -> 9 | N14: =IFERROR(L14-IFERROR(IF(INDEX(Daten_Salden!$A:$ZZ,MATCH($B14&"|Erwartungen",Daten_Salden!$A$1:$A$331,0),$BK$3)="",NA(),INDEX(Daten_Salden!$A:$ZZ,MATCH($B14&"|Erwartungen",Daten_Salden!$A$1:$A$331,0),$BK$3)),NA()),"") -> 0 | O14: =IFERROR(IF(INDEX(Daten_Salden!$A:$ZZ,MATCH($B14&"|Export",Daten_Salden!$A$1:$A$331,0),$BK$1)="","",INDEX(Daten_Salden!$A:$ZZ,MATCH($B14&"|Export",Daten_Salden!$A$1:$A$331,0),$BK$1)),"") -> -2 | P14: =IFERROR(O14-IFERROR(IF(INDEX(Daten_Salden!$A:$ZZ,MATCH($B14&"|Export",Daten_Salden!$A$1:$A$331,0),$BK$2)="",NA(),INDEX(Daten_Salden!$A:$ZZ,MATCH($B14&"|Export",Daten_Salden!$A$1:$A$331,0),$BK$2)),NA()),"") -> 9 | Q14: =IFERROR(O14-IFERROR(IF(INDEX(Daten_Salden!$A:$ZZ,MATCH($B14&"|Export",Daten_Salden!$A$1:$A$331,0),$BK$3)="",NA(),INDEX(Daten_Salden!$A:$ZZ,MATCH($B14&"|Export",Daten_Salden!$A$1:$A$331,0),$BK$3)),NA()),"") -> 9 | R14: =IFERROR(IF(INDEX(Daten_Salden!$A:$ZZ,MATCH($B14&"|Investitionen",Daten_Salden!$A$1:$A$331,0),$BK$1)="","",INDEX(Daten_Salden!$A:$ZZ,MATCH($B14&"|Investitionen",Daten_Salden!$A$1:$A$331,0),$BK$1)),"") -> -19 | S14: =IFERROR(R14-IFERROR(IF(INDEX(Daten_Salden!$A:$ZZ,MATCH($B14&"|Investitionen",Daten_Salden!$A$1:$A$331,0),$BK$2)="",NA(),INDEX(Daten_Salden!$A:$ZZ,MATCH($B14&"|Investitionen",Daten_Salden!$A$1:$A$331,0),$BK$2)),NA()),"") -> 7 | T14: =IFERROR(R14-IFERROR(IF(INDEX(Daten_Salden!$A:$ZZ,MATCH($B14&"|Investitionen",Daten_Salden!$A$1:$A$331,0),$BK$3)="",NA(),INDEX(Daten_Salden!$A:$ZZ,MATCH($B14&"|Investitionen",Daten_Salden!$A$1:$A$331,0),$BK$3)),NA()),"") -> -8 | U14: =IFERROR(IF(INDEX(Daten_Salden!$A:$ZZ,MATCH($B14&"|Beschäftigung",Daten_Salden!$A$1:$A$331,0),$BK$1)="","",INDEX(Daten_Salden!$A:$ZZ,MATCH($B14&"|Beschäftigung",Daten_Salden!$A$1:$A$331,0),$BK$1)),"") -> -22 | V14: =IFERROR(U14-IFERROR(IF(INDEX(Daten_Salden!$A:$ZZ,MATCH($B14&"|Beschäftigung",Daten_Salden!$A$1:$A$331,0),$BK$2)="",NA(),INDEX(Daten_Salden!$A:$ZZ,MATCH($B14&"|Beschäftigung",Daten_Salden!$A$1:$A$331,0),$BK$2)),NA()),"") -> 5 | W14: =IFERROR(U14-IFERROR(IF(INDEX(Daten_Salden!$A:$ZZ,MATCH($B14&"|Beschäftigung",Daten_Salden!$A$1:$A$331,0),$BK$3)="",NA(),INDEX(Daten_Salden!$A:$ZZ,MATCH($B14&"|Beschäftigung",Daten_Salden!$A$1:$A$331,0),$BK$3)),NA()),"") -> 3 | X14: =IFERROR(IF(INDEX(Daten_Risiken!$A:$ZZ,MATCH($B14&"|Energie- und Rohstoffpreise",Daten_Risiken!$A$1:$A$529,0),$BK$4)="","",INDEX(Daten_Risiken!$A:$ZZ,MATCH($B14&"|Energie- und Rohstoffpreise",Daten_Risiken!$A$1:$A$529,0),$BK$4)),"") -> 78 | Y14: =IFERROR(X14-IFERROR(IF(INDEX(Daten_Risiken!$A:$ZZ,MATCH($B14&"|Energie- und Rohstoffpreise",Daten_Risiken!$A$1:$A$529,0),$BK$5)="",NA(),INDEX(Daten_Risiken!$A:$ZZ,MATCH($B14&"|Energie- und Rohstoffpreise",Daten_Risiken!$A$1:$A$529,0),$BK$5)),NA()),"") -> -7 | Z14: =IFERROR(X14-IFERROR(IF(INDEX(Daten_Risiken!$A:$ZZ,MATCH($B14&"|Energie- und Rohstoffpreise",Daten_Risiken!$A$1:$A$529,0),$BK$6)="",NA(),INDEX(Daten_Risiken!$A:$ZZ,MATCH($B14&"|Energie- und Rohstoffpreise",Daten_Risiken!$A$1:$A$529,0),$BK$6)),NA()),"") -> 18 | AA14: =IFERROR(IF(INDEX(Daten_Risiken!$A:$ZZ,MATCH($B14&"|Arbeitskosten",Daten_Risiken!$A$1:$A$529,0),$BK$4)="","",INDEX(Daten_Risiken!$A:$ZZ,MATCH($B14&"|Arbeitskosten",Daten_Risiken!$A$1:$A$529,0),$BK$4)),"") -> 55 | AB14: =IFERROR(AA14-IFERROR(IF(INDEX(Daten_Risiken!$A:$ZZ,MATCH($B14&"|Arbeitskosten",Daten_Risiken!$A$1:$A$529,0),$BK$5)="",NA(),INDEX(Daten_Risiken!$A:$ZZ,MATCH($B14&"|Arbeitskosten",Daten_Risiken!$A$1:$A$529,0),$BK$5)),NA()),"") -> -5 | AC14: =IFERROR(AA14-IFERROR(IF(INDEX(Daten_Risiken!$A:$ZZ,MATCH($B14&"|Arbeitskosten",Daten_Risiken!$A$1:$A$529,0),$BK$6)="",NA(),INDEX(Daten_Risiken!$A:$ZZ,MATCH($B14&"|Arbeitskosten",Daten_Risiken!$A$1:$A$529,0),$BK$6)),NA()),"") -> -11 | AD14: =IFERROR(IF(INDEX(Daten_Risiken!$A:$ZZ,MATCH($B14&"|Inlandsnachfrage",Daten_Risiken!$A$1:$A$529,0),$BK$4)="","",INDEX(Daten_Risiken!$A:$ZZ,MATCH($B14&"|Inlandsnachfrage",Daten_Risiken!$A$1:$A$529,0),$BK$4)),"") -> 66 | AE14: =IFERROR(AD14-IFERROR(IF(INDEX(Daten_Risiken!$A:$ZZ,MATCH($B14&"|Inlandsnachfrage",Daten_Risiken!$A$1:$A$529,0),$BK$5)="",NA(),INDEX(Daten_Risiken!$A:$ZZ,MATCH($B14&"|Inlandsnachfrage",Daten_Risiken!$A$1:$A$529,0),$BK$5)),NA()),"") -> -2 | AF14: =IFERROR(AD14-IFERROR(IF(INDEX(Daten_Risiken!$A:$ZZ,MATCH($B14&"|Inlandsnachfrage",Daten_Risiken!$A$1:$A$529,0),$BK$6)="",NA(),INDEX(Daten_Risiken!$A:$ZZ,MATCH($B14&"|Inlandsnachfrage",Daten_Risiken!$A$1:$A$529,0),$BK$6)),NA()),"") -> -3 | AG14: =IFERROR(IF(INDEX(Daten_Risiken!$A:$ZZ,MATCH($B14&"|Wirtschaftspolitische Rahmenbedingungen",Daten_Risiken!$A$1:$A$529,0),$BK$4)="","",INDEX(Daten_Risiken!$A:$ZZ,MATCH($B14&"|Wirtschaftspolitische Rahmenbedingungen",Daten_Risiken!$A$1:$A$529,0),$BK$4)),"") -> 57 | AH14: =IFERROR(AG14-IFERROR(IF(INDEX(Daten_Risiken!$A:$ZZ,MATCH($B14&"|Wirtschaftspolitische Rahmenbedingungen",Daten_Risiken!$A$1:$A$529,0),$BK$5)="",NA(),INDEX(Daten_Risiken!$A:$ZZ,MATCH($B14&"|Wirtschaftspolitische Rahmenbedingungen",Daten_Risiken!$A$1:$A$529,0),$BK$5)),NA()),"") -> -1 | AI14: =IFERROR(AG14-IFERROR(IF(INDEX(Daten_Risiken!$A:$ZZ,MATCH($B14&"|Wirtschaftspolitische Rahmenbedingungen",Daten_Risiken!$A$1:$A$529,0),$BK$6)="",NA(),INDEX(Daten_Risiken!$A:$ZZ,MATCH($B14&"|Wirtschaftspolitische Rahmenbedingungen",Daten_Risiken!$A$1:$A$529,0),$BK$6)),NA()),"") -> 5 | AJ14: =IFERROR(IF(INDEX(Daten_Risiken!$A:$ZZ,MATCH($B14&"|Fachkräftemangel",Daten_Risiken!$A$1:$A$529,0),$BK$4)="","",INDEX(Daten_Risiken!$A:$ZZ,MATCH($B14&"|Fachkräftemangel",Daten_Risiken!$A$1:$A$529,0),$BK$4)),"") -> 32 | AK14: =IFERROR(AJ14-IFERROR(IF(INDEX(Daten_Risiken!$A:$ZZ,MATCH($B14&"|Fachkräftemangel",Daten_Risiken!$A$1:$A$529,0),$BK$5)="",NA(),INDEX(Daten_Risiken!$A:$ZZ,MATCH($B14&"|Fachkräftemangel",Daten_Risiken!$A$1:$A$529,0),$BK$5)),NA()),"") -> 6 | AL14: =IFERROR(AJ14-IFERROR(IF(INDEX(Daten_Risiken!$A:$ZZ,MATCH($B14&"|Fachkräftemangel",Daten_Risiken!$A$1:$A$529,0),$BK$6)="",NA(),INDEX(Daten_Risiken!$A:$ZZ,MATCH($B14&"|Fachkräftemangel",Daten_Risiken!$A$1:$A$529,0),$BK$6)),NA()),"") -> 2 | AM14: =IFERROR(IF(INDEX(Daten_Risiken!$A:$ZZ,MATCH($B14&"|Auslandsnachfrage",Daten_Risiken!$A$1:$A$529,0),$BK$4)="","",INDEX(Daten_Risiken!$A:$ZZ,MATCH($B14&"|Auslandsnachfrage",Daten_Risiken!$A$1:$A$529,0),$BK$4)),"") -> 31 | AN14: =IFERROR(AM14-IFERROR(IF(INDEX(Daten_Risiken!$A:$ZZ,MATCH($B14&"|Auslandsnachfrage",Daten_Risiken!$A$1:$A$529,0),$BK$5)="",NA(),INDEX(Daten_Risiken!$A:$ZZ,MATCH($B14&"|Auslandsnachfrage",Daten_Risiken!$A$1:$A$529,0),$BK$5)),NA()),"") -> -10 | AO14: =IFERROR(AM14-IFERROR(IF(INDEX(Daten_Risiken!$A:$ZZ,MATCH($B14&"|Auslandsnachfrage",Daten_Risiken!$A$1:$A$529,0),$BK$6)="",NA(),INDEX(Daten_Risiken!$A:$ZZ,MATCH($B14&"|Auslandsnachfrage",Daten_Risiken!$A$1:$A$529,0),$BK$6)),NA()),"") -> -14 | AP14: =IFERROR(IF(INDEX(Daten_Risiken!$A:$ZZ,MATCH($B14&"|Finanzierung",Daten_Risiken!$A$1:$A$529,0),$BK$4)="","",INDEX(Daten_Risiken!$A:$ZZ,MATCH($B14&"|Finanzierung",Daten_Risiken!$A$1:$A$529,0),$BK$4)),"") -> 8 | AQ14: =IFERROR(AP14-IFERROR(IF(INDEX(Daten_Risiken!$A:$ZZ,MATCH($B14&"|Finanzierung",Daten_Risiken!$A$1:$A$529,0),$BK$5)="",NA(),INDEX(Daten_Risiken!$A:$ZZ,MATCH($B14&"|Finanzierung",Daten_Risiken!$A$1:$A$529,0),$BK$5)),NA()),"") -> -2 | AR14: =IFERROR(AP14-IFERROR(IF(INDEX(Daten_Risiken!$A:$ZZ,MATCH($B14&"|Finanzierung",Daten_Risiken!$A$1:$A$529,0),$BK$6)="",NA(),INDEX(Daten_Risiken!$A:$ZZ,MATCH($B14&"|Finanzierung",Daten_Risiken!$A$1:$A$529,0),$BK$6)),NA()),"") -> -3 | AS14: =IFERROR(IF(INDEX(Daten_Risiken!$A:$ZZ,MATCH($B14&"|Wechselkurs",Daten_Risiken!$A$1:$A$529,0),$BK$4)="","",INDEX(Daten_Risiken!$A:$ZZ,MATCH($B14&"|Wechselkurs",Daten_Risiken!$A$1:$A$529,0),$BK$4)),"") -> 5 | AT14: =IFERROR(AS14-IFERROR(IF(INDEX(Daten_Risiken!$A:$ZZ,MATCH($B14&"|Wechselkurs",Daten_Risiken!$A$1:$A$529,0),$BK$5)="",NA(),INDEX(Daten_Risiken!$A:$ZZ,MATCH($B14&"|Wechselkurs",Daten_Risiken!$A$1:$A$529,0),$BK$5)),NA()),"") -> 0 | AU14: =IFERROR(AS14-IFERROR(IF(INDEX(Daten_Risiken!$A:$ZZ,MATCH($B14&"|Wechselkurs",Daten_Risiken!$A$1:$A$529,0),$BK$6)="",NA(),INDEX(Daten_Risiken!$A:$ZZ,MATCH($B14&"|Wechselkurs",Daten_Risiken!$A$1:$A$529,0),$BK$6)),NA()),"") -> 0 | AV14: =IFERROR(IF(INDEX(Daten_Motive!$A:$ZZ,MATCH($B14&"|Ersatzbedarf",Daten_Motive!$A$1:$A$331,0),$BK$7)="","",INDEX(Daten_Motive!$A:$ZZ,MATCH($B14&"|Ersatzbedarf",Daten_Motive!$A$1:$A$331,0),$BK$7)),"") -> 68 | AW14: =IFERROR(AV14-IFERROR(IF(INDEX(Daten_Motive!$A:$ZZ,MATCH($B14&"|Ersatzbedarf",Daten_Motive!$A$1:$A$331,0),$BK$8)="",NA(),INDEX(Daten_Motive!$A:$ZZ,MATCH($B14&"|Ersatzbedarf",Daten_Motive!$A$1:$A$331,0),$BK$8)),NA()),"") -> 1 | AX14: =IFERROR(AV14-IFERROR(IF(INDEX(Daten_Motive!$A:$ZZ,MATCH($B14&"|Ersatzbedarf",Daten_Motive!$A$1:$A$331,0),$BK$9)="",NA(),INDEX(Daten_Motive!$A:$ZZ,MATCH($B14&"|Ersatzbedarf",Daten_Motive!$A$1:$A$331,0),$BK$9)),NA()),"") -> 6 | AY14: =IFERROR(IF(INDEX(Daten_Motive!$A:$ZZ,MATCH($B14&"|Rationalisierung",Daten_Motive!$A$1:$A$331,0),$BK$7)="","",INDEX(Daten_Motive!$A:$ZZ,MATCH($B14&"|Rationalisierung",Daten_Motive!$A$1:$A$331,0),$BK$7)),"") -> 37 | AZ14: =IFERROR(AY14-IFERROR(IF(INDEX(Daten_Motive!$A:$ZZ,MATCH($B14&"|Rationalisierung",Daten_Motive!$A$1:$A$331,0),$BK$8)="",NA(),INDEX(Daten_Motive!$A:$ZZ,MATCH($B14&"|Rationalisierung",Daten_Motive!$A$1:$A$331,0),$BK$8)),NA()),"") -> -4 | BA14: =IFERROR(AY14-IFERROR(IF(INDEX(Daten_Motive!$A:$ZZ,MATCH($B14&"|Rationalisierung",Daten_Motive!$A$1:$A$331,0),$BK$9)="",NA(),INDEX(Daten_Motive!$A:$ZZ,MATCH($B14&"|Rationalisierung",Daten_Motive!$A$1:$A$331,0),$BK$9)),NA()),"") -> -7 | BB14: =IFERROR(IF(INDEX(Daten_Motive!$A:$ZZ,MATCH($B14&"|Produktinnovation",Daten_Motive!$A$1:$A$331,0),$BK$7)="","",INDEX(Daten_Motive!$A:$ZZ,MATCH($B14&"|Produktinnovation",Daten_Motive!$A$1:$A$331,0),$BK$7)),"") -> 28 | BC14: =IFERROR(BB14-IFERROR(IF(INDEX(Daten_Motive!$A:$ZZ,MATCH($B14&"|Produktinnovation",Daten_Motive!$A$1:$A$331,0),$BK$8)="",NA(),INDEX(Daten_Motive!$A:$ZZ,MATCH($B14&"|Produktinnovation",Daten_Motive!$A$1:$A$331,0),$BK$8)),NA()),"") -> -8 | BD14: =IFERROR(BB14-IFERROR(IF(INDEX(Daten_Motive!$A:$ZZ,MATCH($B14&"|Produktinnovation",Daten_Motive!$A$1:$A$331,0),$BK$9)="",NA(),INDEX(Daten_Motive!$A:$ZZ,MATCH($B14&"|Produktinnovation",Daten_Motive!$A$1:$A$331,0),$BK$9)),NA()),"") -> -4 | BE14: =IFERROR(IF(INDEX(Daten_Motive!$A:$ZZ,MATCH($B14&"|Umweltschutz",Daten_Motive!$A$1:$A$331,0),$BK$7)="","",INDEX(Daten_Motive!$A:$ZZ,MATCH($B14&"|Umweltschutz",Daten_Motive!$A$1:$A$331,0),$BK$7)),"") -> 22 | BF14: =IFERROR(BE14-IFERROR(IF(INDEX(Daten_Motive!$A:$ZZ,MATCH($B14&"|Umweltschutz",Daten_Motive!$A$1:$A$331,0),$BK$8)="",NA(),INDEX(Daten_Motive!$A:$ZZ,MATCH($B14&"|Umweltschutz",Daten_Motive!$A$1:$A$331,0),$BK$8)),NA()),"") -> 4 | BG14: =IFERROR(BE14-IFERROR(IF(INDEX(Daten_Motive!$A:$ZZ,MATCH($B14&"|Umweltschutz",Daten_Motive!$A$1:$A$331,0),$BK$9)="",NA(),INDEX(Daten_Motive!$A:$ZZ,MATCH($B14&"|Umweltschutz",Daten_Motive!$A$1:$A$331,0),$BK$9)),NA()),"") -> -1 | BH14: =IFERROR(IF(INDEX(Daten_Motive!$A:$ZZ,MATCH($B14&"|Kapazitätserweiterung",Daten_Motive!$A$1:$A$331,0),$BK$7)="","",INDEX(Daten_Motive!$A:$ZZ,MATCH($B14&"|Kapazitätserweiterung",Daten_Motive!$A$1:$A$331,0),$BK$7)),"") -> 16 | BI14: =IFERROR(BH14-IFERROR(IF(INDEX(Daten_Motive!$A:$ZZ,MATCH($B14&"|Kapazitätserweiterung",Daten_Motive!$A$1:$A$331,0),$BK$8)="",NA(),INDEX(Daten_Motive!$A:$ZZ,MATCH($B14&"|Kapazitätserweiterung",Daten_Motive!$A$1:$A$331,0),$BK$8)),NA()),"") -> -1 | BJ14: =IFERROR(BH14-IFERROR(IF(INDEX(Daten_Motive!$A:$ZZ,MATCH($B14&"|Kapazitätserweiterung",Daten_Motive!$A$1:$A$331,0),$BK$9)="",NA(),INDEX(Daten_Motive!$A:$ZZ,MATCH($B14&"|Kapazitätserweiterung",Daten_Motive!$A$1:$A$331,0),$BK$9)),NA()),"") -> -3
A15: 7 | B15: =Listen!A8 -> Textilgewerbe | C15: 13 | D15: =Listen!B8 -> Industrie | E15: =IFERROR(IF(INDEX(Daten_Anteile!$A:$ZZ,MATCH($B15&"|Lage|"&$C$3,Daten_Anteile!$A$1:$A$2971,0),5)="","",INDEX(Daten_Anteile!$A:$ZZ,MATCH($B15&"|Lage|"&$C$3,Daten_Anteile!$A$1:$A$2971,0),5)),"") -> 143 | F15: =IF(AND(ISNUMBER(I15),ISNUMBER(L15)),ROUND(SQRT((100+I15)*(100+L15)),1),"") -> 95 | G15: =IF(AND(ISNUMBER(F15),ISNUMBER(J15),ISNUMBER(M15)),ROUND(F15-SQRT((100+I15-J15)*(100+L15-M15)),1),"") -> 6.5 | H15: =IF(AND(ISNUMBER(F15),ISNUMBER(K15),ISNUMBER(N15)),ROUND(F15-SQRT((100+I15-K15)*(100+L15-N15)),1),"") -> 9.8 | I15: =IFERROR(IF(INDEX(Daten_Salden!$A:$ZZ,MATCH($B15&"|Lage",Daten_Salden!$A$1:$A$331,0),$BK$1)="","",INDEX(Daten_Salden!$A:$ZZ,MATCH($B15&"|Lage",Daten_Salden!$A$1:$A$331,0),$BK$1)),"") -> -2 | J15: =IFERROR(I15-IFERROR(IF(INDEX(Daten_Salden!$A:$ZZ,MATCH($B15&"|Lage",Daten_Salden!$A$1:$A$331,0),$BK$2)="",NA(),INDEX(Daten_Salden!$A:$ZZ,MATCH($B15&"|Lage",Daten_Salden!$A$1:$A$331,0),$BK$2)),NA()),"") -> 9 | K15: =IFERROR(I15-IFERROR(IF(INDEX(Daten_Salden!$A:$ZZ,MATCH($B15&"|Lage",Daten_Salden!$A$1:$A$331,0),$BK$3)="",NA(),INDEX(Daten_Salden!$A:$ZZ,MATCH($B15&"|Lage",Daten_Salden!$A$1:$A$331,0),$BK$3)),NA()),"") -> 24 | L15: =IFERROR(IF(INDEX(Daten_Salden!$A:$ZZ,MATCH($B15&"|Erwartungen",Daten_Salden!$A$1:$A$331,0),$BK$1)="","",INDEX(Daten_Salden!$A:$ZZ,MATCH($B15&"|Erwartungen",Daten_Salden!$A$1:$A$331,0),$BK$1)),"") -> -8 | M15: =IFERROR(L15-IFERROR(IF(INDEX(Daten_Salden!$A:$ZZ,MATCH($B15&"|Erwartungen",Daten_Salden!$A$1:$A$331,0),$BK$2)="",NA(),INDEX(Daten_Salden!$A:$ZZ,MATCH($B15&"|Erwartungen",Daten_Salden!$A$1:$A$331,0),$BK$2)),NA()),"") -> 4 | N15: =IFERROR(L15-IFERROR(IF(INDEX(Daten_Salden!$A:$ZZ,MATCH($B15&"|Erwartungen",Daten_Salden!$A$1:$A$331,0),$BK$3)="",NA(),INDEX(Daten_Salden!$A:$ZZ,MATCH($B15&"|Erwartungen",Daten_Salden!$A$1:$A$331,0),$BK$3)),NA()),"") -> -6 | O15: =IFERROR(IF(INDEX(Daten_Salden!$A:$ZZ,MATCH($B15&"|Export",Daten_Salden!$A$1:$A$331,0),$BK$1)="","",INDEX(Daten_Salden!$A:$ZZ,MATCH($B15&"|Export",Daten_Salden!$A$1:$A$331,0),$BK$1)),"") -> -3 | P15: =IFERROR(O15-IFERROR(IF(INDEX(Daten_Salden!$A:$ZZ,MATCH($B15&"|Export",Daten_Salden!$A$1:$A$331,0),$BK$2)="",NA(),INDEX(Daten_Salden!$A:$ZZ,MATCH($B15&"|Export",Daten_Salden!$A$1:$A$331,0),$BK$2)),NA()),"") -> 6 | Q15: =IFERROR(O15-IFERROR(IF(INDEX(Daten_Salden!$A:$ZZ,MATCH($B15&"|Export",Daten_Salden!$A$1:$A$331,0),$BK$3)="",NA(),INDEX(Daten_Salden!$A:$ZZ,MATCH($B15&"|Export",Daten_Salden!$A$1:$A$331,0),$BK$3)),NA()),"") -> 3 | R15: =IFERROR(IF(INDEX(Daten_Salden!$A:$ZZ,MATCH($B15&"|Investitionen",Daten_Salden!$A$1:$A$331,0),$BK$1)="","",INDEX(Daten_Salden!$A:$ZZ,MATCH($B15&"|Investitionen",Daten_Salden!$A$1:$A$331,0),$BK$1)),"") -> -14 | S15: =IFERROR(R15-IFERROR(IF(INDEX(Daten_Salden!$A:$ZZ,MATCH($B15&"|Investitionen",Daten_Salden!$A$1:$A$331,0),$BK$2)="",NA(),INDEX(Daten_Salden!$A:$ZZ,MATCH($B15&"|Investitionen",Daten_Salden!$A$1:$A$331,0),$BK$2)),NA()),"") -> 14 | T15: =IFERROR(R15-IFERROR(IF(INDEX(Daten_Salden!$A:$ZZ,MATCH($B15&"|Investitionen",Daten_Salden!$A$1:$A$331,0),$BK$3)="",NA(),INDEX(Daten_Salden!$A:$ZZ,MATCH($B15&"|Investitionen",Daten_Salden!$A$1:$A$331,0),$BK$3)),NA()),"") -> 2 | U15: =IFERROR(IF(INDEX(Daten_Salden!$A:$ZZ,MATCH($B15&"|Beschäftigung",Daten_Salden!$A$1:$A$331,0),$BK$1)="","",INDEX(Daten_Salden!$A:$ZZ,MATCH($B15&"|Beschäftigung",Daten_Salden!$A$1:$A$331,0),$BK$1)),"") -> -13 | V15: =IFERROR(U15-IFERROR(IF(INDEX(Daten_Salden!$A:$ZZ,MATCH($B15&"|Beschäftigung",Daten_Salden!$A$1:$A$331,0),$BK$2)="",NA(),INDEX(Daten_Salden!$A:$ZZ,MATCH($B15&"|Beschäftigung",Daten_Salden!$A$1:$A$331,0),$BK$2)),NA()),"") -> 10 | W15: =IFERROR(U15-IFERROR(IF(INDEX(Daten_Salden!$A:$ZZ,MATCH($B15&"|Beschäftigung",Daten_Salden!$A$1:$A$331,0),$BK$3)="",NA(),INDEX(Daten_Salden!$A:$ZZ,MATCH($B15&"|Beschäftigung",Daten_Salden!$A$1:$A$331,0),$BK$3)),NA()),"") -> 8 | X15: =IFERROR(IF(INDEX(Daten_Risiken!$A:$ZZ,MATCH($B15&"|Energie- und Rohstoffpreise",Daten_Risiken!$A$1:$A$529,0),$BK$4)="","",INDEX(Daten_Risiken!$A:$ZZ,MATCH($B15&"|Energie- und Rohstoffpreise",Daten_Risiken!$A$1:$A$529,0),$BK$4)),"") -> 80 | Y15: =IFERROR(X15-IFERROR(IF(INDEX(Daten_Risiken!$A:$ZZ,MATCH($B15&"|Energie- und Rohstoffpreise",Daten_Risiken!$A$1:$A$529,0),$BK$5)="",NA(),INDEX(Daten_Risiken!$A:$ZZ,MATCH($B15&"|Energie- und Rohstoffpreise",Daten_Risiken!$A$1:$A$529,0),$BK$5)),NA()),"") -> -12 | Z15: =IFERROR(X15-IFERROR(IF(INDEX(Daten_Risiken!$A:$ZZ,MATCH($B15&"|Energie- und Rohstoffpreise",Daten_Risiken!$A$1:$A$529,0),$BK$6)="",NA(),INDEX(Daten_Risiken!$A:$ZZ,MATCH($B15&"|Energie- und Rohstoffpreise",Daten_Risiken!$A$1:$A$529,0),$BK$6)),NA()),"") -> 14 | AA15: =IFERROR(IF(INDEX(Daten_Risiken!$A:$ZZ,MATCH($B15&"|Arbeitskosten",Daten_Risiken!$A$1:$A$529,0),$BK$4)="","",INDEX(Daten_Risiken!$A:$ZZ,MATCH($B15&"|Arbeitskosten",Daten_Risiken!$A$1:$A$529,0),$BK$4)),"") -> 55 | AB15: =IFERROR(AA15-IFERROR(IF(INDEX(Daten_Risiken!$A:$ZZ,MATCH($B15&"|Arbeitskosten",Daten_Risiken!$A$1:$A$529,0),$BK$5)="",NA(),INDEX(Daten_Risiken!$A:$ZZ,MATCH($B15&"|Arbeitskosten",Daten_Risiken!$A$1:$A$529,0),$BK$5)),NA()),"") -> -7 | AC15: =IFERROR(AA15-IFERROR(IF(INDEX(Daten_Risiken!$A:$ZZ,MATCH($B15&"|Arbeitskosten",Daten_Risiken!$A$1:$A$529,0),$BK$6)="",NA(),INDEX(Daten_Risiken!$A:$ZZ,MATCH($B15&"|Arbeitskosten",Daten_Risiken!$A$1:$A$529,0),$BK$6)),NA()),"") -> -13 | AD15: =IFERROR(IF(INDEX(Daten_Risiken!$A:$ZZ,MATCH($B15&"|Inlandsnachfrage",Daten_Risiken!$A$1:$A$529,0),$BK$4)="","",INDEX(Daten_Risiken!$A:$ZZ,MATCH($B15&"|Inlandsnachfrage",Daten_Risiken!$A$1:$A$529,0),$BK$4)),"") -> 64 | AE15: =IFERROR(AD15-IFERROR(IF(INDEX(Daten_Risiken!$A:$ZZ,MATCH($B15&"|Inlandsnachfrage",Daten_Risiken!$A$1:$A$529,0),$BK$5)="",NA(),INDEX(Daten_Risiken!$A:$ZZ,MATCH($B15&"|Inlandsnachfrage",Daten_Risiken!$A$1:$A$529,0),$BK$5)),NA()),"") -> 0 | AF15: =IFERROR(AD15-IFERROR(IF(INDEX(Daten_Risiken!$A:$ZZ,MATCH($B15&"|Inlandsnachfrage",Daten_Risiken!$A$1:$A$529,0),$BK$6)="",NA(),INDEX(Daten_Risiken!$A:$ZZ,MATCH($B15&"|Inlandsnachfrage",Daten_Risiken!$A$1:$A$529,0),$BK$6)),NA()),"") -> -8 | AG15: =IFERROR(IF(INDEX(Daten_Risiken!$A:$ZZ,MATCH($B15&"|Wirtschaftspolitische Rahmenbedingungen",Daten_Risiken!$A$1:$A$529,0),$BK$4)="","",INDEX(Daten_Risiken!$A:$ZZ,MATCH($B15&"|Wirtschaftspolitische Rahmenbedingungen",Daten_Risiken!$A$1:$A$529,0),$BK$4)),"") -> 58 | AH15: =IFERROR(AG15-IFERROR(IF(INDEX(Daten_Risiken!$A:$ZZ,MATCH($B15&"|Wirtschaftspolitische Rahmenbedingungen",Daten_Risiken!$A$1:$A$529,0),$BK$5)="",NA(),INDEX(Daten_Risiken!$A:$ZZ,MATCH($B15&"|Wirtschaftspolitische Rahmenbedingungen",Daten_Risiken!$A$1:$A$529,0),$BK$5)),NA()),"") -> 1 | AI15: =IFERROR(AG15-IFERROR(IF(INDEX(Daten_Risiken!$A:$ZZ,MATCH($B15&"|Wirtschaftspolitische Rahmenbedingungen",Daten_Risiken!$A$1:$A$529,0),$BK$6)="",NA(),INDEX(Daten_Risiken!$A:$ZZ,MATCH($B15&"|Wirtschaftspolitische Rahmenbedingungen",Daten_Risiken!$A$1:$A$529,0),$BK$6)),NA()),"") -> 1 | AJ15: =IFERROR(IF(INDEX(Daten_Risiken!$A:$ZZ,MATCH($B15&"|Fachkräftemangel",Daten_Risiken!$A$1:$A$529,0),$BK$4)="","",INDEX(Daten_Risiken!$A:$ZZ,MATCH($B15&"|Fachkräftemangel",Daten_Risiken!$A$1:$A$529,0),$BK$4)),"") -> 34 | AK15: =IFERROR(AJ15-IFERROR(IF(INDEX(Daten_Risiken!$A:$ZZ,MATCH($B15&"|Fachkräftemangel",Daten_Risiken!$A$1:$A$529,0),$BK$5)="",NA(),INDEX(Daten_Risiken!$A:$ZZ,MATCH($B15&"|Fachkräftemangel",Daten_Risiken!$A$1:$A$529,0),$BK$5)),NA()),"") -> 0 | AL15: =IFERROR(AJ15-IFERROR(IF(INDEX(Daten_Risiken!$A:$ZZ,MATCH($B15&"|Fachkräftemangel",Daten_Risiken!$A$1:$A$529,0),$BK$6)="",NA(),INDEX(Daten_Risiken!$A:$ZZ,MATCH($B15&"|Fachkräftemangel",Daten_Risiken!$A$1:$A$529,0),$BK$6)),NA()),"") -> 1 | AM15: =IFERROR(IF(INDEX(Daten_Risiken!$A:$ZZ,MATCH($B15&"|Auslandsnachfrage",Daten_Risiken!$A$1:$A$529,0),$BK$4)="","",INDEX(Daten_Risiken!$A:$ZZ,MATCH($B15&"|Auslandsnachfrage",Daten_Risiken!$A$1:$A$529,0),$BK$4)),"") -> 33 | AN15: =IFERROR(AM15-IFERROR(IF(INDEX(Daten_Risiken!$A:$ZZ,MATCH($B15&"|Auslandsnachfrage",Daten_Risiken!$A$1:$A$529,0),$BK$5)="",NA(),INDEX(Daten_Risiken!$A:$ZZ,MATCH($B15&"|Auslandsnachfrage",Daten_Risiken!$A$1:$A$529,0),$BK$5)),NA()),"") -> -9 | AO15: =IFERROR(AM15-IFERROR(IF(INDEX(Daten_Risiken!$A:$ZZ,MATCH($B15&"|Auslandsnachfrage",Daten_Risiken!$A$1:$A$529,0),$BK$6)="",NA(),INDEX(Daten_Risiken!$A:$ZZ,MATCH($B15&"|Auslandsnachfrage",Daten_Risiken!$A$1:$A$529,0),$BK$6)),NA()),"") -> -15 | AP15: =IFERROR(IF(INDEX(Daten_Risiken!$A:$ZZ,MATCH($B15&"|Finanzierung",Daten_Risiken!$A$1:$A$529,0),$BK$4)="","",INDEX(Daten_Risiken!$A:$ZZ,MATCH($B15&"|Finanzierung",Daten_Risiken!$A$1:$A$529,0),$BK$4)),"") -> 7 | AQ15: =IFERROR(AP15-IFERROR(IF(INDEX(Daten_Risiken!$A:$ZZ,MATCH($B15&"|Finanzierung",Daten_Risiken!$A$1:$A$529,0),$BK$5)="",NA(),INDEX(Daten_Risiken!$A:$ZZ,MATCH($B15&"|Finanzierung",Daten_Risiken!$A$1:$A$529,0),$BK$5)),NA()),"") -> -1 | AR15: =IFERROR(AP15-IFERROR(IF(INDEX(Daten_Risiken!$A:$ZZ,MATCH($B15&"|Finanzierung",Daten_Risiken!$A$1:$A$529,0),$BK$6)="",NA(),INDEX(Daten_Risiken!$A:$ZZ,MATCH($B15&"|Finanzierung",Daten_Risiken!$A$1:$A$529,0),$BK$6)),NA()),"") -> -1 | AS15: =IFERROR(IF(INDEX(Daten_Risiken!$A:$ZZ,MATCH($B15&"|Wechselkurs",Daten_Risiken!$A$1:$A$529,0),$BK$4)="","",INDEX(Daten_Risiken!$A:$ZZ,MATCH($B15&"|Wechselkurs",Daten_Risiken!$A$1:$A$529,0),$BK$4)),"") -> 2 | AT15: =IFERROR(AS15-IFERROR(IF(INDEX(Daten_Risiken!$A:$ZZ,MATCH($B15&"|Wechselkurs",Daten_Risiken!$A$1:$A$529,0),$BK$5)="",NA(),INDEX(Daten_Risiken!$A:$ZZ,MATCH($B15&"|Wechselkurs",Daten_Risiken!$A$1:$A$529,0),$BK$5)),NA()),"") -> -3 | AU15: =IFERROR(AS15-IFERROR(IF(INDEX(Daten_Risiken!$A:$ZZ,MATCH($B15&"|Wechselkurs",Daten_Risiken!$A$1:$A$529,0),$BK$6)="",NA(),INDEX(Daten_Risiken!$A:$ZZ,MATCH($B15&"|Wechselkurs",Daten_Risiken!$A$1:$A$529,0),$BK$6)),NA()),"") -> -1 | AV15: =IFERROR(IF(INDEX(Daten_Motive!$A:$ZZ,MATCH($B15&"|Ersatzbedarf",Daten_Motive!$A$1:$A$331,0),$BK$7)="","",INDEX(Daten_Motive!$A:$ZZ,MATCH($B15&"|Ersatzbedarf",Daten_Motive!$A$1:$A$331,0),$BK$7)),"") -> 66 | AW15: =IFERROR(AV15-IFERROR(IF(INDEX(Daten_Motive!$A:$ZZ,MATCH($B15&"|Ersatzbedarf",Daten_Motive!$A$1:$A$331,0),$BK$8)="",NA(),INDEX(Daten_Motive!$A:$ZZ,MATCH($B15&"|Ersatzbedarf",Daten_Motive!$A$1:$A$331,0),$BK$8)),NA()),"") -> 1 | AX15: =IFERROR(AV15-IFERROR(IF(INDEX(Daten_Motive!$A:$ZZ,MATCH($B15&"|Ersatzbedarf",Daten_Motive!$A$1:$A$331,0),$BK$9)="",NA(),INDEX(Daten_Motive!$A:$ZZ,MATCH($B15&"|Ersatzbedarf",Daten_Motive!$A$1:$A$331,0),$BK$9)),NA()),"") -> 4 | AY15: =IFERROR(IF(INDEX(Daten_Motive!$A:$ZZ,MATCH($B15&"|Rationalisierung",Daten_Motive!$A$1:$A$331,0),$BK$7)="","",INDEX(Daten_Motive!$A:$ZZ,MATCH($B15&"|Rationalisierung",Daten_Motive!$A$1:$A$331,0),$BK$7)),"") -> 37 | AZ15: =IFERROR(AY15-IFERROR(IF(INDEX(Daten_Motive!$A:$ZZ,MATCH($B15&"|Rationalisierung",Daten_Motive!$A$1:$A$331,0),$BK$8)="",NA(),INDEX(Daten_Motive!$A:$ZZ,MATCH($B15&"|Rationalisierung",Daten_Motive!$A$1:$A$331,0),$BK$8)),NA()),"") -> -1 | BA15: =IFERROR(AY15-IFERROR(IF(INDEX(Daten_Motive!$A:$ZZ,MATCH($B15&"|Rationalisierung",Daten_Motive!$A$1:$A$331,0),$BK$9)="",NA(),INDEX(Daten_Motive!$A:$ZZ,MATCH($B15&"|Rationalisierung",Daten_Motive!$A$1:$A$331,0),$BK$9)),NA()),"") -> -6 | BB15: =IFERROR(IF(INDEX(Daten_Motive!$A:$ZZ,MATCH($B15&"|Produktinnovation",Daten_Motive!$A$1:$A$331,0),$BK$7)="","",INDEX(Daten_Motive!$A:$ZZ,MATCH($B15&"|Produktinnovation",Daten_Motive!$A$1:$A$331,0),$BK$7)),"") -> 30 | BC15: =IFERROR(BB15-IFERROR(IF(INDEX(Daten_Motive!$A:$ZZ,MATCH($B15&"|Produktinnovation",Daten_Motive!$A$1:$A$331,0),$BK$8)="",NA(),INDEX(Daten_Motive!$A:$ZZ,MATCH($B15&"|Produktinnovation",Daten_Motive!$A$1:$A$331,0),$BK$8)),NA()),"") -> -3 | BD15: =IFERROR(BB15-IFERROR(IF(INDEX(Daten_Motive!$A:$ZZ,MATCH($B15&"|Produktinnovation",Daten_Motive!$A$1:$A$331,0),$BK$9)="",NA(),INDEX(Daten_Motive!$A:$ZZ,MATCH($B15&"|Produktinnovation",Daten_Motive!$A$1:$A$331,0),$BK$9)),NA()),"") -> 2 | BE15: =IFERROR(IF(INDEX(Daten_Motive!$A:$ZZ,MATCH($B15&"|Umweltschutz",Daten_Motive!$A$1:$A$331,0),$BK$7)="","",INDEX(Daten_Motive!$A:$ZZ,MATCH($B15&"|Umweltschutz",Daten_Motive!$A$1:$A$331,0),$BK$7)),"") -> 24 | BF15: =IFERROR(BE15-IFERROR(IF(INDEX(Daten_Motive!$A:$ZZ,MATCH($B15&"|Umweltschutz",Daten_Motive!$A$1:$A$331,0),$BK$8)="",NA(),INDEX(Daten_Motive!$A:$ZZ,MATCH($B15&"|Umweltschutz",Daten_Motive!$A$1:$A$331,0),$BK$8)),NA()),"") -> 1 | BG15: =IFERROR(BE15-IFERROR(IF(INDEX(Daten_Motive!$A:$ZZ,MATCH($B15&"|Umweltschutz",Daten_Motive!$A$1:$A$331,0),$BK$9)="",NA(),INDEX(Daten_Motive!$A:$ZZ,MATCH($B15&"|Umweltschutz",Daten_Motive!$A$1:$A$331,0),$BK$9)),NA()),"") -> 0 | BH15: =IFERROR(IF(INDEX(Daten_Motive!$A:$ZZ,MATCH($B15&"|Kapazitätserweiterung",Daten_Motive!$A$1:$A$331,0),$BK$7)="","",INDEX(Daten_Motive!$A:$ZZ,MATCH($B15&"|Kapazitätserweiterung",Daten_Motive!$A$1:$A$331,0),$BK$7)),"") -> 19 | BI15: =IFERROR(BH15-IFERROR(IF(INDEX(Daten_Motive!$A:$ZZ,MATCH($B15&"|Kapazitätserweiterung",Daten_Motive!$A$1:$A$331,0),$BK$8)="",NA(),INDEX(Daten_Motive!$A:$ZZ,MATCH($B15&"|Kapazitätserweiterung",Daten_Motive!$A$1:$A$331,0),$BK$8)),NA()),"") -> 0 | BJ15: =IFERROR(BH15-IFERROR(IF(INDEX(Daten_Motive!$A:$ZZ,MATCH($B15&"|Kapazitätserweiterung",Daten_Motive!$A$1:$A$331,0),$BK$9)="",NA(),INDEX(Daten_Motive!$A:$ZZ,MATCH($B15&"|Kapazitätserweiterung",Daten_Motive!$A$1:$A$331,0),$BK$9)),NA()),"") -> -2
A16: 8 | B16: =Listen!A9 -> Holzgewerbe (ohne Möbel) | C16: 16 | D16: =Listen!B9 -> Industrie | E16: =IFERROR(IF(INDEX(Daten_Anteile!$A:$ZZ,MATCH($B16&"|Lage|"&$C$3,Daten_Anteile!$A$1:$A$2971,0),5)="","",INDEX(Daten_Anteile!$A:$ZZ,MATCH($B16&"|Lage|"&$C$3,Daten_Anteile!$A$1:$A$2971,0),5)),"") -> 156 | F16: =IF(AND(ISNUMBER(I16),ISNUMBER(L16)),ROUND(SQRT((100+I16)*(100+L16)),1),"") -> 80.8 | G16: =IF(AND(ISNUMBER(F16),ISNUMBER(J16),ISNUMBER(M16)),ROUND(F16-SQRT((100+I16-J16)*(100+L16-M16)),1),"") -> 1 | H16: =IF(AND(ISNUMBER(F16),ISNUMBER(K16),ISNUMBER(N16)),ROUND(F16-SQRT((100+I16-K16)*(100+L16-N16)),1),"") -> -3.7 | I16: =IFERROR(IF(INDEX(Daten_Salden!$A:$ZZ,MATCH($B16&"|Lage",Daten_Salden!$A$1:$A$331,0),$BK$1)="","",INDEX(Daten_Salden!$A:$ZZ,MATCH($B16&"|Lage",Daten_Salden!$A$1:$A$331,0),$BK$1)),"") -> -14 | J16: =IFERROR(I16-IFERROR(IF(INDEX(Daten_Salden!$A:$ZZ,MATCH($B16&"|Lage",Daten_Salden!$A$1:$A$331,0),$BK$2)="",NA(),INDEX(Daten_Salden!$A:$ZZ,MATCH($B16&"|Lage",Daten_Salden!$A$1:$A$331,0),$BK$2)),NA()),"") -> 1 | K16: =IFERROR(I16-IFERROR(IF(INDEX(Daten_Salden!$A:$ZZ,MATCH($B16&"|Lage",Daten_Salden!$A$1:$A$331,0),$BK$3)="",NA(),INDEX(Daten_Salden!$A:$ZZ,MATCH($B16&"|Lage",Daten_Salden!$A$1:$A$331,0),$BK$3)),NA()),"") -> 4 | L16: =IFERROR(IF(INDEX(Daten_Salden!$A:$ZZ,MATCH($B16&"|Erwartungen",Daten_Salden!$A$1:$A$331,0),$BK$1)="","",INDEX(Daten_Salden!$A:$ZZ,MATCH($B16&"|Erwartungen",Daten_Salden!$A$1:$A$331,0),$BK$1)),"") -> -24 | M16: =IFERROR(L16-IFERROR(IF(INDEX(Daten_Salden!$A:$ZZ,MATCH($B16&"|Erwartungen",Daten_Salden!$A$1:$A$331,0),$BK$2)="",NA(),INDEX(Daten_Salden!$A:$ZZ,MATCH($B16&"|Erwartungen",Daten_Salden!$A$1:$A$331,0),$BK$2)),NA()),"") -> 1 | N16: =IFERROR(L16-IFERROR(IF(INDEX(Daten_Salden!$A:$ZZ,MATCH($B16&"|Erwartungen",Daten_Salden!$A$1:$A$331,0),$BK$3)="",NA(),INDEX(Daten_Salden!$A:$ZZ,MATCH($B16&"|Erwartungen",Daten_Salden!$A$1:$A$331,0),$BK$3)),NA()),"") -> -11 | O16: =IFERROR(IF(INDEX(Daten_Salden!$A:$ZZ,MATCH($B16&"|Export",Daten_Salden!$A$1:$A$331,0),$BK$1)="","",INDEX(Daten_Salden!$A:$ZZ,MATCH($B16&"|Export",Daten_Salden!$A$1:$A$331,0),$BK$1)),"") -> -2 | P16: =IFERROR(O16-IFERROR(IF(INDEX(Daten_Salden!$A:$ZZ,MATCH($B16&"|Export",Daten_Salden!$A$1:$A$331,0),$BK$2)="",NA(),INDEX(Daten_Salden!$A:$ZZ,MATCH($B16&"|Export",Daten_Salden!$A$1:$A$331,0),$BK$2)),NA()),"") -> 20 | Q16: =IFERROR(O16-IFERROR(IF(INDEX(Daten_Salden!$A:$ZZ,MATCH($B16&"|Export",Daten_Salden!$A$1:$A$331,0),$BK$3)="",NA(),INDEX(Daten_Salden!$A:$ZZ,MATCH($B16&"|Export",Daten_Salden!$A$1:$A$331,0),$BK$3)),NA()),"") -> 0 | R16: =IFERROR(IF(INDEX(Daten_Salden!$A:$ZZ,MATCH($B16&"|Investitionen",Daten_Salden!$A$1:$A$331,0),$BK$1)="","",INDEX(Daten_Salden!$A:$ZZ,MATCH($B16&"|Investitionen",Daten_Salden!$A$1:$A$331,0),$BK$1)),"") -> -16 | S16: =IFERROR(R16-IFERROR(IF(INDEX(Daten_Salden!$A:$ZZ,MATCH($B16&"|Investitionen",Daten_Salden!$A$1:$A$331,0),$BK$2)="",NA(),INDEX(Daten_Salden!$A:$ZZ,MATCH($B16&"|Investitionen",Daten_Salden!$A$1:$A$331,0),$BK$2)),NA()),"") -> 20 | T16: =IFERROR(R16-IFERROR(IF(INDEX(Daten_Salden!$A:$ZZ,MATCH($B16&"|Investitionen",Daten_Salden!$A$1:$A$331,0),$BK$3)="",NA(),INDEX(Daten_Salden!$A:$ZZ,MATCH($B16&"|Investitionen",Daten_Salden!$A$1:$A$331,0),$BK$3)),NA()),"") -> -5 | U16: =IFERROR(IF(INDEX(Daten_Salden!$A:$ZZ,MATCH($B16&"|Beschäftigung",Daten_Salden!$A$1:$A$331,0),$BK$1)="","",INDEX(Daten_Salden!$A:$ZZ,MATCH($B16&"|Beschäftigung",Daten_Salden!$A$1:$A$331,0),$BK$1)),"") -> -23 | V16: =IFERROR(U16-IFERROR(IF(INDEX(Daten_Salden!$A:$ZZ,MATCH($B16&"|Beschäftigung",Daten_Salden!$A$1:$A$331,0),$BK$2)="",NA(),INDEX(Daten_Salden!$A:$ZZ,MATCH($B16&"|Beschäftigung",Daten_Salden!$A$1:$A$331,0),$BK$2)),NA()),"") -> 3 | W16: =IFERROR(U16-IFERROR(IF(INDEX(Daten_Salden!$A:$ZZ,MATCH($B16&"|Beschäftigung",Daten_Salden!$A$1:$A$331,0),$BK$3)="",NA(),INDEX(Daten_Salden!$A:$ZZ,MATCH($B16&"|Beschäftigung",Daten_Salden!$A$1:$A$331,0),$BK$3)),NA()),"") -> -2 | X16: =IFERROR(IF(INDEX(Daten_Risiken!$A:$ZZ,MATCH($B16&"|Energie- und Rohstoffpreise",Daten_Risiken!$A$1:$A$529,0),$BK$4)="","",INDEX(Daten_Risiken!$A:$ZZ,MATCH($B16&"|Energie- und Rohstoffpreise",Daten_Risiken!$A$1:$A$529,0),$BK$4)),"") -> 81 | Y16: =IFERROR(X16-IFERROR(IF(INDEX(Daten_Risiken!$A:$ZZ,MATCH($B16&"|Energie- und Rohstoffpreise",Daten_Risiken!$A$1:$A$529,0),$BK$5)="",NA(),INDEX(Daten_Risiken!$A:$ZZ,MATCH($B16&"|Energie- und Rohstoffpreise",Daten_Risiken!$A$1:$A$529,0),$BK$5)),NA()),"") -> -3 | Z16: =IFERROR(X16-IFERROR(IF(INDEX(Daten_Risiken!$A:$ZZ,MATCH($B16&"|Energie- und Rohstoffpreise",Daten_Risiken!$A$1:$A$529,0),$BK$6)="",NA(),INDEX(Daten_Risiken!$A:$ZZ,MATCH($B16&"|Energie- und Rohstoffpreise",Daten_Risiken!$A$1:$A$529,0),$BK$6)),NA()),"") -> 14 | AA16: =IFERROR(IF(INDEX(Daten_Risiken!$A:$ZZ,MATCH($B16&"|Arbeitskosten",Daten_Risiken!$A$1:$A$529,0),$BK$4)="","",INDEX(Daten_Risiken!$A:$ZZ,MATCH($B16&"|Arbeitskosten",Daten_Risiken!$A$1:$A$529,0),$BK$4)),"") -> 59 | AB16: =IFERROR(AA16-IFERROR(IF(INDEX(Daten_Risiken!$A:$ZZ,MATCH($B16&"|Arbeitskosten",Daten_Risiken!$A$1:$A$529,0),$BK$5)="",NA(),INDEX(Daten_Risiken!$A:$ZZ,MATCH($B16&"|Arbeitskosten",Daten_Risiken!$A$1:$A$529,0),$BK$5)),NA()),"") -> -1 | AC16: =IFERROR(AA16-IFERROR(IF(INDEX(Daten_Risiken!$A:$ZZ,MATCH($B16&"|Arbeitskosten",Daten_Risiken!$A$1:$A$529,0),$BK$6)="",NA(),INDEX(Daten_Risiken!$A:$ZZ,MATCH($B16&"|Arbeitskosten",Daten_Risiken!$A$1:$A$529,0),$BK$6)),NA()),"") -> 1 | AD16: =IFERROR(IF(INDEX(Daten_Risiken!$A:$ZZ,MATCH($B16&"|Inlandsnachfrage",Daten_Risiken!$A$1:$A$529,0),$BK$4)="","",INDEX(Daten_Risiken!$A:$ZZ,MATCH($B16&"|Inlandsnachfrage",Daten_Risiken!$A$1:$A$529,0),$BK$4)),"") -> 62 | AE16: =IFERROR(AD16-IFERROR(IF(INDEX(Daten_Risiken!$A:$ZZ,MATCH($B16&"|Inlandsnachfrage",Daten_Risiken!$A$1:$A$529,0),$BK$5)="",NA(),INDEX(Daten_Risiken!$A:$ZZ,MATCH($B16&"|Inlandsnachfrage",Daten_Risiken!$A$1:$A$529,0),$BK$5)),NA()),"") -> -1 | AF16: =IFERROR(AD16-IFERROR(IF(INDEX(Daten_Risiken!$A:$ZZ,MATCH($B16&"|Inlandsnachfrage",Daten_Risiken!$A$1:$A$529,0),$BK$6)="",NA(),INDEX(Daten_Risiken!$A:$ZZ,MATCH($B16&"|Inlandsnachfrage",Daten_Risiken!$A$1:$A$529,0),$BK$6)),NA()),"") -> -6 | AG16: =IFERROR(IF(INDEX(Daten_Risiken!$A:$ZZ,MATCH($B16&"|Wirtschaftspolitische Rahmenbedingungen",Daten_Risiken!$A$1:$A$529,0),$BK$4)="","",INDEX(Daten_Risiken!$A:$ZZ,MATCH($B16&"|Wirtschaftspolitische Rahmenbedingungen",Daten_Risiken!$A$1:$A$529,0),$BK$4)),"") -> 58 | AH16: =IFERROR(AG16-IFERROR(IF(INDEX(Daten_Risiken!$A:$ZZ,MATCH($B16&"|Wirtschaftspolitische Rahmenbedingungen",Daten_Risiken!$A$1:$A$529,0),$BK$5)="",NA(),INDEX(Daten_Risiken!$A:$ZZ,MATCH($B16&"|Wirtschaftspolitische Rahmenbedingungen",Daten_Risiken!$A$1:$A$529,0),$BK$5)),NA()),"") -> 9 | AI16: =IFERROR(AG16-IFERROR(IF(INDEX(Daten_Risiken!$A:$ZZ,MATCH($B16&"|Wirtschaftspolitische Rahmenbedingungen",Daten_Risiken!$A$1:$A$529,0),$BK$6)="",NA(),INDEX(Daten_Risiken!$A:$ZZ,MATCH($B16&"|Wirtschaftspolitische Rahmenbedingungen",Daten_Risiken!$A$1:$A$529,0),$BK$6)),NA()),"") -> -3 | AJ16: =IFERROR(IF(INDEX(Daten_Risiken!$A:$ZZ,MATCH($B16&"|Fachkräftemangel",Daten_Risiken!$A$1:$A$529,0),$BK$4)="","",INDEX(Daten_Risiken!$A:$ZZ,MATCH($B16&"|Fachkräftemangel",Daten_Risiken!$A$1:$A$529,0),$BK$4)),"") -> 34 | AK16: =IFERROR(AJ16-IFERROR(IF(INDEX(Daten_Risiken!$A:$ZZ,MATCH($B16&"|Fachkräftemangel",Daten_Risiken!$A$1:$A$529,0),$BK$5)="",NA(),INDEX(Daten_Risiken!$A:$ZZ,MATCH($B16&"|Fachkräftemangel",Daten_Risiken!$A$1:$A$529,0),$BK$5)),NA()),"") -> 0 | AL16: =IFERROR(AJ16-IFERROR(IF(INDEX(Daten_Risiken!$A:$ZZ,MATCH($B16&"|Fachkräftemangel",Daten_Risiken!$A$1:$A$529,0),$BK$6)="",NA(),INDEX(Daten_Risiken!$A:$ZZ,MATCH($B16&"|Fachkräftemangel",Daten_Risiken!$A$1:$A$529,0),$BK$6)),NA()),"") -> -11 | AM16: =IFERROR(IF(INDEX(Daten_Risiken!$A:$ZZ,MATCH($B16&"|Auslandsnachfrage",Daten_Risiken!$A$1:$A$529,0),$BK$4)="","",INDEX(Daten_Risiken!$A:$ZZ,MATCH($B16&"|Auslandsnachfrage",Daten_Risiken!$A$1:$A$529,0),$BK$4)),"") -> 22 | AN16: =IFERROR(AM16-IFERROR(IF(INDEX(Daten_Risiken!$A:$ZZ,MATCH($B16&"|Auslandsnachfrage",Daten_Risiken!$A$1:$A$529,0),$BK$5)="",NA(),INDEX(Daten_Risiken!$A:$ZZ,MATCH($B16&"|Auslandsnachfrage",Daten_Risiken!$A$1:$A$529,0),$BK$5)),NA()),"") -> -2 | AO16: =IFERROR(AM16-IFERROR(IF(INDEX(Daten_Risiken!$A:$ZZ,MATCH($B16&"|Auslandsnachfrage",Daten_Risiken!$A$1:$A$529,0),$BK$6)="",NA(),INDEX(Daten_Risiken!$A:$ZZ,MATCH($B16&"|Auslandsnachfrage",Daten_Risiken!$A$1:$A$529,0),$BK$6)),NA()),"") -> 1 | AP16: =IFERROR(IF(INDEX(Daten_Risiken!$A:$ZZ,MATCH($B16&"|Finanzierung",Daten_Risiken!$A$1:$A$529,0),$BK$4)="","",INDEX(Daten_Risiken!$A:$ZZ,MATCH($B16&"|Finanzierung",Daten_Risiken!$A$1:$A$529,0),$BK$4)),"") -> 12 | AQ16: =IFERROR(AP16-IFERROR(IF(INDEX(Daten_Risiken!$A:$ZZ,MATCH($B16&"|Finanzierung",Daten_Risiken!$A$1:$A$529,0),$BK$5)="",NA(),INDEX(Daten_Risiken!$A:$ZZ,MATCH($B16&"|Finanzierung",Daten_Risiken!$A$1:$A$529,0),$BK$5)),NA()),"") -> 0 | AR16: =IFERROR(AP16-IFERROR(IF(INDEX(Daten_Risiken!$A:$ZZ,MATCH($B16&"|Finanzierung",Daten_Risiken!$A$1:$A$529,0),$BK$6)="",NA(),INDEX(Daten_Risiken!$A:$ZZ,MATCH($B16&"|Finanzierung",Daten_Risiken!$A$1:$A$529,0),$BK$6)),NA()),"") -> 2 | AS16: =IFERROR(IF(INDEX(Daten_Risiken!$A:$ZZ,MATCH($B16&"|Wechselkurs",Daten_Risiken!$A$1:$A$529,0),$BK$4)="","",INDEX(Daten_Risiken!$A:$ZZ,MATCH($B16&"|Wechselkurs",Daten_Risiken!$A$1:$A$529,0),$BK$4)),"") -> 4 | AT16: =IFERROR(AS16-IFERROR(IF(INDEX(Daten_Risiken!$A:$ZZ,MATCH($B16&"|Wechselkurs",Daten_Risiken!$A$1:$A$529,0),$BK$5)="",NA(),INDEX(Daten_Risiken!$A:$ZZ,MATCH($B16&"|Wechselkurs",Daten_Risiken!$A$1:$A$529,0),$BK$5)),NA()),"") -> 0 | AU16: =IFERROR(AS16-IFERROR(IF(INDEX(Daten_Risiken!$A:$ZZ,MATCH($B16&"|Wechselkurs",Daten_Risiken!$A$1:$A$529,0),$BK$6)="",NA(),INDEX(Daten_Risiken!$A:$ZZ,MATCH($B16&"|Wechselkurs",Daten_Risiken!$A$1:$A$529,0),$BK$6)),NA()),"") -> 2 | AV16: =IFERROR(IF(INDEX(Daten_Motive!$A:$ZZ,MATCH($B16&"|Ersatzbedarf",Daten_Motive!$A$1:$A$331,0),$BK$7)="","",INDEX(Daten_Motive!$A:$ZZ,MATCH($B16&"|Ersatzbedarf",Daten_Motive!$A$1:$A$331,0),$BK$7)),"") -> 74 | AW16: =IFERROR(AV16-IFERROR(IF(INDEX(Daten_Motive!$A:$ZZ,MATCH($B16&"|Ersatzbedarf",Daten_Motive!$A$1:$A$331,0),$BK$8)="",NA(),INDEX(Daten_Motive!$A:$ZZ,MATCH($B16&"|Ersatzbedarf",Daten_Motive!$A$1:$A$331,0),$BK$8)),NA()),"") -> 0 | AX16: =IFERROR(AV16-IFERROR(IF(INDEX(Daten_Motive!$A:$ZZ,MATCH($B16&"|Ersatzbedarf",Daten_Motive!$A$1:$A$331,0),$BK$9)="",NA(),INDEX(Daten_Motive!$A:$ZZ,MATCH($B16&"|Ersatzbedarf",Daten_Motive!$A$1:$A$331,0),$BK$9)),NA()),"") -> -2 | AY16: =IFERROR(IF(INDEX(Daten_Motive!$A:$ZZ,MATCH($B16&"|Rationalisierung",Daten_Motive!$A$1:$A$331,0),$BK$7)="","",INDEX(Daten_Motive!$A:$ZZ,MATCH($B16&"|Rationalisierung",Daten_Motive!$A$1:$A$331,0),$BK$7)),"") -> 48 | AZ16: =IFERROR(AY16-IFERROR(IF(INDEX(Daten_Motive!$A:$ZZ,MATCH($B16&"|Rationalisierung",Daten_Motive!$A$1:$A$331,0),$BK$8)="",NA(),INDEX(Daten_Motive!$A:$ZZ,MATCH($B16&"|Rationalisierung",Daten_Motive!$A$1:$A$331,0),$BK$8)),NA()),"") -> 0 | BA16: =IFERROR(AY16-IFERROR(IF(INDEX(Daten_Motive!$A:$ZZ,MATCH($B16&"|Rationalisierung",Daten_Motive!$A$1:$A$331,0),$BK$9)="",NA(),INDEX(Daten_Motive!$A:$ZZ,MATCH($B16&"|Rationalisierung",Daten_Motive!$A$1:$A$331,0),$BK$9)),NA()),"") -> 2 | BB16: =IFERROR(IF(INDEX(Daten_Motive!$A:$ZZ,MATCH($B16&"|Produktinnovation",Daten_Motive!$A$1:$A$331,0),$BK$7)="","",INDEX(Daten_Motive!$A:$ZZ,MATCH($B16&"|Produktinnovation",Daten_Motive!$A$1:$A$331,0),$BK$7)),"") -> 25 | BC16: =IFERROR(BB16-IFERROR(IF(INDEX(Daten_Motive!$A:$ZZ,MATCH($B16&"|Produktinnovation",Daten_Motive!$A$1:$A$331,0),$BK$8)="",NA(),INDEX(Daten_Motive!$A:$ZZ,MATCH($B16&"|Produktinnovation",Daten_Motive!$A$1:$A$331,0),$BK$8)),NA()),"") -> -4 | BD16: =IFERROR(BB16-IFERROR(IF(INDEX(Daten_Motive!$A:$ZZ,MATCH($B16&"|Produktinnovation",Daten_Motive!$A$1:$A$331,0),$BK$9)="",NA(),INDEX(Daten_Motive!$A:$ZZ,MATCH($B16&"|Produktinnovation",Daten_Motive!$A$1:$A$331,0),$BK$9)),NA()),"") -> -2 | BE16: =IFERROR(IF(INDEX(Daten_Motive!$A:$ZZ,MATCH($B16&"|Umweltschutz",Daten_Motive!$A$1:$A$331,0),$BK$7)="","",INDEX(Daten_Motive!$A:$ZZ,MATCH($B16&"|Umweltschutz",Daten_Motive!$A$1:$A$331,0),$BK$7)),"") -> 23 | BF16: =IFERROR(BE16-IFERROR(IF(INDEX(Daten_Motive!$A:$ZZ,MATCH($B16&"|Umweltschutz",Daten_Motive!$A$1:$A$331,0),$BK$8)="",NA(),INDEX(Daten_Motive!$A:$ZZ,MATCH($B16&"|Umweltschutz",Daten_Motive!$A$1:$A$331,0),$BK$8)),NA()),"") -> 3 | BG16: =IFERROR(BE16-IFERROR(IF(INDEX(Daten_Motive!$A:$ZZ,MATCH($B16&"|Umweltschutz",Daten_Motive!$A$1:$A$331,0),$BK$9)="",NA(),INDEX(Daten_Motive!$A:$ZZ,MATCH($B16&"|Umweltschutz",Daten_Motive!$A$1:$A$331,0),$BK$9)),NA()),"") -> 4 | BH16: =IFERROR(IF(INDEX(Daten_Motive!$A:$ZZ,MATCH($B16&"|Kapazitätserweiterung",Daten_Motive!$A$1:$A$331,0),$BK$7)="","",INDEX(Daten_Motive!$A:$ZZ,MATCH($B16&"|Kapazitätserweiterung",Daten_Motive!$A$1:$A$331,0),$BK$7)),"") -> 17 | BI16: =IFERROR(BH16-IFERROR(IF(INDEX(Daten_Motive!$A:$ZZ,MATCH($B16&"|Kapazitätserweiterung",Daten_Motive!$A$1:$A$331,0),$BK$8)="",NA(),INDEX(Daten_Motive!$A:$ZZ,MATCH($B16&"|Kapazitätserweiterung",Daten_Motive!$A$1:$A$331,0),$BK$8)),NA()),"") -> -1 | BJ16: =IFERROR(BH16-IFERROR(IF(INDEX(Daten_Motive!$A:$ZZ,MATCH($B16&"|Kapazitätserweiterung",Daten_Motive!$A$1:$A$331,0),$BK$9)="",NA(),INDEX(Daten_Motive!$A:$ZZ,MATCH($B16&"|Kapazitätserweiterung",Daten_Motive!$A$1:$A$331,0),$BK$9)),NA()),"") -> -4
A17: 9 | B17: =Listen!A10 -> Papiergewerbe | C17: 17 | D17: =Listen!B10 -> Industrie | E17: =IFERROR(IF(INDEX(Daten_Anteile!$A:$ZZ,MATCH($B17&"|Lage|"&$C$3,Daten_Anteile!$A$1:$A$2971,0),5)="","",INDEX(Daten_Anteile!$A:$ZZ,MATCH($B17&"|Lage|"&$C$3,Daten_Anteile!$A$1:$A$2971,0),5)),"") -> 135 | F17: =IF(AND(ISNUMBER(I17),ISNUMBER(L17)),ROUND(SQRT((100+I17)*(100+L17)),1),"") -> 68.9 | G17: =IF(AND(ISNUMBER(F17),ISNUMBER(J17),ISNUMBER(M17)),ROUND(F17-SQRT((100+I17-J17)*(100+L17-M17)),1),"") -> 0.9 | H17: =IF(AND(ISNUMBER(F17),ISNUMBER(K17),ISNUMBER(N17)),ROUND(F17-SQRT((100+I17-K17)*(100+L17-N17)),1),"") -> 2 | I17: =IFERROR(IF(INDEX(Daten_Salden!$A:$ZZ,MATCH($B17&"|Lage",Daten_Salden!$A$1:$A$331,0),$BK$1)="","",INDEX(Daten_Salden!$A:$ZZ,MATCH($B17&"|Lage",Daten_Salden!$A$1:$A$331,0),$BK$1)),"") -> -34 | J17: =IFERROR(I17-IFERROR(IF(INDEX(Daten_Salden!$A:$ZZ,MATCH($B17&"|Lage",Daten_Salden!$A$1:$A$331,0),$BK$2)="",NA(),INDEX(Daten_Salden!$A:$ZZ,MATCH($B17&"|Lage",Daten_Salden!$A$1:$A$331,0),$BK$2)),NA()),"") -> -3 | K17: =IFERROR(I17-IFERROR(IF(INDEX(Daten_Salden!$A:$ZZ,MATCH($B17&"|Lage",Daten_Salden!$A$1:$A$331,0),$BK$3)="",NA(),INDEX(Daten_Salden!$A:$ZZ,MATCH($B17&"|Lage",Daten_Salden!$A$1:$A$331,0),$BK$3)),NA()),"") -> 10 | L17: =IFERROR(IF(INDEX(Daten_Salden!$A:$ZZ,MATCH($B17&"|Erwartungen",Daten_Salden!$A$1:$A$331,0),$BK$1)="","",INDEX(Daten_Salden!$A:$ZZ,MATCH($B17&"|Erwartungen",Daten_Salden!$A$1:$A$331,0),$BK$1)),"") -> -28 | M17: =IFERROR(L17-IFERROR(IF(INDEX(Daten_Salden!$A:$ZZ,MATCH($B17&"|Erwartungen",Daten_Salden!$A$1:$A$331,0),$BK$2)="",NA(),INDEX(Daten_Salden!$A:$ZZ,MATCH($B17&"|Erwartungen",Daten_Salden!$A$1:$A$331,0),$BK$2)),NA()),"") -> 5 | N17: =IFERROR(L17-IFERROR(IF(INDEX(Daten_Salden!$A:$ZZ,MATCH($B17&"|Erwartungen",Daten_Salden!$A$1:$A$331,0),$BK$3)="",NA(),INDEX(Daten_Salden!$A:$ZZ,MATCH($B17&"|Erwartungen",Daten_Salden!$A$1:$A$331,0),$BK$3)),NA()),"") -> -8 | O17: =IFERROR(IF(INDEX(Daten_Salden!$A:$ZZ,MATCH($B17&"|Export",Daten_Salden!$A$1:$A$331,0),$BK$1)="","",INDEX(Daten_Salden!$A:$ZZ,MATCH($B17&"|Export",Daten_Salden!$A$1:$A$331,0),$BK$1)),"") -> -10 | P17: =IFERROR(O17-IFERROR(IF(INDEX(Daten_Salden!$A:$ZZ,MATCH($B17&"|Export",Daten_Salden!$A$1:$A$331,0),$BK$2)="",NA(),INDEX(Daten_Salden!$A:$ZZ,MATCH($B17&"|Export",Daten_Salden!$A$1:$A$331,0),$BK$2)),NA()),"") -> 12 | Q17: =IFERROR(O17-IFERROR(IF(INDEX(Daten_Salden!$A:$ZZ,MATCH($B17&"|Export",Daten_Salden!$A$1:$A$331,0),$BK$3)="",NA(),INDEX(Daten_Salden!$A:$ZZ,MATCH($B17&"|Export",Daten_Salden!$A$1:$A$331,0),$BK$3)),NA()),"") -> 5 | R17: =IFERROR(IF(INDEX(Daten_Salden!$A:$ZZ,MATCH($B17&"|Investitionen",Daten_Salden!$A$1:$A$331,0),$BK$1)="","",INDEX(Daten_Salden!$A:$ZZ,MATCH($B17&"|Investitionen",Daten_Salden!$A$1:$A$331,0),$BK$1)),"") -> -14 | S17: =IFERROR(R17-IFERROR(IF(INDEX(Daten_Salden!$A:$ZZ,MATCH($B17&"|Investitionen",Daten_Salden!$A$1:$A$331,0),$BK$2)="",NA(),INDEX(Daten_Salden!$A:$ZZ,MATCH($B17&"|Investitionen",Daten_Salden!$A$1:$A$331,0),$BK$2)),NA()),"") -> 3 | T17: =IFERROR(R17-IFERROR(IF(INDEX(Daten_Salden!$A:$ZZ,MATCH($B17&"|Investitionen",Daten_Salden!$A$1:$A$331,0),$BK$3)="",NA(),INDEX(Daten_Salden!$A:$ZZ,MATCH($B17&"|Investitionen",Daten_Salden!$A$1:$A$331,0),$BK$3)),NA()),"") -> 9 | U17: =IFERROR(IF(INDEX(Daten_Salden!$A:$ZZ,MATCH($B17&"|Beschäftigung",Daten_Salden!$A$1:$A$331,0),$BK$1)="","",INDEX(Daten_Salden!$A:$ZZ,MATCH($B17&"|Beschäftigung",Daten_Salden!$A$1:$A$331,0),$BK$1)),"") -> -29 | V17: =IFERROR(U17-IFERROR(IF(INDEX(Daten_Salden!$A:$ZZ,MATCH($B17&"|Beschäftigung",Daten_Salden!$A$1:$A$331,0),$BK$2)="",NA(),INDEX(Daten_Salden!$A:$ZZ,MATCH($B17&"|Beschäftigung",Daten_Salden!$A$1:$A$331,0),$BK$2)),NA()),"") -> 4 | W17: =IFERROR(U17-IFERROR(IF(INDEX(Daten_Salden!$A:$ZZ,MATCH($B17&"|Beschäftigung",Daten_Salden!$A$1:$A$331,0),$BK$3)="",NA(),INDEX(Daten_Salden!$A:$ZZ,MATCH($B17&"|Beschäftigung",Daten_Salden!$A$1:$A$331,0),$BK$3)),NA()),"") -> -2 | X17: =IFERROR(IF(INDEX(Daten_Risiken!$A:$ZZ,MATCH($B17&"|Energie- und Rohstoffpreise",Daten_Risiken!$A$1:$A$529,0),$BK$4)="","",INDEX(Daten_Risiken!$A:$ZZ,MATCH($B17&"|Energie- und Rohstoffpreise",Daten_Risiken!$A$1:$A$529,0),$BK$4)),"") -> 87 | Y17: =IFERROR(X17-IFERROR(IF(INDEX(Daten_Risiken!$A:$ZZ,MATCH($B17&"|Energie- und Rohstoffpreise",Daten_Risiken!$A$1:$A$529,0),$BK$5)="",NA(),INDEX(Daten_Risiken!$A:$ZZ,MATCH($B17&"|Energie- und Rohstoffpreise",Daten_Risiken!$A$1:$A$529,0),$BK$5)),NA()),"") -> -1 | Z17: =IFERROR(X17-IFERROR(IF(INDEX(Daten_Risiken!$A:$ZZ,MATCH($B17&"|Energie- und Rohstoffpreise",Daten_Risiken!$A$1:$A$529,0),$BK$6)="",NA(),INDEX(Daten_Risiken!$A:$ZZ,MATCH($B17&"|Energie- und Rohstoffpreise",Daten_Risiken!$A$1:$A$529,0),$BK$6)),NA()),"") -> 18 | AA17: =IFERROR(IF(INDEX(Daten_Risiken!$A:$ZZ,MATCH($B17&"|Arbeitskosten",Daten_Risiken!$A$1:$A$529,0),$BK$4)="","",INDEX(Daten_Risiken!$A:$ZZ,MATCH($B17&"|Arbeitskosten",Daten_Risiken!$A$1:$A$529,0),$BK$4)),"") -> 65 | AB17: =IFERROR(AA17-IFERROR(IF(INDEX(Daten_Risiken!$A:$ZZ,MATCH($B17&"|Arbeitskosten",Daten_Risiken!$A$1:$A$529,0),$BK$5)="",NA(),INDEX(Daten_Risiken!$A:$ZZ,MATCH($B17&"|Arbeitskosten",Daten_Risiken!$A$1:$A$529,0),$BK$5)),NA()),"") -> 0 | AC17: =IFERROR(AA17-IFERROR(IF(INDEX(Daten_Risiken!$A:$ZZ,MATCH($B17&"|Arbeitskosten",Daten_Risiken!$A$1:$A$529,0),$BK$6)="",NA(),INDEX(Daten_Risiken!$A:$ZZ,MATCH($B17&"|Arbeitskosten",Daten_Risiken!$A$1:$A$529,0),$BK$6)),NA()),"") -> -2 | AD17: =IFERROR(IF(INDEX(Daten_Risiken!$A:$ZZ,MATCH($B17&"|Inlandsnachfrage",Daten_Risiken!$A$1:$A$529,0),$BK$4)="","",INDEX(Daten_Risiken!$A:$ZZ,MATCH($B17&"|Inlandsnachfrage",Daten_Risiken!$A$1:$A$529,0),$BK$4)),"") -> 76 | AE17: =IFERROR(AD17-IFERROR(IF(INDEX(Daten_Risiken!$A:$ZZ,MATCH($B17&"|Inlandsnachfrage",Daten_Risiken!$A$1:$A$529,0),$BK$5)="",NA(),INDEX(Daten_Risiken!$A:$ZZ,MATCH($B17&"|Inlandsnachfrage",Daten_Risiken!$A$1:$A$529,0),$BK$5)),NA()),"") -> 3 | AF17: =IFERROR(AD17-IFERROR(IF(INDEX(Daten_Risiken!$A:$ZZ,MATCH($B17&"|Inlandsnachfrage",Daten_Risiken!$A$1:$A$529,0),$BK$6)="",NA(),INDEX(Daten_Risiken!$A:$ZZ,MATCH($B17&"|Inlandsnachfrage",Daten_Risiken!$A$1:$A$529,0),$BK$6)),NA()),"") -> 1 | AG17: =IFERROR(IF(INDEX(Daten_Risiken!$A:$ZZ,MATCH($B17&"|Wirtschaftspolitische Rahmenbedingungen",Daten_Risiken!$A$1:$A$529,0),$BK$4)="","",INDEX(Daten_Risiken!$A:$ZZ,MATCH($B17&"|Wirtschaftspolitische Rahmenbedingungen",Daten_Risiken!$A$1:$A$529,0),$BK$4)),"") -> 65 | AH17: =IFERROR(AG17-IFERROR(IF(INDEX(Daten_Risiken!$A:$ZZ,MATCH($B17&"|Wirtschaftspolitische Rahmenbedingungen",Daten_Risiken!$A$1:$A$529,0),$BK$5)="",NA(),INDEX(Daten_Risiken!$A:$ZZ,MATCH($B17&"|Wirtschaftspolitische Rahmenbedingungen",Daten_Risiken!$A$1:$A$529,0),$BK$5)),NA()),"") -> -3 | AI17: =IFERROR(AG17-IFERROR(IF(INDEX(Daten_Risiken!$A:$ZZ,MATCH($B17&"|Wirtschaftspolitische Rahmenbedingungen",Daten_Risiken!$A$1:$A$529,0),$BK$6)="",NA(),INDEX(Daten_Risiken!$A:$ZZ,MATCH($B17&"|Wirtschaftspolitische Rahmenbedingungen",Daten_Risiken!$A$1:$A$529,0),$BK$6)),NA()),"") -> 7 | AJ17: =IFERROR(IF(INDEX(Daten_Risiken!$A:$ZZ,MATCH($B17&"|Fachkräftemangel",Daten_Risiken!$A$1:$A$529,0),$BK$4)="","",INDEX(Daten_Risiken!$A:$ZZ,MATCH($B17&"|Fachkräftemangel",Daten_Risiken!$A$1:$A$529,0),$BK$4)),"") -> 31 | AK17: =IFERROR(AJ17-IFERROR(IF(INDEX(Daten_Risiken!$A:$ZZ,MATCH($B17&"|Fachkräftemangel",Daten_Risiken!$A$1:$A$529,0),$BK$5)="",NA(),INDEX(Daten_Risiken!$A:$ZZ,MATCH($B17&"|Fachkräftemangel",Daten_Risiken!$A$1:$A$529,0),$BK$5)),NA()),"") -> 1 | AL17: =IFERROR(AJ17-IFERROR(IF(INDEX(Daten_Risiken!$A:$ZZ,MATCH($B17&"|Fachkräftemangel",Daten_Risiken!$A$1:$A$529,0),$BK$6)="",NA(),INDEX(Daten_Risiken!$A:$ZZ,MATCH($B17&"|Fachkräftemangel",Daten_Risiken!$A$1:$A$529,0),$BK$6)),NA()),"") -> -11 | AM17: =IFERROR(IF(INDEX(Daten_Risiken!$A:$ZZ,MATCH($B17&"|Auslandsnachfrage",Daten_Risiken!$A$1:$A$529,0),$BK$4)="","",INDEX(Daten_Risiken!$A:$ZZ,MATCH($B17&"|Auslandsnachfrage",Daten_Risiken!$A$1:$A$529,0),$BK$4)),"") -> 30 | AN17: =IFERROR(AM17-IFERROR(IF(INDEX(Daten_Risiken!$A:$ZZ,MATCH($B17&"|Auslandsnachfrage",Daten_Risiken!$A$1:$A$529,0),$BK$5)="",NA(),INDEX(Daten_Risiken!$A:$ZZ,MATCH($B17&"|Auslandsnachfrage",Daten_Risiken!$A$1:$A$529,0),$BK$5)),NA()),"") -> -8 | AO17: =IFERROR(AM17-IFERROR(IF(INDEX(Daten_Risiken!$A:$ZZ,MATCH($B17&"|Auslandsnachfrage",Daten_Risiken!$A$1:$A$529,0),$BK$6)="",NA(),INDEX(Daten_Risiken!$A:$ZZ,MATCH($B17&"|Auslandsnachfrage",Daten_Risiken!$A$1:$A$529,0),$BK$6)),NA()),"") -> -2 | AP17: =IFERROR(IF(INDEX(Daten_Risiken!$A:$ZZ,MATCH($B17&"|Finanzierung",Daten_Risiken!$A$1:$A$529,0),$BK$4)="","",INDEX(Daten_Risiken!$A:$ZZ,MATCH($B17&"|Finanzierung",Daten_Risiken!$A$1:$A$529,0),$BK$4)),"") -> 10 | AQ17: =IFERROR(AP17-IFERROR(IF(INDEX(Daten_Risiken!$A:$ZZ,MATCH($B17&"|Finanzierung",Daten_Risiken!$A$1:$A$529,0),$BK$5)="",NA(),INDEX(Daten_Risiken!$A:$ZZ,MATCH($B17&"|Finanzierung",Daten_Risiken!$A$1:$A$529,0),$BK$5)),NA()),"") -> 4 | AR17: =IFERROR(AP17-IFERROR(IF(INDEX(Daten_Risiken!$A:$ZZ,MATCH($B17&"|Finanzierung",Daten_Risiken!$A$1:$A$529,0),$BK$6)="",NA(),INDEX(Daten_Risiken!$A:$ZZ,MATCH($B17&"|Finanzierung",Daten_Risiken!$A$1:$A$529,0),$BK$6)),NA()),"") -> 4 | AS17: =IFERROR(IF(INDEX(Daten_Risiken!$A:$ZZ,MATCH($B17&"|Wechselkurs",Daten_Risiken!$A$1:$A$529,0),$BK$4)="","",INDEX(Daten_Risiken!$A:$ZZ,MATCH($B17&"|Wechselkurs",Daten_Risiken!$A$1:$A$529,0),$BK$4)),"") -> 4 | AT17: =IFERROR(AS17-IFERROR(IF(INDEX(Daten_Risiken!$A:$ZZ,MATCH($B17&"|Wechselkurs",Daten_Risiken!$A$1:$A$529,0),$BK$5)="",NA(),INDEX(Daten_Risiken!$A:$ZZ,MATCH($B17&"|Wechselkurs",Daten_Risiken!$A$1:$A$529,0),$BK$5)),NA()),"") -> -2 | AU17: =IFERROR(AS17-IFERROR(IF(INDEX(Daten_Risiken!$A:$ZZ,MATCH($B17&"|Wechselkurs",Daten_Risiken!$A$1:$A$529,0),$BK$6)="",NA(),INDEX(Daten_Risiken!$A:$ZZ,MATCH($B17&"|Wechselkurs",Daten_Risiken!$A$1:$A$529,0),$BK$6)),NA()),"") -> 0 | AV17: =IFERROR(IF(INDEX(Daten_Motive!$A:$ZZ,MATCH($B17&"|Ersatzbedarf",Daten_Motive!$A$1:$A$331,0),$BK$7)="","",INDEX(Daten_Motive!$A:$ZZ,MATCH($B17&"|Ersatzbedarf",Daten_Motive!$A$1:$A$331,0),$BK$7)),"") -> 66 | AW17: =IFERROR(AV17-IFERROR(IF(INDEX(Daten_Motive!$A:$ZZ,MATCH($B17&"|Ersatzbedarf",Daten_Motive!$A$1:$A$331,0),$BK$8)="",NA(),INDEX(Daten_Motive!$A:$ZZ,MATCH($B17&"|Ersatzbedarf",Daten_Motive!$A$1:$A$331,0),$BK$8)),NA()),"") -> 7 | AX17: =IFERROR(AV17-IFERROR(IF(INDEX(Daten_Motive!$A:$ZZ,MATCH($B17&"|Ersatzbedarf",Daten_Motive!$A$1:$A$331,0),$BK$9)="",NA(),INDEX(Daten_Motive!$A:$ZZ,MATCH($B17&"|Ersatzbedarf",Daten_Motive!$A$1:$A$331,0),$BK$9)),NA()),"") -> 9 | AY17: =IFERROR(IF(INDEX(Daten_Motive!$A:$ZZ,MATCH($B17&"|Rationalisierung",Daten_Motive!$A$1:$A$331,0),$BK$7)="","",INDEX(Daten_Motive!$A:$ZZ,MATCH($B17&"|Rationalisierung",Daten_Motive!$A$1:$A$331,0),$BK$7)),"") -> 58 | AZ17: =IFERROR(AY17-IFERROR(IF(INDEX(Daten_Motive!$A:$ZZ,MATCH($B17&"|Rationalisierung",Daten_Motive!$A$1:$A$331,0),$BK$8)="",NA(),INDEX(Daten_Motive!$A:$ZZ,MATCH($B17&"|Rationalisierung",Daten_Motive!$A$1:$A$331,0),$BK$8)),NA()),"") -> 2 | BA17: =IFERROR(AY17-IFERROR(IF(INDEX(Daten_Motive!$A:$ZZ,MATCH($B17&"|Rationalisierung",Daten_Motive!$A$1:$A$331,0),$BK$9)="",NA(),INDEX(Daten_Motive!$A:$ZZ,MATCH($B17&"|Rationalisierung",Daten_Motive!$A$1:$A$331,0),$BK$9)),NA()),"") -> -2 | BB17: =IFERROR(IF(INDEX(Daten_Motive!$A:$ZZ,MATCH($B17&"|Produktinnovation",Daten_Motive!$A$1:$A$331,0),$BK$7)="","",INDEX(Daten_Motive!$A:$ZZ,MATCH($B17&"|Produktinnovation",Daten_Motive!$A$1:$A$331,0),$BK$7)),"") -> 25 | BC17: =IFERROR(BB17-IFERROR(IF(INDEX(Daten_Motive!$A:$ZZ,MATCH($B17&"|Produktinnovation",Daten_Motive!$A$1:$A$331,0),$BK$8)="",NA(),INDEX(Daten_Motive!$A:$ZZ,MATCH($B17&"|Produktinnovation",Daten_Motive!$A$1:$A$331,0),$BK$8)),NA()),"") -> -4 | BD17: =IFERROR(BB17-IFERROR(IF(INDEX(Daten_Motive!$A:$ZZ,MATCH($B17&"|Produktinnovation",Daten_Motive!$A$1:$A$331,0),$BK$9)="",NA(),INDEX(Daten_Motive!$A:$ZZ,MATCH($B17&"|Produktinnovation",Daten_Motive!$A$1:$A$331,0),$BK$9)),NA()),"") -> 0 | BE17: =IFERROR(IF(INDEX(Daten_Motive!$A:$ZZ,MATCH($B17&"|Umweltschutz",Daten_Motive!$A$1:$A$331,0),$BK$7)="","",INDEX(Daten_Motive!$A:$ZZ,MATCH($B17&"|Umweltschutz",Daten_Motive!$A$1:$A$331,0),$BK$7)),"") -> 19 | BF17: =IFERROR(BE17-IFERROR(IF(INDEX(Daten_Motive!$A:$ZZ,MATCH($B17&"|Umweltschutz",Daten_Motive!$A$1:$A$331,0),$BK$8)="",NA(),INDEX(Daten_Motive!$A:$ZZ,MATCH($B17&"|Umweltschutz",Daten_Motive!$A$1:$A$331,0),$BK$8)),NA()),"") -> -4 | BG17: =IFERROR(BE17-IFERROR(IF(INDEX(Daten_Motive!$A:$ZZ,MATCH($B17&"|Umweltschutz",Daten_Motive!$A$1:$A$331,0),$BK$9)="",NA(),INDEX(Daten_Motive!$A:$ZZ,MATCH($B17&"|Umweltschutz",Daten_Motive!$A$1:$A$331,0),$BK$9)),NA()),"") -> -7 | BH17: =IFERROR(IF(INDEX(Daten_Motive!$A:$ZZ,MATCH($B17&"|Kapazitätserweiterung",Daten_Motive!$A$1:$A$331,0),$BK$7)="","",INDEX(Daten_Motive!$A:$ZZ,MATCH($B17&"|Kapazitätserweiterung",Daten_Motive!$A$1:$A$331,0),$BK$7)),"") -> 16 | BI17: =IFERROR(BH17-IFERROR(IF(INDEX(Daten_Motive!$A:$ZZ,MATCH($B17&"|Kapazitätserweiterung",Daten_Motive!$A$1:$A$331,0),$BK$8)="",NA(),INDEX(Daten_Motive!$A:$ZZ,MATCH($B17&"|Kapazitätserweiterung",Daten_Motive!$A$1:$A$331,0),$BK$8)),NA()),"") -> 1 | BJ17: =IFERROR(BH17-IFERROR(IF(INDEX(Daten_Motive!$A:$ZZ,MATCH($B17&"|Kapazitätserweiterung",Daten_Motive!$A$1:$A$331,0),$BK$9)="",NA(),INDEX(Daten_Motive!$A:$ZZ,MATCH($B17&"|Kapazitätserweiterung",Daten_Motive!$A$1:$A$331,0),$BK$9)),NA()),"") -> -3
A18: 10 | B18: =Listen!A11 -> Druckgewerbe | C18: 18 | D18: =Listen!B11 -> Industrie | E18: =IFERROR(IF(INDEX(Daten_Anteile!$A:$ZZ,MATCH($B18&"|Lage|"&$C$3,Daten_Anteile!$A$1:$A$2971,0),5)="","",INDEX(Daten_Anteile!$A:$ZZ,MATCH($B18&"|Lage|"&$C$3,Daten_Anteile!$A$1:$A$2971,0),5)),"") -> 153 | F18: =IF(AND(ISNUMBER(I18),ISNUMBER(L18)),ROUND(SQRT((100+I18)*(100+L18)),1),"") -> 87.5 | G18: =IF(AND(ISNUMBER(F18),ISNUMBER(J18),ISNUMBER(M18)),ROUND(F18-SQRT((100+I18-J18)*(100+L18-M18)),1),"") -> 14.3 | H18: =IF(AND(ISNUMBER(F18),ISNUMBER(K18),ISNUMBER(N18)),ROUND(F18-SQRT((100+I18-K18)*(100+L18-N18)),1),"") -> 10.5 | I18: =IFERROR(IF(INDEX(Daten_Salden!$A:$ZZ,MATCH($B18&"|Lage",Daten_Salden!$A$1:$A$331,0),$BK$1)="","",INDEX(Daten_Salden!$A:$ZZ,MATCH($B18&"|Lage",Daten_Salden!$A$1:$A$331,0),$BK$1)),"") -> -10 | J18: =IFERROR(I18-IFERROR(IF(INDEX(Daten_Salden!$A:$ZZ,MATCH($B18&"|Lage",Daten_Salden!$A$1:$A$331,0),$BK$2)="",NA(),INDEX(Daten_Salden!$A:$ZZ,MATCH($B18&"|Lage",Daten_Salden!$A$1:$A$331,0),$BK$2)),NA()),"") -> 10 | K18: =IFERROR(I18-IFERROR(IF(INDEX(Daten_Salden!$A:$ZZ,MATCH($B18&"|Lage",Daten_Salden!$A$1:$A$331,0),$BK$3)="",NA(),INDEX(Daten_Salden!$A:$ZZ,MATCH($B18&"|Lage",Daten_Salden!$A$1:$A$331,0),$BK$3)),NA()),"") -> 12 | L18: =IFERROR(IF(INDEX(Daten_Salden!$A:$ZZ,MATCH($B18&"|Erwartungen",Daten_Salden!$A$1:$A$331,0),$BK$1)="","",INDEX(Daten_Salden!$A:$ZZ,MATCH($B18&"|Erwartungen",Daten_Salden!$A$1:$A$331,0),$BK$1)),"") -> -15 | M18: =IFERROR(L18-IFERROR(IF(INDEX(Daten_Salden!$A:$ZZ,MATCH($B18&"|Erwartungen",Daten_Salden!$A$1:$A$331,0),$BK$2)="",NA(),INDEX(Daten_Salden!$A:$ZZ,MATCH($B18&"|Erwartungen",Daten_Salden!$A$1:$A$331,0),$BK$2)),NA()),"") -> 18 | N18: =IFERROR(L18-IFERROR(IF(INDEX(Daten_Salden!$A:$ZZ,MATCH($B18&"|Erwartungen",Daten_Salden!$A$1:$A$331,0),$BK$3)="",NA(),INDEX(Daten_Salden!$A:$ZZ,MATCH($B18&"|Erwartungen",Daten_Salden!$A$1:$A$331,0),$BK$3)),NA()),"") -> 9 | O18: =IFERROR(IF(INDEX(Daten_Salden!$A:$ZZ,MATCH($B18&"|Export",Daten_Salden!$A$1:$A$331,0),$BK$1)="","",INDEX(Daten_Salden!$A:$ZZ,MATCH($B18&"|Export",Daten_Salden!$A$1:$A$331,0),$BK$1)),"") -> -15 | P18: =IFERROR(O18-IFERROR(IF(INDEX(Daten_Salden!$A:$ZZ,MATCH($B18&"|Export",Daten_Salden!$A$1:$A$331,0),$BK$2)="",NA(),INDEX(Daten_Salden!$A:$ZZ,MATCH($B18&"|Export",Daten_Salden!$A$1:$A$331,0),$BK$2)),NA()),"") -> 13 | Q18: =IFERROR(O18-IFERROR(IF(INDEX(Daten_Salden!$A:$ZZ,MATCH($B18&"|Export",Daten_Salden!$A$1:$A$331,0),$BK$3)="",NA(),INDEX(Daten_Salden!$A:$ZZ,MATCH($B18&"|Export",Daten_Salden!$A$1:$A$331,0),$BK$3)),NA()),"") -> 6 | R18: =IFERROR(IF(INDEX(Daten_Salden!$A:$ZZ,MATCH($B18&"|Investitionen",Daten_Salden!$A$1:$A$331,0),$BK$1)="","",INDEX(Daten_Salden!$A:$ZZ,MATCH($B18&"|Investitionen",Daten_Salden!$A$1:$A$331,0),$BK$1)),"") -> -10 | S18: =IFERROR(R18-IFERROR(IF(INDEX(Daten_Salden!$A:$ZZ,MATCH($B18&"|Investitionen",Daten_Salden!$A$1:$A$331,0),$BK$2)="",NA(),INDEX(Daten_Salden!$A:$ZZ,MATCH($B18&"|Investitionen",Daten_Salden!$A$1:$A$331,0),$BK$2)),NA()),"") -> 14 | T18: =IFERROR(R18-IFERROR(IF(INDEX(Daten_Salden!$A:$ZZ,MATCH($B18&"|Investitionen",Daten_Salden!$A$1:$A$331,0),$BK$3)="",NA(),INDEX(Daten_Salden!$A:$ZZ,MATCH($B18&"|Investitionen",Daten_Salden!$A$1:$A$331,0),$BK$3)),NA()),"") -> 17 | U18: =IFERROR(IF(INDEX(Daten_Salden!$A:$ZZ,MATCH($B18&"|Beschäftigung",Daten_Salden!$A$1:$A$331,0),$BK$1)="","",INDEX(Daten_Salden!$A:$ZZ,MATCH($B18&"|Beschäftigung",Daten_Salden!$A$1:$A$331,0),$BK$1)),"") -> -25 | V18: =IFERROR(U18-IFERROR(IF(INDEX(Daten_Salden!$A:$ZZ,MATCH($B18&"|Beschäftigung",Daten_Salden!$A$1:$A$331,0),$BK$2)="",NA(),INDEX(Daten_Salden!$A:$ZZ,MATCH($B18&"|Beschäftigung",Daten_Salden!$A$1:$A$331,0),$BK$2)),NA()),"") -> 9 | W18: =IFERROR(U18-IFERROR(IF(INDEX(Daten_Salden!$A:$ZZ,MATCH($B18&"|Beschäftigung",Daten_Salden!$A$1:$A$331,0),$BK$3)="",NA(),INDEX(Daten_Salden!$A:$ZZ,MATCH($B18&"|Beschäftigung",Daten_Salden!$A$1:$A$331,0),$BK$3)),NA()),"") -> 9 | X18: =IFERROR(IF(INDEX(Daten_Risiken!$A:$ZZ,MATCH($B18&"|Energie- und Rohstoffpreise",Daten_Risiken!$A$1:$A$529,0),$BK$4)="","",INDEX(Daten_Risiken!$A:$ZZ,MATCH($B18&"|Energie- und Rohstoffpreise",Daten_Risiken!$A$1:$A$529,0),$BK$4)),"") -> 77 | Y18: =IFERROR(X18-IFERROR(IF(INDEX(Daten_Risiken!$A:$ZZ,MATCH($B18&"|Energie- und Rohstoffpreise",Daten_Risiken!$A$1:$A$529,0),$BK$5)="",NA(),INDEX(Daten_Risiken!$A:$ZZ,MATCH($B18&"|Energie- und Rohstoffpreise",Daten_Risiken!$A$1:$A$529,0),$BK$5)),NA()),"") -> -2 | Z18: =IFERROR(X18-IFERROR(IF(INDEX(Daten_Risiken!$A:$ZZ,MATCH($B18&"|Energie- und Rohstoffpreise",Daten_Risiken!$A$1:$A$529,0),$BK$6)="",NA(),INDEX(Daten_Risiken!$A:$ZZ,MATCH($B18&"|Energie- und Rohstoffpreise",Daten_Risiken!$A$1:$A$529,0),$BK$6)),NA()),"") -> 20 | AA18: =IFERROR(IF(INDEX(Daten_Risiken!$A:$ZZ,MATCH($B18&"|Arbeitskosten",Daten_Risiken!$A$1:$A$529,0),$BK$4)="","",INDEX(Daten_Risiken!$A:$ZZ,MATCH($B18&"|Arbeitskosten",Daten_Risiken!$A$1:$A$529,0),$BK$4)),"") -> 66 | AB18: =IFERROR(AA18-IFERROR(IF(INDEX(Daten_Risiken!$A:$ZZ,MATCH($B18&"|Arbeitskosten",Daten_Risiken!$A$1:$A$529,0),$BK$5)="",NA(),INDEX(Daten_Risiken!$A:$ZZ,MATCH($B18&"|Arbeitskosten",Daten_Risiken!$A$1:$A$529,0),$BK$5)),NA()),"") -> -2 | AC18: =IFERROR(AA18-IFERROR(IF(INDEX(Daten_Risiken!$A:$ZZ,MATCH($B18&"|Arbeitskosten",Daten_Risiken!$A$1:$A$529,0),$BK$6)="",NA(),INDEX(Daten_Risiken!$A:$ZZ,MATCH($B18&"|Arbeitskosten",Daten_Risiken!$A$1:$A$529,0),$BK$6)),NA()),"") -> 4 | AD18: =IFERROR(IF(INDEX(Daten_Risiken!$A:$ZZ,MATCH($B18&"|Inlandsnachfrage",Daten_Risiken!$A$1:$A$529,0),$BK$4)="","",INDEX(Daten_Risiken!$A:$ZZ,MATCH($B18&"|Inlandsnachfrage",Daten_Risiken!$A$1:$A$529,0),$BK$4)),"") -> 69 | AE18: =IFERROR(AD18-IFERROR(IF(INDEX(Daten_Risiken!$A:$ZZ,MATCH($B18&"|Inlandsnachfrage",Daten_Risiken!$A$1:$A$529,0),$BK$5)="",NA(),INDEX(Daten_Risiken!$A:$ZZ,MATCH($B18&"|Inlandsnachfrage",Daten_Risiken!$A$1:$A$529,0),$BK$5)),NA()),"") -> -8 | AF18: =IFERROR(AD18-IFERROR(IF(INDEX(Daten_Risiken!$A:$ZZ,MATCH($B18&"|Inlandsnachfrage",Daten_Risiken!$A$1:$A$529,0),$BK$6)="",NA(),INDEX(Daten_Risiken!$A:$ZZ,MATCH($B18&"|Inlandsnachfrage",Daten_Risiken!$A$1:$A$529,0),$BK$6)),NA()),"") -> -11 | AG18: =IFERROR(IF(INDEX(Daten_Risiken!$A:$ZZ,MATCH($B18&"|Wirtschaftspolitische Rahmenbedingungen",Daten_Risiken!$A$1:$A$529,0),$BK$4)="","",INDEX(Daten_Risiken!$A:$ZZ,MATCH($B18&"|Wirtschaftspolitische Rahmenbedingungen",Daten_Risiken!$A$1:$A$529,0),$BK$4)),"") -> 56 | AH18: =IFERROR(AG18-IFERROR(IF(INDEX(Daten_Risiken!$A:$ZZ,MATCH($B18&"|Wirtschaftspolitische Rahmenbedingungen",Daten_Risiken!$A$1:$A$529,0),$BK$5)="",NA(),INDEX(Daten_Risiken!$A:$ZZ,MATCH($B18&"|Wirtschaftspolitische Rahmenbedingungen",Daten_Risiken!$A$1:$A$529,0),$BK$5)),NA()),"") -> -1 | AI18: =IFERROR(AG18-IFERROR(IF(INDEX(Daten_Risiken!$A:$ZZ,MATCH($B18&"|Wirtschaftspolitische Rahmenbedingungen",Daten_Risiken!$A$1:$A$529,0),$BK$6)="",NA(),INDEX(Daten_Risiken!$A:$ZZ,MATCH($B18&"|Wirtschaftspolitische Rahmenbedingungen",Daten_Risiken!$A$1:$A$529,0),$BK$6)),NA()),"") -> 2 | AJ18: =IFERROR(IF(INDEX(Daten_Risiken!$A:$ZZ,MATCH($B18&"|Fachkräftemangel",Daten_Risiken!$A$1:$A$529,0),$BK$4)="","",INDEX(Daten_Risiken!$A:$ZZ,MATCH($B18&"|Fachkräftemangel",Daten_Risiken!$A$1:$A$529,0),$BK$4)),"") -> 29 | AK18: =IFERROR(AJ18-IFERROR(IF(INDEX(Daten_Risiken!$A:$ZZ,MATCH($B18&"|Fachkräftemangel",Daten_Risiken!$A$1:$A$529,0),$BK$5)="",NA(),INDEX(Daten_Risiken!$A:$ZZ,MATCH($B18&"|Fachkräftemangel",Daten_Risiken!$A$1:$A$529,0),$BK$5)),NA()),"") -> 7 | AL18: =IFERROR(AJ18-IFERROR(IF(INDEX(Daten_Risiken!$A:$ZZ,MATCH($B18&"|Fachkräftemangel",Daten_Risiken!$A$1:$A$529,0),$BK$6)="",NA(),INDEX(Daten_Risiken!$A:$ZZ,MATCH($B18&"|Fachkräftemangel",Daten_Risiken!$A$1:$A$529,0),$BK$6)),NA()),"") -> -3 | AM18: =IFERROR(IF(INDEX(Daten_Risiken!$A:$ZZ,MATCH($B18&"|Auslandsnachfrage",Daten_Risiken!$A$1:$A$529,0),$BK$4)="","",INDEX(Daten_Risiken!$A:$ZZ,MATCH($B18&"|Auslandsnachfrage",Daten_Risiken!$A$1:$A$529,0),$BK$4)),"") -> 10 | AN18: =IFERROR(AM18-IFERROR(IF(INDEX(Daten_Risiken!$A:$ZZ,MATCH($B18&"|Auslandsnachfrage",Daten_Risiken!$A$1:$A$529,0),$BK$5)="",NA(),INDEX(Daten_Risiken!$A:$ZZ,MATCH($B18&"|Auslandsnachfrage",Daten_Risiken!$A$1:$A$529,0),$BK$5)),NA()),"") -> -4 | AO18: =IFERROR(AM18-IFERROR(IF(INDEX(Daten_Risiken!$A:$ZZ,MATCH($B18&"|Auslandsnachfrage",Daten_Risiken!$A$1:$A$529,0),$BK$6)="",NA(),INDEX(Daten_Risiken!$A:$ZZ,MATCH($B18&"|Auslandsnachfrage",Daten_Risiken!$A$1:$A$529,0),$BK$6)),NA()),"") -> 0 | AP18: =IFERROR(IF(INDEX(Daten_Risiken!$A:$ZZ,MATCH($B18&"|Finanzierung",Daten_Risiken!$A$1:$A$529,0),$BK$4)="","",INDEX(Daten_Risiken!$A:$ZZ,MATCH($B18&"|Finanzierung",Daten_Risiken!$A$1:$A$529,0),$BK$4)),"") -> 14 | AQ18: =IFERROR(AP18-IFERROR(IF(INDEX(Daten_Risiken!$A:$ZZ,MATCH($B18&"|Finanzierung",Daten_Risiken!$A$1:$A$529,0),$BK$5)="",NA(),INDEX(Daten_Risiken!$A:$ZZ,MATCH($B18&"|Finanzierung",Daten_Risiken!$A$1:$A$529,0),$BK$5)),NA()),"") -> 2 | AR18: =IFERROR(AP18-IFERROR(IF(INDEX(Daten_Risiken!$A:$ZZ,MATCH($B18&"|Finanzierung",Daten_Risiken!$A$1:$A$529,0),$BK$6)="",NA(),INDEX(Daten_Risiken!$A:$ZZ,MATCH($B18&"|Finanzierung",Daten_Risiken!$A$1:$A$529,0),$BK$6)),NA()),"") -> 1 | AS18: =IFERROR(IF(INDEX(Daten_Risiken!$A:$ZZ,MATCH($B18&"|Wechselkurs",Daten_Risiken!$A$1:$A$529,0),$BK$4)="","",INDEX(Daten_Risiken!$A:$ZZ,MATCH($B18&"|Wechselkurs",Daten_Risiken!$A$1:$A$529,0),$BK$4)),"") -> 2 | AT18: =IFERROR(AS18-IFERROR(IF(INDEX(Daten_Risiken!$A:$ZZ,MATCH($B18&"|Wechselkurs",Daten_Risiken!$A$1:$A$529,0),$BK$5)="",NA(),INDEX(Daten_Risiken!$A:$ZZ,MATCH($B18&"|Wechselkurs",Daten_Risiken!$A$1:$A$529,0),$BK$5)),NA()),"") -> 1 | AU18: =IFERROR(AS18-IFERROR(IF(INDEX(Daten_Risiken!$A:$ZZ,MATCH($B18&"|Wechselkurs",Daten_Risiken!$A$1:$A$529,0),$BK$6)="",NA(),INDEX(Daten_Risiken!$A:$ZZ,MATCH($B18&"|Wechselkurs",Daten_Risiken!$A$1:$A$529,0),$BK$6)),NA()),"") -> 1 | AV18: =IFERROR(IF(INDEX(Daten_Motive!$A:$ZZ,MATCH($B18&"|Ersatzbedarf",Daten_Motive!$A$1:$A$331,0),$BK$7)="","",INDEX(Daten_Motive!$A:$ZZ,MATCH($B18&"|Ersatzbedarf",Daten_Motive!$A$1:$A$331,0),$BK$7)),"") -> 68 | AW18: =IFERROR(AV18-IFERROR(IF(INDEX(Daten_Motive!$A:$ZZ,MATCH($B18&"|Ersatzbedarf",Daten_Motive!$A$1:$A$331,0),$BK$8)="",NA(),INDEX(Daten_Motive!$A:$ZZ,MATCH($B18&"|Ersatzbedarf",Daten_Motive!$A$1:$A$331,0),$BK$8)),NA()),"") -> -6 | AX18: =IFERROR(AV18-IFERROR(IF(INDEX(Daten_Motive!$A:$ZZ,MATCH($B18&"|Ersatzbedarf",Daten_Motive!$A$1:$A$331,0),$BK$9)="",NA(),INDEX(Daten_Motive!$A:$ZZ,MATCH($B18&"|Ersatzbedarf",Daten_Motive!$A$1:$A$331,0),$BK$9)),NA()),"") -> -1 | AY18: =IFERROR(IF(INDEX(Daten_Motive!$A:$ZZ,MATCH($B18&"|Rationalisierung",Daten_Motive!$A$1:$A$331,0),$BK$7)="","",INDEX(Daten_Motive!$A:$ZZ,MATCH($B18&"|Rationalisierung",Daten_Motive!$A$1:$A$331,0),$BK$7)),"") -> 46 | AZ18: =IFERROR(AY18-IFERROR(IF(INDEX(Daten_Motive!$A:$ZZ,MATCH($B18&"|Rationalisierung",Daten_Motive!$A$1:$A$331,0),$BK$8)="",NA(),INDEX(Daten_Motive!$A:$ZZ,MATCH($B18&"|Rationalisierung",Daten_Motive!$A$1:$A$331,0),$BK$8)),NA()),"") -> 11 | BA18: =IFERROR(AY18-IFERROR(IF(INDEX(Daten_Motive!$A:$ZZ,MATCH($B18&"|Rationalisierung",Daten_Motive!$A$1:$A$331,0),$BK$9)="",NA(),INDEX(Daten_Motive!$A:$ZZ,MATCH($B18&"|Rationalisierung",Daten_Motive!$A$1:$A$331,0),$BK$9)),NA()),"") -> -1 | BB18: =IFERROR(IF(INDEX(Daten_Motive!$A:$ZZ,MATCH($B18&"|Produktinnovation",Daten_Motive!$A$1:$A$331,0),$BK$7)="","",INDEX(Daten_Motive!$A:$ZZ,MATCH($B18&"|Produktinnovation",Daten_Motive!$A$1:$A$331,0),$BK$7)),"") -> 17 | BC18: =IFERROR(BB18-IFERROR(IF(INDEX(Daten_Motive!$A:$ZZ,MATCH($B18&"|Produktinnovation",Daten_Motive!$A$1:$A$331,0),$BK$8)="",NA(),INDEX(Daten_Motive!$A:$ZZ,MATCH($B18&"|Produktinnovation",Daten_Motive!$A$1:$A$331,0),$BK$8)),NA()),"") -> -10 | BD18: =IFERROR(BB18-IFERROR(IF(INDEX(Daten_Motive!$A:$ZZ,MATCH($B18&"|Produktinnovation",Daten_Motive!$A$1:$A$331,0),$BK$9)="",NA(),INDEX(Daten_Motive!$A:$ZZ,MATCH($B18&"|Produktinnovation",Daten_Motive!$A$1:$A$331,0),$BK$9)),NA()),"") -> -12 | BE18: =IFERROR(IF(INDEX(Daten_Motive!$A:$ZZ,MATCH($B18&"|Umweltschutz",Daten_Motive!$A$1:$A$331,0),$BK$7)="","",INDEX(Daten_Motive!$A:$ZZ,MATCH($B18&"|Umweltschutz",Daten_Motive!$A$1:$A$331,0),$BK$7)),"") -> 9 | BF18: =IFERROR(BE18-IFERROR(IF(INDEX(Daten_Motive!$A:$ZZ,MATCH($B18&"|Umweltschutz",Daten_Motive!$A$1:$A$331,0),$BK$8)="",NA(),INDEX(Daten_Motive!$A:$ZZ,MATCH($B18&"|Umweltschutz",Daten_Motive!$A$1:$A$331,0),$BK$8)),NA()),"") -> 3 | BG18: =IFERROR(BE18-IFERROR(IF(INDEX(Daten_Motive!$A:$ZZ,MATCH($B18&"|Umweltschutz",Daten_Motive!$A$1:$A$331,0),$BK$9)="",NA(),INDEX(Daten_Motive!$A:$ZZ,MATCH($B18&"|Umweltschutz",Daten_Motive!$A$1:$A$331,0),$BK$9)),NA()),"") -> -3 | BH18: =IFERROR(IF(INDEX(Daten_Motive!$A:$ZZ,MATCH($B18&"|Kapazitätserweiterung",Daten_Motive!$A$1:$A$331,0),$BK$7)="","",INDEX(Daten_Motive!$A:$ZZ,MATCH($B18&"|Kapazitätserweiterung",Daten_Motive!$A$1:$A$331,0),$BK$7)),"") -> 16 | BI18: =IFERROR(BH18-IFERROR(IF(INDEX(Daten_Motive!$A:$ZZ,MATCH($B18&"|Kapazitätserweiterung",Daten_Motive!$A$1:$A$331,0),$BK$8)="",NA(),INDEX(Daten_Motive!$A:$ZZ,MATCH($B18&"|Kapazitätserweiterung",Daten_Motive!$A$1:$A$331,0),$BK$8)),NA()),"") -> 6 | BJ18: =IFERROR(BH18-IFERROR(IF(INDEX(Daten_Motive!$A:$ZZ,MATCH($B18&"|Kapazitätserweiterung",Daten_Motive!$A$1:$A$331,0),$BK$9)="",NA(),INDEX(Daten_Motive!$A:$ZZ,MATCH($B18&"|Kapazitätserweiterung",Daten_Motive!$A$1:$A$331,0),$BK$9)),NA()),"") -> 6
A19: 11 | B19: =Listen!A12 -> Chemische Industrie | C19: 20 | D19: =Listen!B12 -> Industrie | E19: =IFERROR(IF(INDEX(Daten_Anteile!$A:$ZZ,MATCH($B19&"|Lage|"&$C$3,Daten_Anteile!$A$1:$A$2971,0),5)="","",INDEX(Daten_Anteile!$A:$ZZ,MATCH($B19&"|Lage|"&$C$3,Daten_Anteile!$A$1:$A$2971,0),5)),"") -> 236 | F19: =IF(AND(ISNUMBER(I19),ISNUMBER(L19)),ROUND(SQRT((100+I19)*(100+L19)),1),"") -> 101 | G19: =IF(AND(ISNUMBER(F19),ISNUMBER(J19),ISNUMBER(M19)),ROUND(F19-SQRT((100+I19-J19)*(100+L19-M19)),1),"") -> 12.7 | H19: =IF(AND(ISNUMBER(F19),ISNUMBER(K19),ISNUMBER(N19)),ROUND(F19-SQRT((100+I19-K19)*(100+L19-N19)),1),"") -> 15.6 | I19: =IFERROR(IF(INDEX(Daten_Salden!$A:$ZZ,MATCH($B19&"|Lage",Daten_Salden!$A$1:$A$331,0),$BK$1)="","",INDEX(Daten_Salden!$A:$ZZ,MATCH($B19&"|Lage",Daten_Salden!$A$1:$A$331,0),$BK$1)),"") -> 0 | J19: =IFERROR(I19-IFERROR(IF(INDEX(Daten_Salden!$A:$ZZ,MATCH($B19&"|Lage",Daten_Salden!$A$1:$A$331,0),$BK$2)="",NA(),INDEX(Daten_Salden!$A:$ZZ,MATCH($B19&"|Lage",Daten_Salden!$A$1:$A$331,0),$BK$2)),NA()),"") -> 5 | K19: =IFERROR(I19-IFERROR(IF(INDEX(Daten_Salden!$A:$ZZ,MATCH($B19&"|Lage",Daten_Salden!$A$1:$A$331,0),$BK$3)="",NA(),INDEX(Daten_Salden!$A:$ZZ,MATCH($B19&"|Lage",Daten_Salden!$A$1:$A$331,0),$BK$3)),NA()),"") -> 19 | L19: =IFERROR(IF(INDEX(Daten_Salden!$A:$ZZ,MATCH($B19&"|Erwartungen",Daten_Salden!$A$1:$A$331,0),$BK$1)="","",INDEX(Daten_Salden!$A:$ZZ,MATCH($B19&"|Erwartungen",Daten_Salden!$A$1:$A$331,0),$BK$1)),"") -> 2 | M19: =IFERROR(L19-IFERROR(IF(INDEX(Daten_Salden!$A:$ZZ,MATCH($B19&"|Erwartungen",Daten_Salden!$A$1:$A$331,0),$BK$2)="",NA(),INDEX(Daten_Salden!$A:$ZZ,MATCH($B19&"|Erwartungen",Daten_Salden!$A$1:$A$331,0),$BK$2)),NA()),"") -> 20 | N19: =IFERROR(L19-IFERROR(IF(INDEX(Daten_Salden!$A:$ZZ,MATCH($B19&"|Erwartungen",Daten_Salden!$A$1:$A$331,0),$BK$3)="",NA(),INDEX(Daten_Salden!$A:$ZZ,MATCH($B19&"|Erwartungen",Daten_Salden!$A$1:$A$331,0),$BK$3)),NA()),"") -> 12 | O19: =IFERROR(IF(INDEX(Daten_Salden!$A:$ZZ,MATCH($B19&"|Export",Daten_Salden!$A$1:$A$331,0),$BK$1)="","",INDEX(Daten_Salden!$A:$ZZ,MATCH($B19&"|Export",Daten_Salden!$A$1:$A$331,0),$BK$1)),"") -> 6 | P19: =IFERROR(O19-IFERROR(IF(INDEX(Daten_Salden!$A:$ZZ,MATCH($B19&"|Export",Daten_Salden!$A$1:$A$331,0),$BK$2)="",NA(),INDEX(Daten_Salden!$A:$ZZ,MATCH($B19&"|Export",Daten_Salden!$A$1:$A$331,0),$BK$2)),NA()),"") -> 22 | Q19: =IFERROR(O19-IFERROR(IF(INDEX(Daten_Salden!$A:$ZZ,MATCH($B19&"|Export",Daten_Salden!$A$1:$A$331,0),$BK$3)="",NA(),INDEX(Daten_Salden!$A:$ZZ,MATCH($B19&"|Export",Daten_Salden!$A$1:$A$331,0),$BK$3)),NA()),"") -> 22 | R19: =IFERROR(IF(INDEX(Daten_Salden!$A:$ZZ,MATCH($B19&"|Investitionen",Daten_Salden!$A$1:$A$331,0),$BK$1)="","",INDEX(Daten_Salden!$A:$ZZ,MATCH($B19&"|Investitionen",Daten_Salden!$A$1:$A$331,0),$BK$1)),"") -> -12 | S19: =IFERROR(R19-IFERROR(IF(INDEX(Daten_Salden!$A:$ZZ,MATCH($B19&"|Investitionen",Daten_Salden!$A$1:$A$331,0),$BK$2)="",NA(),INDEX(Daten_Salden!$A:$ZZ,MATCH($B19&"|Investitionen",Daten_Salden!$A$1:$A$331,0),$BK$2)),NA()),"") -> -5 | T19: =IFERROR(R19-IFERROR(IF(INDEX(Daten_Salden!$A:$ZZ,MATCH($B19&"|Investitionen",Daten_Salden!$A$1:$A$331,0),$BK$3)="",NA(),INDEX(Daten_Salden!$A:$ZZ,MATCH($B19&"|Investitionen",Daten_Salden!$A$1:$A$331,0),$BK$3)),NA()),"") -> -1 | U19: =IFERROR(IF(INDEX(Daten_Salden!$A:$ZZ,MATCH($B19&"|Beschäftigung",Daten_Salden!$A$1:$A$331,0),$BK$1)="","",INDEX(Daten_Salden!$A:$ZZ,MATCH($B19&"|Beschäftigung",Daten_Salden!$A$1:$A$331,0),$BK$1)),"") -> -14 | V19: =IFERROR(U19-IFERROR(IF(INDEX(Daten_Salden!$A:$ZZ,MATCH($B19&"|Beschäftigung",Daten_Salden!$A$1:$A$331,0),$BK$2)="",NA(),INDEX(Daten_Salden!$A:$ZZ,MATCH($B19&"|Beschäftigung",Daten_Salden!$A$1:$A$331,0),$BK$2)),NA()),"") -> -1 | W19: =IFERROR(U19-IFERROR(IF(INDEX(Daten_Salden!$A:$ZZ,MATCH($B19&"|Beschäftigung",Daten_Salden!$A$1:$A$331,0),$BK$3)="",NA(),INDEX(Daten_Salden!$A:$ZZ,MATCH($B19&"|Beschäftigung",Daten_Salden!$A$1:$A$331,0),$BK$3)),NA()),"") -> 11 | X19: =IFERROR(IF(INDEX(Daten_Risiken!$A:$ZZ,MATCH($B19&"|Energie- und Rohstoffpreise",Daten_Risiken!$A$1:$A$529,0),$BK$4)="","",INDEX(Daten_Risiken!$A:$ZZ,MATCH($B19&"|Energie- und Rohstoffpreise",Daten_Risiken!$A$1:$A$529,0),$BK$4)),"") -> 88 | Y19: =IFERROR(X19-IFERROR(IF(INDEX(Daten_Risiken!$A:$ZZ,MATCH($B19&"|Energie- und Rohstoffpreise",Daten_Risiken!$A$1:$A$529,0),$BK$5)="",NA(),INDEX(Daten_Risiken!$A:$ZZ,MATCH($B19&"|Energie- und Rohstoffpreise",Daten_Risiken!$A$1:$A$529,0),$BK$5)),NA()),"") -> -2 | Z19: =IFERROR(X19-IFERROR(IF(INDEX(Daten_Risiken!$A:$ZZ,MATCH($B19&"|Energie- und Rohstoffpreise",Daten_Risiken!$A$1:$A$529,0),$BK$6)="",NA(),INDEX(Daten_Risiken!$A:$ZZ,MATCH($B19&"|Energie- und Rohstoffpreise",Daten_Risiken!$A$1:$A$529,0),$BK$6)),NA()),"") -> 23 | AA19: =IFERROR(IF(INDEX(Daten_Risiken!$A:$ZZ,MATCH($B19&"|Arbeitskosten",Daten_Risiken!$A$1:$A$529,0),$BK$4)="","",INDEX(Daten_Risiken!$A:$ZZ,MATCH($B19&"|Arbeitskosten",Daten_Risiken!$A$1:$A$529,0),$BK$4)),"") -> 55 | AB19: =IFERROR(AA19-IFERROR(IF(INDEX(Daten_Risiken!$A:$ZZ,MATCH($B19&"|Arbeitskosten",Daten_Risiken!$A$1:$A$529,0),$BK$5)="",NA(),INDEX(Daten_Risiken!$A:$ZZ,MATCH($B19&"|Arbeitskosten",Daten_Risiken!$A$1:$A$529,0),$BK$5)),NA()),"") -> 7 | AC19: =IFERROR(AA19-IFERROR(IF(INDEX(Daten_Risiken!$A:$ZZ,MATCH($B19&"|Arbeitskosten",Daten_Risiken!$A$1:$A$529,0),$BK$6)="",NA(),INDEX(Daten_Risiken!$A:$ZZ,MATCH($B19&"|Arbeitskosten",Daten_Risiken!$A$1:$A$529,0),$BK$6)),NA()),"") -> 7 | AD19: =IFERROR(IF(INDEX(Daten_Risiken!$A:$ZZ,MATCH($B19&"|Inlandsnachfrage",Daten_Risiken!$A$1:$A$529,0),$BK$4)="","",INDEX(Daten_Risiken!$A:$ZZ,MATCH($B19&"|Inlandsnachfrage",Daten_Risiken!$A$1:$A$529,0),$BK$4)),"") -> 57 | AE19: =IFERROR(AD19-IFERROR(IF(INDEX(Daten_Risiken!$A:$ZZ,MATCH($B19&"|Inlandsnachfrage",Daten_Risiken!$A$1:$A$529,0),$BK$5)="",NA(),INDEX(Daten_Risiken!$A:$ZZ,MATCH($B19&"|Inlandsnachfrage",Daten_Risiken!$A$1:$A$529,0),$BK$5)),NA()),"") -> -1 | AF19: =IFERROR(AD19-IFERROR(IF(INDEX(Daten_Risiken!$A:$ZZ,MATCH($B19&"|Inlandsnachfrage",Daten_Risiken!$A$1:$A$529,0),$BK$6)="",NA(),INDEX(Daten_Risiken!$A:$ZZ,MATCH($B19&"|Inlandsnachfrage",Daten_Risiken!$A$1:$A$529,0),$BK$6)),NA()),"") -> -11 | AG19: =IFERROR(IF(INDEX(Daten_Risiken!$A:$ZZ,MATCH($B19&"|Wirtschaftspolitische Rahmenbedingungen",Daten_Risiken!$A$1:$A$529,0),$BK$4)="","",INDEX(Daten_Risiken!$A:$ZZ,MATCH($B19&"|Wirtschaftspolitische Rahmenbedingungen",Daten_Risiken!$A$1:$A$529,0),$BK$4)),"") -> 60 | AH19: =IFERROR(AG19-IFERROR(IF(INDEX(Daten_Risiken!$A:$ZZ,MATCH($B19&"|Wirtschaftspolitische Rahmenbedingungen",Daten_Risiken!$A$1:$A$529,0),$BK$5)="",NA(),INDEX(Daten_Risiken!$A:$ZZ,MATCH($B19&"|Wirtschaftspolitische Rahmenbedingungen",Daten_Risiken!$A$1:$A$529,0),$BK$5)),NA()),"") -> -4 | AI19: =IFERROR(AG19-IFERROR(IF(INDEX(Daten_Risiken!$A:$ZZ,MATCH($B19&"|Wirtschaftspolitische Rahmenbedingungen",Daten_Risiken!$A$1:$A$529,0),$BK$6)="",NA(),INDEX(Daten_Risiken!$A:$ZZ,MATCH($B19&"|Wirtschaftspolitische Rahmenbedingungen",Daten_Risiken!$A$1:$A$529,0),$BK$6)),NA()),"") -> -4 | AJ19: =IFERROR(IF(INDEX(Daten_Risiken!$A:$ZZ,MATCH($B19&"|Fachkräftemangel",Daten_Risiken!$A$1:$A$529,0),$BK$4)="","",INDEX(Daten_Risiken!$A:$ZZ,MATCH($B19&"|Fachkräftemangel",Daten_Risiken!$A$1:$A$529,0),$BK$4)),"") -> 20 | AK19: =IFERROR(AJ19-IFERROR(IF(INDEX(Daten_Risiken!$A:$ZZ,MATCH($B19&"|Fachkräftemangel",Daten_Risiken!$A$1:$A$529,0),$BK$5)="",NA(),INDEX(Daten_Risiken!$A:$ZZ,MATCH($B19&"|Fachkräftemangel",Daten_Risiken!$A$1:$A$529,0),$BK$5)),NA()),"") -> -2 | AL19: =IFERROR(AJ19-IFERROR(IF(INDEX(Daten_Risiken!$A:$ZZ,MATCH($B19&"|Fachkräftemangel",Daten_Risiken!$A$1:$A$529,0),$BK$6)="",NA(),INDEX(Daten_Risiken!$A:$ZZ,MATCH($B19&"|Fachkräftemangel",Daten_Risiken!$A$1:$A$529,0),$BK$6)),NA()),"") -> -3 | AM19: =IFERROR(IF(INDEX(Daten_Risiken!$A:$ZZ,MATCH($B19&"|Auslandsnachfrage",Daten_Risiken!$A$1:$A$529,0),$BK$4)="","",INDEX(Daten_Risiken!$A:$ZZ,MATCH($B19&"|Auslandsnachfrage",Daten_Risiken!$A$1:$A$529,0),$BK$4)),"") -> 32 | AN19: =IFERROR(AM19-IFERROR(IF(INDEX(Daten_Risiken!$A:$ZZ,MATCH($B19&"|Auslandsnachfrage",Daten_Risiken!$A$1:$A$529,0),$BK$5)="",NA(),INDEX(Daten_Risiken!$A:$ZZ,MATCH($B19&"|Auslandsnachfrage",Daten_Risiken!$A$1:$A$529,0),$BK$5)),NA()),"") -> -8 | AO19: =IFERROR(AM19-IFERROR(IF(INDEX(Daten_Risiken!$A:$ZZ,MATCH($B19&"|Auslandsnachfrage",Daten_Risiken!$A$1:$A$529,0),$BK$6)="",NA(),INDEX(Daten_Risiken!$A:$ZZ,MATCH($B19&"|Auslandsnachfrage",Daten_Risiken!$A$1:$A$529,0),$BK$6)),NA()),"") -> -9 | AP19: =IFERROR(IF(INDEX(Daten_Risiken!$A:$ZZ,MATCH($B19&"|Finanzierung",Daten_Risiken!$A$1:$A$529,0),$BK$4)="","",INDEX(Daten_Risiken!$A:$ZZ,MATCH($B19&"|Finanzierung",Daten_Risiken!$A$1:$A$529,0),$BK$4)),"") -> 9 | AQ19: =IFERROR(AP19-IFERROR(IF(INDEX(Daten_Risiken!$A:$ZZ,MATCH($B19&"|Finanzierung",Daten_Risiken!$A$1:$A$529,0),$BK$5)="",NA(),INDEX(Daten_Risiken!$A:$ZZ,MATCH($B19&"|Finanzierung",Daten_Risiken!$A$1:$A$529,0),$BK$5)),NA()),"") -> 3 | AR19: =IFERROR(AP19-IFERROR(IF(INDEX(Daten_Risiken!$A:$ZZ,MATCH($B19&"|Finanzierung",Daten_Risiken!$A$1:$A$529,0),$BK$6)="",NA(),INDEX(Daten_Risiken!$A:$ZZ,MATCH($B19&"|Finanzierung",Daten_Risiken!$A$1:$A$529,0),$BK$6)),NA()),"") -> 4 | AS19: =IFERROR(IF(INDEX(Daten_Risiken!$A:$ZZ,MATCH($B19&"|Wechselkurs",Daten_Risiken!$A$1:$A$529,0),$BK$4)="","",INDEX(Daten_Risiken!$A:$ZZ,MATCH($B19&"|Wechselkurs",Daten_Risiken!$A$1:$A$529,0),$BK$4)),"") -> 7 | AT19: =IFERROR(AS19-IFERROR(IF(INDEX(Daten_Risiken!$A:$ZZ,MATCH($B19&"|Wechselkurs",Daten_Risiken!$A$1:$A$529,0),$BK$5)="",NA(),INDEX(Daten_Risiken!$A:$ZZ,MATCH($B19&"|Wechselkurs",Daten_Risiken!$A$1:$A$529,0),$BK$5)),NA()),"") -> 1 | AU19: =IFERROR(AS19-IFERROR(IF(INDEX(Daten_Risiken!$A:$ZZ,MATCH($B19&"|Wechselkurs",Daten_Risiken!$A$1:$A$529,0),$BK$6)="",NA(),INDEX(Daten_Risiken!$A:$ZZ,MATCH($B19&"|Wechselkurs",Daten_Risiken!$A$1:$A$529,0),$BK$6)),NA()),"") -> -6 | AV19: =IFERROR(IF(INDEX(Daten_Motive!$A:$ZZ,MATCH($B19&"|Ersatzbedarf",Daten_Motive!$A$1:$A$331,0),$BK$7)="","",INDEX(Daten_Motive!$A:$ZZ,MATCH($B19&"|Ersatzbedarf",Daten_Motive!$A$1:$A$331,0),$BK$7)),"") -> 68 | AW19: =IFERROR(AV19-IFERROR(IF(INDEX(Daten_Motive!$A:$ZZ,MATCH($B19&"|Ersatzbedarf",Daten_Motive!$A$1:$A$331,0),$BK$8)="",NA(),INDEX(Daten_Motive!$A:$ZZ,MATCH($B19&"|Ersatzbedarf",Daten_Motive!$A$1:$A$331,0),$BK$8)),NA()),"") -> 7 | AX19: =IFERROR(AV19-IFERROR(IF(INDEX(Daten_Motive!$A:$ZZ,MATCH($B19&"|Ersatzbedarf",Daten_Motive!$A$1:$A$331,0),$BK$9)="",NA(),INDEX(Daten_Motive!$A:$ZZ,MATCH($B19&"|Ersatzbedarf",Daten_Motive!$A$1:$A$331,0),$BK$9)),NA()),"") -> 8 | AY19: =IFERROR(IF(INDEX(Daten_Motive!$A:$ZZ,MATCH($B19&"|Rationalisierung",Daten_Motive!$A$1:$A$331,0),$BK$7)="","",INDEX(Daten_Motive!$A:$ZZ,MATCH($B19&"|Rationalisierung",Daten_Motive!$A$1:$A$331,0),$BK$7)),"") -> 47 | AZ19: =IFERROR(AY19-IFERROR(IF(INDEX(Daten_Motive!$A:$ZZ,MATCH($B19&"|Rationalisierung",Daten_Motive!$A$1:$A$331,0),$BK$8)="",NA(),INDEX(Daten_Motive!$A:$ZZ,MATCH($B19&"|Rationalisierung",Daten_Motive!$A$1:$A$331,0),$BK$8)),NA()),"") -> 6 | BA19: =IFERROR(AY19-IFERROR(IF(INDEX(Daten_Motive!$A:$ZZ,MATCH($B19&"|Rationalisierung",Daten_Motive!$A$1:$A$331,0),$BK$9)="",NA(),INDEX(Daten_Motive!$A:$ZZ,MATCH($B19&"|Rationalisierung",Daten_Motive!$A$1:$A$331,0),$BK$9)),NA()),"") -> 2 | BB19: =IFERROR(IF(INDEX(Daten_Motive!$A:$ZZ,MATCH($B19&"|Produktinnovation",Daten_Motive!$A$1:$A$331,0),$BK$7)="","",INDEX(Daten_Motive!$A:$ZZ,MATCH($B19&"|Produktinnovation",Daten_Motive!$A$1:$A$331,0),$BK$7)),"") -> 26 | BC19: =IFERROR(BB19-IFERROR(IF(INDEX(Daten_Motive!$A:$ZZ,MATCH($B19&"|Produktinnovation",Daten_Motive!$A$1:$A$331,0),$BK$8)="",NA(),INDEX(Daten_Motive!$A:$ZZ,MATCH($B19&"|Produktinnovation",Daten_Motive!$A$1:$A$331,0),$BK$8)),NA()),"") -> -1 | BD19: =IFERROR(BB19-IFERROR(IF(INDEX(Daten_Motive!$A:$ZZ,MATCH($B19&"|Produktinnovation",Daten_Motive!$A$1:$A$331,0),$BK$9)="",NA(),INDEX(Daten_Motive!$A:$ZZ,MATCH($B19&"|Produktinnovation",Daten_Motive!$A$1:$A$331,0),$BK$9)),NA()),"") -> -1 | BE19: =IFERROR(IF(INDEX(Daten_Motive!$A:$ZZ,MATCH($B19&"|Umweltschutz",Daten_Motive!$A$1:$A$331,0),$BK$7)="","",INDEX(Daten_Motive!$A:$ZZ,MATCH($B19&"|Umweltschutz",Daten_Motive!$A$1:$A$331,0),$BK$7)),"") -> 24 | BF19: =IFERROR(BE19-IFERROR(IF(INDEX(Daten_Motive!$A:$ZZ,MATCH($B19&"|Umweltschutz",Daten_Motive!$A$1:$A$331,0),$BK$8)="",NA(),INDEX(Daten_Motive!$A:$ZZ,MATCH($B19&"|Umweltschutz",Daten_Motive!$A$1:$A$331,0),$BK$8)),NA()),"") -> -2 | BG19: =IFERROR(BE19-IFERROR(IF(INDEX(Daten_Motive!$A:$ZZ,MATCH($B19&"|Umweltschutz",Daten_Motive!$A$1:$A$331,0),$BK$9)="",NA(),INDEX(Daten_Motive!$A:$ZZ,MATCH($B19&"|Umweltschutz",Daten_Motive!$A$1:$A$331,0),$BK$9)),NA()),"") -> -10 | BH19: =IFERROR(IF(INDEX(Daten_Motive!$A:$ZZ,MATCH($B19&"|Kapazitätserweiterung",Daten_Motive!$A$1:$A$331,0),$BK$7)="","",INDEX(Daten_Motive!$A:$ZZ,MATCH($B19&"|Kapazitätserweiterung",Daten_Motive!$A$1:$A$331,0),$BK$7)),"") -> 23 | BI19: =IFERROR(BH19-IFERROR(IF(INDEX(Daten_Motive!$A:$ZZ,MATCH($B19&"|Kapazitätserweiterung",Daten_Motive!$A$1:$A$331,0),$BK$8)="",NA(),INDEX(Daten_Motive!$A:$ZZ,MATCH($B19&"|Kapazitätserweiterung",Daten_Motive!$A$1:$A$331,0),$BK$8)),NA()),"") -> 0 | BJ19: =IFERROR(BH19-IFERROR(IF(INDEX(Daten_Motive!$A:$ZZ,MATCH($B19&"|Kapazitätserweiterung",Daten_Motive!$A$1:$A$331,0),$BK$9)="",NA(),INDEX(Daten_Motive!$A:$ZZ,MATCH($B19&"|Kapazitätserweiterung",Daten_Motive!$A$1:$A$331,0),$BK$9)),NA()),"") -> 0
A20: 12 | B20: =Listen!A13 -> Pharmazeutische Industrie | C20: 21 | D20: =Listen!B13 -> Industrie | E20: =IFERROR(IF(INDEX(Daten_Anteile!$A:$ZZ,MATCH($B20&"|Lage|"&$C$3,Daten_Anteile!$A$1:$A$2971,0),5)="","",INDEX(Daten_Anteile!$A:$ZZ,MATCH($B20&"|Lage|"&$C$3,Daten_Anteile!$A$1:$A$2971,0),5)),"") -> 66 | F20: =IF(AND(ISNUMBER(I20),ISNUMBER(L20)),ROUND(SQRT((100+I20)*(100+L20)),1),"") -> 108.9 | G20: =IF(AND(ISNUMBER(F20),ISNUMBER(J20),ISNUMBER(M20)),ROUND(F20-SQRT((100+I20-J20)*(100+L20-M20)),1),"") -> -5.7 | H20: =IF(AND(ISNUMBER(F20),ISNUMBER(K20),ISNUMBER(N20)),ROUND(F20-SQRT((100+I20-K20)*(100+L20-N20)),1),"") -> 3 | I20: =IFERROR(IF(INDEX(Daten_Salden!$A:$ZZ,MATCH($B20&"|Lage",Daten_Salden!$A$1:$A$331,0),$BK$1)="","",INDEX(Daten_Salden!$A:$ZZ,MATCH($B20&"|Lage",Daten_Salden!$A$1:$A$331,0),$BK$1)),"") -> 21 | J20: =IFERROR(I20-IFERROR(IF(INDEX(Daten_Salden!$A:$ZZ,MATCH($B20&"|Lage",Daten_Salden!$A$1:$A$331,0),$BK$2)="",NA(),INDEX(Daten_Salden!$A:$ZZ,MATCH($B20&"|Lage",Daten_Salden!$A$1:$A$331,0),$BK$2)),NA()),"") -> -4 | K20: =IFERROR(I20-IFERROR(IF(INDEX(Daten_Salden!$A:$ZZ,MATCH($B20&"|Lage",Daten_Salden!$A$1:$A$331,0),$BK$3)="",NA(),INDEX(Daten_Salden!$A:$ZZ,MATCH($B20&"|Lage",Daten_Salden!$A$1:$A$331,0),$BK$3)),NA()),"") -> 3 | L20: =IFERROR(IF(INDEX(Daten_Salden!$A:$ZZ,MATCH($B20&"|Erwartungen",Daten_Salden!$A$1:$A$331,0),$BK$1)="","",INDEX(Daten_Salden!$A:$ZZ,MATCH($B20&"|Erwartungen",Daten_Salden!$A$1:$A$331,0),$BK$1)),"") -> -2 | M20: =IFERROR(L20-IFERROR(IF(INDEX(Daten_Salden!$A:$ZZ,MATCH($B20&"|Erwartungen",Daten_Salden!$A$1:$A$331,0),$BK$2)="",NA(),INDEX(Daten_Salden!$A:$ZZ,MATCH($B20&"|Erwartungen",Daten_Salden!$A$1:$A$331,0),$BK$2)),NA()),"") -> -7 | N20: =IFERROR(L20-IFERROR(IF(INDEX(Daten_Salden!$A:$ZZ,MATCH($B20&"|Erwartungen",Daten_Salden!$A$1:$A$331,0),$BK$3)="",NA(),INDEX(Daten_Salden!$A:$ZZ,MATCH($B20&"|Erwartungen",Daten_Salden!$A$1:$A$331,0),$BK$3)),NA()),"") -> 3 | O20: =IFERROR(IF(INDEX(Daten_Salden!$A:$ZZ,MATCH($B20&"|Export",Daten_Salden!$A$1:$A$331,0),$BK$1)="","",INDEX(Daten_Salden!$A:$ZZ,MATCH($B20&"|Export",Daten_Salden!$A$1:$A$331,0),$BK$1)),"") -> 24 | P20: =IFERROR(O20-IFERROR(IF(INDEX(Daten_Salden!$A:$ZZ,MATCH($B20&"|Export",Daten_Salden!$A$1:$A$331,0),$BK$2)="",NA(),INDEX(Daten_Salden!$A:$ZZ,MATCH($B20&"|Export",Daten_Salden!$A$1:$A$331,0),$BK$2)),NA()),"") -> 8 | Q20: =IFERROR(O20-IFERROR(IF(INDEX(Daten_Salden!$A:$ZZ,MATCH($B20&"|Export",Daten_Salden!$A$1:$A$331,0),$BK$3)="",NA(),INDEX(Daten_Salden!$A:$ZZ,MATCH($B20&"|Export",Daten_Salden!$A$1:$A$331,0),$BK$3)),NA()),"") -> 26 | R20: =IFERROR(IF(INDEX(Daten_Salden!$A:$ZZ,MATCH($B20&"|Investitionen",Daten_Salden!$A$1:$A$331,0),$BK$1)="","",INDEX(Daten_Salden!$A:$ZZ,MATCH($B20&"|Investitionen",Daten_Salden!$A$1:$A$331,0),$BK$1)),"") -> 7 | S20: =IFERROR(R20-IFERROR(IF(INDEX(Daten_Salden!$A:$ZZ,MATCH($B20&"|Investitionen",Daten_Salden!$A$1:$A$331,0),$BK$2)="",NA(),INDEX(Daten_Salden!$A:$ZZ,MATCH($B20&"|Investitionen",Daten_Salden!$A$1:$A$331,0),$BK$2)),NA()),"") -> 2 | T20: =IFERROR(R20-IFERROR(IF(INDEX(Daten_Salden!$A:$ZZ,MATCH($B20&"|Investitionen",Daten_Salden!$A$1:$A$331,0),$BK$3)="",NA(),INDEX(Daten_Salden!$A:$ZZ,MATCH($B20&"|Investitionen",Daten_Salden!$A$1:$A$331,0),$BK$3)),NA()),"") -> 7 | U20: =IFERROR(IF(INDEX(Daten_Salden!$A:$ZZ,MATCH($B20&"|Beschäftigung",Daten_Salden!$A$1:$A$331,0),$BK$1)="","",INDEX(Daten_Salden!$A:$ZZ,MATCH($B20&"|Beschäftigung",Daten_Salden!$A$1:$A$331,0),$BK$1)),"") -> -5 | V20: =IFERROR(U20-IFERROR(IF(INDEX(Daten_Salden!$A:$ZZ,MATCH($B20&"|Beschäftigung",Daten_Salden!$A$1:$A$331,0),$BK$2)="",NA(),INDEX(Daten_Salden!$A:$ZZ,MATCH($B20&"|Beschäftigung",Daten_Salden!$A$1:$A$331,0),$BK$2)),NA()),"") -> 2 | W20: =IFERROR(U20-IFERROR(IF(INDEX(Daten_Salden!$A:$ZZ,MATCH($B20&"|Beschäftigung",Daten_Salden!$A$1:$A$331,0),$BK$3)="",NA(),INDEX(Daten_Salden!$A:$ZZ,MATCH($B20&"|Beschäftigung",Daten_Salden!$A$1:$A$331,0),$BK$3)),NA()),"") -> -9 | X20: =IFERROR(IF(INDEX(Daten_Risiken!$A:$ZZ,MATCH($B20&"|Energie- und Rohstoffpreise",Daten_Risiken!$A$1:$A$529,0),$BK$4)="","",INDEX(Daten_Risiken!$A:$ZZ,MATCH($B20&"|Energie- und Rohstoffpreise",Daten_Risiken!$A$1:$A$529,0),$BK$4)),"") -> 71 | Y20: =IFERROR(X20-IFERROR(IF(INDEX(Daten_Risiken!$A:$ZZ,MATCH($B20&"|Energie- und Rohstoffpreise",Daten_Risiken!$A$1:$A$529,0),$BK$5)="",NA(),INDEX(Daten_Risiken!$A:$ZZ,MATCH($B20&"|Energie- und Rohstoffpreise",Daten_Risiken!$A$1:$A$529,0),$BK$5)),NA()),"") -> 9 | Z20: =IFERROR(X20-IFERROR(IF(INDEX(Daten_Risiken!$A:$ZZ,MATCH($B20&"|Energie- und Rohstoffpreise",Daten_Risiken!$A$1:$A$529,0),$BK$6)="",NA(),INDEX(Daten_Risiken!$A:$ZZ,MATCH($B20&"|Energie- und Rohstoffpreise",Daten_Risiken!$A$1:$A$529,0),$BK$6)),NA()),"") -> 12 | AA20: =IFERROR(IF(INDEX(Daten_Risiken!$A:$ZZ,MATCH($B20&"|Arbeitskosten",Daten_Risiken!$A$1:$A$529,0),$BK$4)="","",INDEX(Daten_Risiken!$A:$ZZ,MATCH($B20&"|Arbeitskosten",Daten_Risiken!$A$1:$A$529,0),$BK$4)),"") -> 39 | AB20: =IFERROR(AA20-IFERROR(IF(INDEX(Daten_Risiken!$A:$ZZ,MATCH($B20&"|Arbeitskosten",Daten_Risiken!$A$1:$A$529,0),$BK$5)="",NA(),INDEX(Daten_Risiken!$A:$ZZ,MATCH($B20&"|Arbeitskosten",Daten_Risiken!$A$1:$A$529,0),$BK$5)),NA()),"") -> -9 | AC20: =IFERROR(AA20-IFERROR(IF(INDEX(Daten_Risiken!$A:$ZZ,MATCH($B20&"|Arbeitskosten",Daten_Risiken!$A$1:$A$529,0),$BK$6)="",NA(),INDEX(Daten_Risiken!$A:$ZZ,MATCH($B20&"|Arbeitskosten",Daten_Risiken!$A$1:$A$529,0),$BK$6)),NA()),"") -> -8 | AD20: =IFERROR(IF(INDEX(Daten_Risiken!$A:$ZZ,MATCH($B20&"|Inlandsnachfrage",Daten_Risiken!$A$1:$A$529,0),$BK$4)="","",INDEX(Daten_Risiken!$A:$ZZ,MATCH($B20&"|Inlandsnachfrage",Daten_Risiken!$A$1:$A$529,0),$BK$4)),"") -> 41 | AE20: =IFERROR(AD20-IFERROR(IF(INDEX(Daten_Risiken!$A:$ZZ,MATCH($B20&"|Inlandsnachfrage",Daten_Risiken!$A$1:$A$529,0),$BK$5)="",NA(),INDEX(Daten_Risiken!$A:$ZZ,MATCH($B20&"|Inlandsnachfrage",Daten_Risiken!$A$1:$A$529,0),$BK$5)),NA()),"") -> -8 | AF20: =IFERROR(AD20-IFERROR(IF(INDEX(Daten_Risiken!$A:$ZZ,MATCH($B20&"|Inlandsnachfrage",Daten_Risiken!$A$1:$A$529,0),$BK$6)="",NA(),INDEX(Daten_Risiken!$A:$ZZ,MATCH($B20&"|Inlandsnachfrage",Daten_Risiken!$A$1:$A$529,0),$BK$6)),NA()),"") -> -15 | AG20: =IFERROR(IF(INDEX(Daten_Risiken!$A:$ZZ,MATCH($B20&"|Wirtschaftspolitische Rahmenbedingungen",Daten_Risiken!$A$1:$A$529,0),$BK$4)="","",INDEX(Daten_Risiken!$A:$ZZ,MATCH($B20&"|Wirtschaftspolitische Rahmenbedingungen",Daten_Risiken!$A$1:$A$529,0),$BK$4)),"") -> 65 | AH20: =IFERROR(AG20-IFERROR(IF(INDEX(Daten_Risiken!$A:$ZZ,MATCH($B20&"|Wirtschaftspolitische Rahmenbedingungen",Daten_Risiken!$A$1:$A$529,0),$BK$5)="",NA(),INDEX(Daten_Risiken!$A:$ZZ,MATCH($B20&"|Wirtschaftspolitische Rahmenbedingungen",Daten_Risiken!$A$1:$A$529,0),$BK$5)),NA()),"") -> -6 | AI20: =IFERROR(AG20-IFERROR(IF(INDEX(Daten_Risiken!$A:$ZZ,MATCH($B20&"|Wirtschaftspolitische Rahmenbedingungen",Daten_Risiken!$A$1:$A$529,0),$BK$6)="",NA(),INDEX(Daten_Risiken!$A:$ZZ,MATCH($B20&"|Wirtschaftspolitische Rahmenbedingungen",Daten_Risiken!$A$1:$A$529,0),$BK$6)),NA()),"") -> 9 | AJ20: =IFERROR(IF(INDEX(Daten_Risiken!$A:$ZZ,MATCH($B20&"|Fachkräftemangel",Daten_Risiken!$A$1:$A$529,0),$BK$4)="","",INDEX(Daten_Risiken!$A:$ZZ,MATCH($B20&"|Fachkräftemangel",Daten_Risiken!$A$1:$A$529,0),$BK$4)),"") -> 38 | AK20: =IFERROR(AJ20-IFERROR(IF(INDEX(Daten_Risiken!$A:$ZZ,MATCH($B20&"|Fachkräftemangel",Daten_Risiken!$A$1:$A$529,0),$BK$5)="",NA(),INDEX(Daten_Risiken!$A:$ZZ,MATCH($B20&"|Fachkräftemangel",Daten_Risiken!$A$1:$A$529,0),$BK$5)),NA()),"") -> 10 | AL20: =IFERROR(AJ20-IFERROR(IF(INDEX(Daten_Risiken!$A:$ZZ,MATCH($B20&"|Fachkräftemangel",Daten_Risiken!$A$1:$A$529,0),$BK$6)="",NA(),INDEX(Daten_Risiken!$A:$ZZ,MATCH($B20&"|Fachkräftemangel",Daten_Risiken!$A$1:$A$529,0),$BK$6)),NA()),"") -> -6 | AM20: =IFERROR(IF(INDEX(Daten_Risiken!$A:$ZZ,MATCH($B20&"|Auslandsnachfrage",Daten_Risiken!$A$1:$A$529,0),$BK$4)="","",INDEX(Daten_Risiken!$A:$ZZ,MATCH($B20&"|Auslandsnachfrage",Daten_Risiken!$A$1:$A$529,0),$BK$4)),"") -> 37 | AN20: =IFERROR(AM20-IFERROR(IF(INDEX(Daten_Risiken!$A:$ZZ,MATCH($B20&"|Auslandsnachfrage",Daten_Risiken!$A$1:$A$529,0),$BK$5)="",NA(),INDEX(Daten_Risiken!$A:$ZZ,MATCH($B20&"|Auslandsnachfrage",Daten_Risiken!$A$1:$A$529,0),$BK$5)),NA()),"") -> 4 | AO20: =IFERROR(AM20-IFERROR(IF(INDEX(Daten_Risiken!$A:$ZZ,MATCH($B20&"|Auslandsnachfrage",Daten_Risiken!$A$1:$A$529,0),$BK$6)="",NA(),INDEX(Daten_Risiken!$A:$ZZ,MATCH($B20&"|Auslandsnachfrage",Daten_Risiken!$A$1:$A$529,0),$BK$6)),NA()),"") -> -2 | AP20: =IFERROR(IF(INDEX(Daten_Risiken!$A:$ZZ,MATCH($B20&"|Finanzierung",Daten_Risiken!$A$1:$A$529,0),$BK$4)="","",INDEX(Daten_Risiken!$A:$ZZ,MATCH($B20&"|Finanzierung",Daten_Risiken!$A$1:$A$529,0),$BK$4)),"") -> 4 | AQ20: =IFERROR(AP20-IFERROR(IF(INDEX(Daten_Risiken!$A:$ZZ,MATCH($B20&"|Finanzierung",Daten_Risiken!$A$1:$A$529,0),$BK$5)="",NA(),INDEX(Daten_Risiken!$A:$ZZ,MATCH($B20&"|Finanzierung",Daten_Risiken!$A$1:$A$529,0),$BK$5)),NA()),"") -> 1 | AR20: =IFERROR(AP20-IFERROR(IF(INDEX(Daten_Risiken!$A:$ZZ,MATCH($B20&"|Finanzierung",Daten_Risiken!$A$1:$A$529,0),$BK$6)="",NA(),INDEX(Daten_Risiken!$A:$ZZ,MATCH($B20&"|Finanzierung",Daten_Risiken!$A$1:$A$529,0),$BK$6)),NA()),"") -> -9 | AS20: =IFERROR(IF(INDEX(Daten_Risiken!$A:$ZZ,MATCH($B20&"|Wechselkurs",Daten_Risiken!$A$1:$A$529,0),$BK$4)="","",INDEX(Daten_Risiken!$A:$ZZ,MATCH($B20&"|Wechselkurs",Daten_Risiken!$A$1:$A$529,0),$BK$4)),"") -> 8 | AT20: =IFERROR(AS20-IFERROR(IF(INDEX(Daten_Risiken!$A:$ZZ,MATCH($B20&"|Wechselkurs",Daten_Risiken!$A$1:$A$529,0),$BK$5)="",NA(),INDEX(Daten_Risiken!$A:$ZZ,MATCH($B20&"|Wechselkurs",Daten_Risiken!$A$1:$A$529,0),$BK$5)),NA()),"") -> -6 | AU20: =IFERROR(AS20-IFERROR(IF(INDEX(Daten_Risiken!$A:$ZZ,MATCH($B20&"|Wechselkurs",Daten_Risiken!$A$1:$A$529,0),$BK$6)="",NA(),INDEX(Daten_Risiken!$A:$ZZ,MATCH($B20&"|Wechselkurs",Daten_Risiken!$A$1:$A$529,0),$BK$6)),NA()),"") -> -5 | AV20: =IFERROR(IF(INDEX(Daten_Motive!$A:$ZZ,MATCH($B20&"|Ersatzbedarf",Daten_Motive!$A$1:$A$331,0),$BK$7)="","",INDEX(Daten_Motive!$A:$ZZ,MATCH($B20&"|Ersatzbedarf",Daten_Motive!$A$1:$A$331,0),$BK$7)),"") -> 69 | AW20: =IFERROR(AV20-IFERROR(IF(INDEX(Daten_Motive!$A:$ZZ,MATCH($B20&"|Ersatzbedarf",Daten_Motive!$A$1:$A$331,0),$BK$8)="",NA(),INDEX(Daten_Motive!$A:$ZZ,MATCH($B20&"|Ersatzbedarf",Daten_Motive!$A$1:$A$331,0),$BK$8)),NA()),"") -> -4 | AX20: =IFERROR(AV20-IFERROR(IF(INDEX(Daten_Motive!$A:$ZZ,MATCH($B20&"|Ersatzbedarf",Daten_Motive!$A$1:$A$331,0),$BK$9)="",NA(),INDEX(Daten_Motive!$A:$ZZ,MATCH($B20&"|Ersatzbedarf",Daten_Motive!$A$1:$A$331,0),$BK$9)),NA()),"") -> 11 | AY20: =IFERROR(IF(INDEX(Daten_Motive!$A:$ZZ,MATCH($B20&"|Rationalisierung",Daten_Motive!$A$1:$A$331,0),$BK$7)="","",INDEX(Daten_Motive!$A:$ZZ,MATCH($B20&"|Rationalisierung",Daten_Motive!$A$1:$A$331,0),$BK$7)),"") -> 36 | AZ20: =IFERROR(AY20-IFERROR(IF(INDEX(Daten_Motive!$A:$ZZ,MATCH($B20&"|Rationalisierung",Daten_Motive!$A$1:$A$331,0),$BK$8)="",NA(),INDEX(Daten_Motive!$A:$ZZ,MATCH($B20&"|Rationalisierung",Daten_Motive!$A$1:$A$331,0),$BK$8)),NA()),"") -> -15 | BA20: =IFERROR(AY20-IFERROR(IF(INDEX(Daten_Motive!$A:$ZZ,MATCH($B20&"|Rationalisierung",Daten_Motive!$A$1:$A$331,0),$BK$9)="",NA(),INDEX(Daten_Motive!$A:$ZZ,MATCH($B20&"|Rationalisierung",Daten_Motive!$A$1:$A$331,0),$BK$9)),NA()),"") -> 3 | BB20: =IFERROR(IF(INDEX(Daten_Motive!$A:$ZZ,MATCH($B20&"|Produktinnovation",Daten_Motive!$A$1:$A$331,0),$BK$7)="","",INDEX(Daten_Motive!$A:$ZZ,MATCH($B20&"|Produktinnovation",Daten_Motive!$A$1:$A$331,0),$BK$7)),"") -> 42 | BC20: =IFERROR(BB20-IFERROR(IF(INDEX(Daten_Motive!$A:$ZZ,MATCH($B20&"|Produktinnovation",Daten_Motive!$A$1:$A$331,0),$BK$8)="",NA(),INDEX(Daten_Motive!$A:$ZZ,MATCH($B20&"|Produktinnovation",Daten_Motive!$A$1:$A$331,0),$BK$8)),NA()),"") -> 2 | BD20: =IFERROR(BB20-IFERROR(IF(INDEX(Daten_Motive!$A:$ZZ,MATCH($B20&"|Produktinnovation",Daten_Motive!$A$1:$A$331,0),$BK$9)="",NA(),INDEX(Daten_Motive!$A:$ZZ,MATCH($B20&"|Produktinnovation",Daten_Motive!$A$1:$A$331,0),$BK$9)),NA()),"") -> -3 | BE20: =IFERROR(IF(INDEX(Daten_Motive!$A:$ZZ,MATCH($B20&"|Umweltschutz",Daten_Motive!$A$1:$A$331,0),$BK$7)="","",INDEX(Daten_Motive!$A:$ZZ,MATCH($B20&"|Umweltschutz",Daten_Motive!$A$1:$A$331,0),$BK$7)),"") -> 30 | BF20: =IFERROR(BE20-IFERROR(IF(INDEX(Daten_Motive!$A:$ZZ,MATCH($B20&"|Umweltschutz",Daten_Motive!$A$1:$A$331,0),$BK$8)="",NA(),INDEX(Daten_Motive!$A:$ZZ,MATCH($B20&"|Umweltschutz",Daten_Motive!$A$1:$A$331,0),$BK$8)),NA()),"") -> -14 | BG20: =IFERROR(BE20-IFERROR(IF(INDEX(Daten_Motive!$A:$ZZ,MATCH($B20&"|Umweltschutz",Daten_Motive!$A$1:$A$331,0),$BK$9)="",NA(),INDEX(Daten_Motive!$A:$ZZ,MATCH($B20&"|Umweltschutz",Daten_Motive!$A$1:$A$331,0),$BK$9)),NA()),"") -> -11 | BH20: =IFERROR(IF(INDEX(Daten_Motive!$A:$ZZ,MATCH($B20&"|Kapazitätserweiterung",Daten_Motive!$A$1:$A$331,0),$BK$7)="","",INDEX(Daten_Motive!$A:$ZZ,MATCH($B20&"|Kapazitätserweiterung",Daten_Motive!$A$1:$A$331,0),$BK$7)),"") -> 41 | BI20: =IFERROR(BH20-IFERROR(IF(INDEX(Daten_Motive!$A:$ZZ,MATCH($B20&"|Kapazitätserweiterung",Daten_Motive!$A$1:$A$331,0),$BK$8)="",NA(),INDEX(Daten_Motive!$A:$ZZ,MATCH($B20&"|Kapazitätserweiterung",Daten_Motive!$A$1:$A$331,0),$BK$8)),NA()),"") -> 3 | BJ20: =IFERROR(BH20-IFERROR(IF(INDEX(Daten_Motive!$A:$ZZ,MATCH($B20&"|Kapazitätserweiterung",Daten_Motive!$A$1:$A$331,0),$BK$9)="",NA(),INDEX(Daten_Motive!$A:$ZZ,MATCH($B20&"|Kapazitätserweiterung",Daten_Motive!$A$1:$A$331,0),$BK$9)),NA()),"") -> 2
